BEGIN:VCALENDAR
VERSION:2.0
PRODID:-//Avis Provinciale di Reggio Emilia ODV - ECPv6.15.13//NONSGML v1.0//EN
CALSCALE:GREGORIAN
METHOD:PUBLISH
X-ORIGINAL-URL:https://reggioemilia.avisemiliaromagna.it
X-WR-CALDESC:Eventi per Avis Provinciale di Reggio Emilia ODV
REFRESH-INTERVAL;VALUE=DURATION:PT1H
X-Robots-Tag:noindex
X-PUBLISHED-TTL:PT1H
BEGIN:VTIMEZONE
TZID:Europe/Rome
BEGIN:DAYLIGHT
TZOFFSETFROM:+0100
TZOFFSETTO:+0200
TZNAME:CEST
DTSTART:20180325T010000
END:DAYLIGHT
BEGIN:STANDARD
TZOFFSETFROM:+0200
TZOFFSETTO:+0100
TZNAME:CET
DTSTART:20181028T010000
END:STANDARD
BEGIN:DAYLIGHT
TZOFFSETFROM:+0100
TZOFFSETTO:+0200
TZNAME:CEST
DTSTART:20190331T010000
END:DAYLIGHT
BEGIN:STANDARD
TZOFFSETFROM:+0200
TZOFFSETTO:+0100
TZNAME:CET
DTSTART:20191027T010000
END:STANDARD
BEGIN:DAYLIGHT
TZOFFSETFROM:+0100
TZOFFSETTO:+0200
TZNAME:CEST
DTSTART:20200329T010000
END:DAYLIGHT
BEGIN:STANDARD
TZOFFSETFROM:+0200
TZOFFSETTO:+0100
TZNAME:CET
DTSTART:20201025T010000
END:STANDARD
END:VTIMEZONE
BEGIN:VEVENT
DTSTART;TZID=Europe/Rome:20190623T193000
DTEND;TZID=Europe/Rome:20190623T223000
DTSTAMP:20260424T193720
CREATED:20190613T101230Z
LAST-MODIFIED:20190617T121859Z
UID:9225-1561318200-1561329000@reggioemilia.avisemiliaromagna.it
SUMMARY:Tortellata di San Giovanni
DESCRIPTION:La sezione Comunale Avis di San Polo d’Enza e Canossa vi invita domenica 23 giugno alla tradizionale TORTELLATA DI SAN GIOVANNI\, presso la sede Avis di via Ghirardi\, 1.\nDalle ore 19.30 si cena sotto la rugiada con tortelli verdi e salumi misti. Possibilità di asporto di tortelli cotti fino alle 19.30.\nIn caso di maltempo si rinvia alla sera successiva. \nLa locandina dell’evento
URL:https://reggioemilia.avisemiliaromagna.it/evento/tortellata-di-san-giovanna/
CATEGORIES:Avis San Polo,Cena
ATTACH;FMTTYPE=image/jpeg:https://reggioemilia.avisemiliaromagna.it/wp-content/uploads/2019/06/volantino-1.jpg
END:VEVENT
END:VCALENDAR