BEGIN:VCALENDAR
VERSION:2.0
PRODID:-//Avis Provinciale di Reggio Emilia ODV - ECPv6.15.13//NONSGML v1.0//EN
CALSCALE:GREGORIAN
METHOD:PUBLISH
X-WR-CALNAME:Avis Provinciale di Reggio Emilia ODV
X-ORIGINAL-URL:https://reggioemilia.avisemiliaromagna.it
X-WR-CALDESC:Eventi per Avis Provinciale di Reggio Emilia ODV
REFRESH-INTERVAL;VALUE=DURATION:PT1H
X-Robots-Tag:noindex
X-PUBLISHED-TTL:PT1H
BEGIN:VTIMEZONE
TZID:Europe/Rome
BEGIN:DAYLIGHT
TZOFFSETFROM:+0100
TZOFFSETTO:+0200
TZNAME:CEST
DTSTART:20160327T010000
END:DAYLIGHT
BEGIN:STANDARD
TZOFFSETFROM:+0200
TZOFFSETTO:+0100
TZNAME:CET
DTSTART:20161030T010000
END:STANDARD
BEGIN:DAYLIGHT
TZOFFSETFROM:+0100
TZOFFSETTO:+0200
TZNAME:CEST
DTSTART:20170326T010000
END:DAYLIGHT
BEGIN:STANDARD
TZOFFSETFROM:+0200
TZOFFSETTO:+0100
TZNAME:CET
DTSTART:20171029T010000
END:STANDARD
BEGIN:DAYLIGHT
TZOFFSETFROM:+0100
TZOFFSETTO:+0200
TZNAME:CEST
DTSTART:20180325T010000
END:DAYLIGHT
BEGIN:STANDARD
TZOFFSETFROM:+0200
TZOFFSETTO:+0100
TZNAME:CET
DTSTART:20181028T010000
END:STANDARD
END:VTIMEZONE
BEGIN:VEVENT
DTSTART;TZID=Europe/Rome:20171015T110000
DTEND;TZID=Europe/Rome:20171015T150000
DTSTAMP:20260424T225728
CREATED:20171012T071530Z
LAST-MODIFIED:20251231T002103Z
UID:5062-1508065200-1508079600@reggioemilia.avisemiliaromagna.it
SUMMARY:Baseball giovani Reggio\, giornata all'insegna del dono
DESCRIPTION:Domenica 15 Avis Provinciale Reggio Emilia ‘indosserà’ la divisa da baseball per un momento di promozione del dono\nDonazione del sangue e sport è un connubio da sempre perfetto e domenica 15 ottobre\, a condividere i propri valori\, saranno l’Avis Provinciale Reggio Emilia e i giovanissimi della Reggio Baseball.\nLa giornata sarà dedicata ai più piccini (6-12 anni) che\, insieme a coetanei già più esperti\, impugneranno la mazza e indosseranno guantoni per la prima volta.\nDurante un triangolare che vedrà impegnati alle 11.00 i bimbi del mini-baseball e alle 13.30 i bambini dell’under 12\, la pausa pranzo (12.30-13.30) sarà dedicata ad un momento-Avis.\nIn un punto informativo allestito per l’occasione\, un medico dell’associazione spiegherà a bimbi\, genitori e spettatori interessati quanto questo gesto sia importante per la vita di tutti\, ogni giorno. Un momento di sensibilizzazione che andrà ad integrarsi con quello di divertimento affinché\, i giovani atleti\, possano conoscere fin da subito quanto sia importante il dono del sangue.\nMaglietta e spilla Avis a tutti i giovani partecipanti\, con l’augurio che tra loro\, oltre a potenziali futuri campioni\, ci possano essere anche dei generosi donatori di domani. \nL’invito è aperto a tutti\, vi aspettiamo ai campi di Via Petit Bon 1. \nPer info:  0522 1719832 \n(Nella foto la squadra under 15 di Reggio Baseball\, 3° al torneo di Modena)
URL:https://reggioemilia.avisemiliaromagna.it/evento/baseball-giovani-reggio-emilia-giornata-sport-allinsegna-del-dono/
CATEGORIES:Avis Provinciale Reggio Emilia,Evento sportivo
ATTACH;FMTTYPE=image/jpeg:https://reggioemilia.avisemiliaromagna.it/wp-content/uploads/2017/10/under15_2.jpg
END:VEVENT
END:VCALENDAR