BEGIN:VCALENDAR
VERSION:2.0
PRODID:-//Avis Provinciale di Reggio Emilia ODV - ECPv6.15.13//NONSGML v1.0//EN
CALSCALE:GREGORIAN
METHOD:PUBLISH
X-WR-CALNAME:Avis Provinciale di Reggio Emilia ODV
X-ORIGINAL-URL:https://reggioemilia.avisemiliaromagna.it
X-WR-CALDESC:Eventi per Avis Provinciale di Reggio Emilia ODV
REFRESH-INTERVAL;VALUE=DURATION:PT1H
X-Robots-Tag:noindex
X-PUBLISHED-TTL:PT1H
BEGIN:VTIMEZONE
TZID:Europe/Rome
BEGIN:DAYLIGHT
TZOFFSETFROM:+0100
TZOFFSETTO:+0200
TZNAME:CEST
DTSTART:20170326T010000
END:DAYLIGHT
BEGIN:STANDARD
TZOFFSETFROM:+0200
TZOFFSETTO:+0100
TZNAME:CET
DTSTART:20171029T010000
END:STANDARD
BEGIN:DAYLIGHT
TZOFFSETFROM:+0100
TZOFFSETTO:+0200
TZNAME:CEST
DTSTART:20180325T010000
END:DAYLIGHT
BEGIN:STANDARD
TZOFFSETFROM:+0200
TZOFFSETTO:+0100
TZNAME:CET
DTSTART:20181028T010000
END:STANDARD
BEGIN:DAYLIGHT
TZOFFSETFROM:+0100
TZOFFSETTO:+0200
TZNAME:CEST
DTSTART:20190331T010000
END:DAYLIGHT
BEGIN:STANDARD
TZOFFSETFROM:+0200
TZOFFSETTO:+0100
TZNAME:CET
DTSTART:20191027T010000
END:STANDARD
END:VTIMEZONE
BEGIN:VEVENT
DTSTART;TZID=Europe/Rome:20180408T083000
DTEND;TZID=Europe/Rome:20180408T120000
DTSTAMP:20260424T211744
CREATED:20180319T122823Z
LAST-MODIFIED:20180319T122909Z
UID:5808-1523176200-1523188800@reggioemilia.avisemiliaromagna.it
SUMMARY:3° Camminata Avis Luzzara
DESCRIPTION:Manifestazione podistica ludico motoria a carattere motoria internazionale aperta a tutti\nDomenica 8 aprile Avis Luzzara vi inviata alla 3° Camminata Avis Luzzara\, manifestazione podistica ludico motoria a carattere internazionale aperta a tutti\, valida per il concorso Nazionale FIASP ‘Piede Alato’ e internazionale IVV.\nRitrovo presso le scuole Medie di Via De Gaspare\, partenza ore 8.30. Gare sui km 6 e 10.\nInfo Gozzi Gianluca tel. 335-8448799 \nTutte le info nella locandina
URL:https://reggioemilia.avisemiliaromagna.it/evento/3-camminata-avis-luzzara/
CATEGORIES:Avis Luzzara,Camminata,Corsa podistica
ATTACH;FMTTYPE=image/jpeg:https://reggioemilia.avisemiliaromagna.it/wp-content/uploads/2018/03/avis-luzzara-camminata.jpg
END:VEVENT
BEGIN:VEVENT
DTSTART;TZID=Europe/Rome:20180325T080000
DTEND;TZID=Europe/Rome:20180325T113000
DTSTAMP:20260424T211744
CREATED:20180314T082850Z
LAST-MODIFIED:20180321T073848Z
UID:5760-1521964800-1521977400@reggioemilia.avisemiliaromagna.it
SUMMARY:32° Trofeo Avis Novellara
DESCRIPTION:Torna\, domenica 25 marzo\, la tradizionale manifestazione podistica competitiva (21 km) e non competitiva (4/7/12 km) a passo libero\, aperta a tutti\nScaldate i muscoli per la “Camminata 32° TROFEO AVIS Novellara“. Torna infatti\, domenica 25 marzo\, la tradizionale manifestazione podistica competitiva (21 km) e non competitiva (4/7/12 km) a passo libero\, aperta a tutti. \nLa locandina con il regolamento dell’evento \n\nAttenzione ai cambi di viabilità in occasione del XXXII° trofeo Avis! \nDomenica 25 marzo 2018 sarà istituito divieto di sosta e chiusura al traffico dalle ore 06:00 alle ore 12:30 nelle seguenti vie e piazze: \n– Piazza Unità d’Italia\, lati nord ed est; \n– Corso Garibaldi\, ambo i lati; \n– Via Roma\, ambo i lati\, da via Costa a via Sauro. \nAVIS Comunale Novellara | G.P. AVIS NOVELLARA
URL:https://reggioemilia.avisemiliaromagna.it/evento/32-trofeo-avis-novellara/
CATEGORIES:Avis Novellara,Camminata,Corsa podistica
ATTACH;FMTTYPE=image/jpeg:https://reggioemilia.avisemiliaromagna.it/wp-content/uploads/2018/03/trofeo_avis.jpg
END:VEVENT
END:VCALENDAR