BEGIN:VCALENDAR
VERSION:2.0
PRODID:-//Avis Provinciale di Reggio Emilia ODV - ECPv6.15.13//NONSGML v1.0//EN
CALSCALE:GREGORIAN
METHOD:PUBLISH
X-WR-CALNAME:Avis Provinciale di Reggio Emilia ODV
X-ORIGINAL-URL:https://reggioemilia.avisemiliaromagna.it
X-WR-CALDESC:Eventi per Avis Provinciale di Reggio Emilia ODV
REFRESH-INTERVAL;VALUE=DURATION:PT1H
X-Robots-Tag:noindex
X-PUBLISHED-TTL:PT1H
BEGIN:VTIMEZONE
TZID:Europe/Rome
BEGIN:DAYLIGHT
TZOFFSETFROM:+0100
TZOFFSETTO:+0200
TZNAME:CEST
DTSTART:20180325T010000
END:DAYLIGHT
BEGIN:STANDARD
TZOFFSETFROM:+0200
TZOFFSETTO:+0100
TZNAME:CET
DTSTART:20181028T010000
END:STANDARD
BEGIN:DAYLIGHT
TZOFFSETFROM:+0100
TZOFFSETTO:+0200
TZNAME:CEST
DTSTART:20190331T010000
END:DAYLIGHT
BEGIN:STANDARD
TZOFFSETFROM:+0200
TZOFFSETTO:+0100
TZNAME:CET
DTSTART:20191027T010000
END:STANDARD
BEGIN:DAYLIGHT
TZOFFSETFROM:+0100
TZOFFSETTO:+0200
TZNAME:CEST
DTSTART:20200329T010000
END:DAYLIGHT
BEGIN:STANDARD
TZOFFSETFROM:+0200
TZOFFSETTO:+0100
TZNAME:CET
DTSTART:20201025T010000
END:STANDARD
END:VTIMEZONE
BEGIN:VEVENT
DTSTART;TZID=Europe/Rome:20190704T190000
DTEND;TZID=Europe/Rome:20190704T190000
DTSTAMP:20260425T034710
CREATED:20190628T104248Z
LAST-MODIFIED:20190628T104248Z
UID:9391-1562266800-1562266800@reggioemilia.avisemiliaromagna.it
SUMMARY:Avis Rubiera\, pesce in piazza
DESCRIPTION:Giovedì 4 luglio\, in piazza del Popolo a Rubiera\, grande cena a base di pesce fresco dell’Adriatico con Avis Rubiera: cozze\, vongole\, arrostita di alici\, spiedini di gamberi\, calamairi e coda di rospo. All you can eat: 20 euro (bevande escluse) \nNoi te lo cuciniamo\, tu sei libero di servirti \nIn caso di maltempo si terrà al Ponte Luna \nLa locandina dell’evento
URL:https://reggioemilia.avisemiliaromagna.it/evento/avis-rubiera-pesce-in-piazza/
CATEGORIES:Avis Rubiera
ATTACH;FMTTYPE=image/jpeg:https://reggioemilia.avisemiliaromagna.it/wp-content/uploads/2019/06/pesce-in-piazza.jpeg_hp.jpg
END:VEVENT
END:VCALENDAR