BEGIN:VCALENDAR
VERSION:2.0
PRODID:-//Avis Provinciale di Reggio Emilia ODV - ECPv6.15.13//NONSGML v1.0//EN
CALSCALE:GREGORIAN
METHOD:PUBLISH
X-ORIGINAL-URL:https://reggioemilia.avisemiliaromagna.it
X-WR-CALDESC:Eventi per Avis Provinciale di Reggio Emilia ODV
REFRESH-INTERVAL;VALUE=DURATION:PT1H
X-Robots-Tag:noindex
X-PUBLISHED-TTL:PT1H
BEGIN:VTIMEZONE
TZID:Europe/Rome
BEGIN:DAYLIGHT
TZOFFSETFROM:+0100
TZOFFSETTO:+0200
TZNAME:CEST
DTSTART:20180325T010000
END:DAYLIGHT
BEGIN:STANDARD
TZOFFSETFROM:+0200
TZOFFSETTO:+0100
TZNAME:CET
DTSTART:20181028T010000
END:STANDARD
BEGIN:DAYLIGHT
TZOFFSETFROM:+0100
TZOFFSETTO:+0200
TZNAME:CEST
DTSTART:20190331T010000
END:DAYLIGHT
BEGIN:STANDARD
TZOFFSETFROM:+0200
TZOFFSETTO:+0100
TZNAME:CET
DTSTART:20191027T010000
END:STANDARD
BEGIN:DAYLIGHT
TZOFFSETFROM:+0100
TZOFFSETTO:+0200
TZNAME:CEST
DTSTART:20200329T010000
END:DAYLIGHT
BEGIN:STANDARD
TZOFFSETFROM:+0200
TZOFFSETTO:+0100
TZNAME:CET
DTSTART:20201025T010000
END:STANDARD
END:VTIMEZONE
BEGIN:VEVENT
DTSTART;TZID=Europe/Rome:20190907T150000
DTEND;TZID=Europe/Rome:20190907T233000
DTSTAMP:20260424T180135
CREATED:20190708T095257Z
LAST-MODIFIED:20190708T095324Z
UID:9493-1567868400-1567899000@reggioemilia.avisemiliaromagna.it
SUMMARY:Avis Baiso\, Musica nel Sangue
DESCRIPTION:Sabato 7 settembre Avis Baiso organizza “Musica nel Sangue”\, un’evento dedicato alla musica\, in collaborazione con alcune bande musicali della zona: la Banda Musicale Felina\, la Banda Musicale Viano e la Banda Musicale Folk Band T. Candian di Montechiarugolo\, oltre alla partecipazione straordinaria della Banda Giovanile dell’Appennino Reggiano. \nDurante il pomeriggio si svolgeranno attività per i giovani tra cui il 1° Torneo di Calciobalilla umano e\, per mantenere vive le nostre tradizioni culinarie\, la 2° gara delle sfogline. \nDurante tutto il pomeriggio funzionerò uno stand grastronomico con gnocco fritto\, salume e salsiccia. \n\n\n\n\n\n\n\n\n\n\n\n\n\n\n\n\n\n\nA presto la pubblicazione dei regolamenti di gioco del Calciobalilla umano. \nIl programma della giornata
URL:https://reggioemilia.avisemiliaromagna.it/evento/avis-baiso-musica-nel-sangue/
CATEGORIES:Avis Baiso
ATTACH;FMTTYPE=image/jpeg:https://reggioemilia.avisemiliaromagna.it/wp-content/uploads/2019/07/Locandina-Avis-20.06.2019-1_hp.jpg
END:VEVENT
END:VCALENDAR