BEGIN:VCALENDAR
VERSION:2.0
PRODID:-//Avis Provinciale di Reggio Emilia ODV - ECPv6.15.13//NONSGML v1.0//EN
CALSCALE:GREGORIAN
METHOD:PUBLISH
X-ORIGINAL-URL:https://reggioemilia.avisemiliaromagna.it
X-WR-CALDESC:Eventi per Avis Provinciale di Reggio Emilia ODV
REFRESH-INTERVAL;VALUE=DURATION:PT1H
X-Robots-Tag:noindex
X-PUBLISHED-TTL:PT1H
BEGIN:VTIMEZONE
TZID:Europe/Rome
BEGIN:DAYLIGHT
TZOFFSETFROM:+0100
TZOFFSETTO:+0200
TZNAME:CEST
DTSTART:20180325T010000
END:DAYLIGHT
BEGIN:STANDARD
TZOFFSETFROM:+0200
TZOFFSETTO:+0100
TZNAME:CET
DTSTART:20181028T010000
END:STANDARD
BEGIN:DAYLIGHT
TZOFFSETFROM:+0100
TZOFFSETTO:+0200
TZNAME:CEST
DTSTART:20190331T010000
END:DAYLIGHT
BEGIN:STANDARD
TZOFFSETFROM:+0200
TZOFFSETTO:+0100
TZNAME:CET
DTSTART:20191027T010000
END:STANDARD
BEGIN:DAYLIGHT
TZOFFSETFROM:+0100
TZOFFSETTO:+0200
TZNAME:CEST
DTSTART:20200329T010000
END:DAYLIGHT
BEGIN:STANDARD
TZOFFSETFROM:+0200
TZOFFSETTO:+0100
TZNAME:CET
DTSTART:20201025T010000
END:STANDARD
END:VTIMEZONE
BEGIN:VEVENT
DTSTART;TZID=Europe/Rome:20191208T100000
DTEND;TZID=Europe/Rome:20191208T190000
DTSTAMP:20260425T020759
CREATED:20191125T131448Z
LAST-MODIFIED:20191125T131448Z
UID:10204-1575799200-1575831600@reggioemilia.avisemiliaromagna.it
SUMMARY:Accendi l'albero con Avis Calerno
DESCRIPTION:Domenica 8 dicembre torna il tradizionale appuntamento in piazza Carlo Alberto Dalla Chiesa\nDomenica 8 Dicembre ACCENDI L’ALBERO CON AVIS CALERNO.\nDalle ore 10 “Boschetto Padano a Calerno”\, piantumazione di piante autoctone con punto ristoro\nDalle 15.30 La Compagnia del Vino canta il Natale e non solo.\nOre 16.30 inaugurazione nuova automedica della P.A. Croce Bianca\nOre 17.00 grande ACCENSIONE 🎄\nVERRA’ OFFERTO UN RINFRESCO A TUTTI I PARTECIPANTI ❗\nIn caso di maltempo la manifestazione si terrà all’interno della palestra parrocchiale \nNon mancate! \nLa locandina dell’evento
URL:https://reggioemilia.avisemiliaromagna.it/evento/accendi-lalbero-con-avis-calerno/
CATEGORIES:Avis Calerno
ATTACH;FMTTYPE=image/jpeg:https://reggioemilia.avisemiliaromagna.it/wp-content/uploads/2019/11/accendi-albero-hp.jpg
END:VEVENT
END:VCALENDAR