BEGIN:VCALENDAR
VERSION:2.0
PRODID:-//Avis Provinciale di Reggio Emilia ODV - ECPv6.15.13//NONSGML v1.0//EN
CALSCALE:GREGORIAN
METHOD:PUBLISH
X-ORIGINAL-URL:https://reggioemilia.avisemiliaromagna.it
X-WR-CALDESC:Eventi per Avis Provinciale di Reggio Emilia ODV
REFRESH-INTERVAL;VALUE=DURATION:PT1H
X-Robots-Tag:noindex
X-PUBLISHED-TTL:PT1H
BEGIN:VTIMEZONE
TZID:Europe/Rome
BEGIN:DAYLIGHT
TZOFFSETFROM:+0100
TZOFFSETTO:+0200
TZNAME:CEST
DTSTART:20170326T010000
END:DAYLIGHT
BEGIN:STANDARD
TZOFFSETFROM:+0200
TZOFFSETTO:+0100
TZNAME:CET
DTSTART:20171029T010000
END:STANDARD
BEGIN:DAYLIGHT
TZOFFSETFROM:+0100
TZOFFSETTO:+0200
TZNAME:CEST
DTSTART:20180325T010000
END:DAYLIGHT
BEGIN:STANDARD
TZOFFSETFROM:+0200
TZOFFSETTO:+0100
TZNAME:CET
DTSTART:20181028T010000
END:STANDARD
BEGIN:DAYLIGHT
TZOFFSETFROM:+0100
TZOFFSETTO:+0200
TZNAME:CEST
DTSTART:20190331T010000
END:DAYLIGHT
BEGIN:STANDARD
TZOFFSETFROM:+0200
TZOFFSETTO:+0100
TZNAME:CET
DTSTART:20191027T010000
END:STANDARD
END:VTIMEZONE
BEGIN:VEVENT
DTSTART;TZID=Europe/Rome:20180923T090000
DTEND;TZID=Europe/Rome:20180923T120000
DTSTAMP:20260425T020758
CREATED:20180723T082645Z
LAST-MODIFIED:20180723T082645Z
UID:7101-1537693200-1537704000@reggioemilia.avisemiliaromagna.it
SUMMARY:Corri con l'AVIS 2018
DESCRIPTION:Il gruppo podistico Avis Montecchio e Avis Montecchio vi invitano alla classica ‘Corri con l’AVIS‘ che\, per il 2018\, annuncia grandi novità: sarà uno spettacolo parteciparvi!\nNuova data e nuovo percorso con partenza e arrivo presso la pista di atletica del Silvio d’Arzo!\nL’appuntamento è fissato per domenica 23 settembre dalle ore 9.00. Ritrovo Via delle Scienze a Montecchio Emilia.\nCorsa competitiva di circa 11 km\, con camminata non competitiva al seguito.\nPrima della gara competitiva ci saranno le gare giovanili. \nPer le iscrizioni alla competitiva e dare un’occhiata al tracciato completamente nuovo
URL:https://reggioemilia.avisemiliaromagna.it/evento/corri-con-lavis-2018/
CATEGORIES:Avis Montecchio,Camminata,Camminata non competitiva enogastronomica,Evento sportivo
ATTACH;FMTTYPE=image/jpeg:https://reggioemilia.avisemiliaromagna.it/wp-content/uploads/2018/07/Avis_corsa_ok.jpg
END:VEVENT
END:VCALENDAR