BEGIN:VCALENDAR
VERSION:2.0
PRODID:-//Avis Provinciale di Reggio Emilia ODV - ECPv6.15.13//NONSGML v1.0//EN
CALSCALE:GREGORIAN
METHOD:PUBLISH
X-ORIGINAL-URL:https://reggioemilia.avisemiliaromagna.it
X-WR-CALDESC:Eventi per Avis Provinciale di Reggio Emilia ODV
REFRESH-INTERVAL;VALUE=DURATION:PT1H
X-Robots-Tag:noindex
X-PUBLISHED-TTL:PT1H
BEGIN:VTIMEZONE
TZID:Europe/Rome
BEGIN:DAYLIGHT
TZOFFSETFROM:+0100
TZOFFSETTO:+0200
TZNAME:CEST
DTSTART:20170326T010000
END:DAYLIGHT
BEGIN:STANDARD
TZOFFSETFROM:+0200
TZOFFSETTO:+0100
TZNAME:CET
DTSTART:20171029T010000
END:STANDARD
BEGIN:DAYLIGHT
TZOFFSETFROM:+0100
TZOFFSETTO:+0200
TZNAME:CEST
DTSTART:20180325T010000
END:DAYLIGHT
BEGIN:STANDARD
TZOFFSETFROM:+0200
TZOFFSETTO:+0100
TZNAME:CET
DTSTART:20181028T010000
END:STANDARD
BEGIN:DAYLIGHT
TZOFFSETFROM:+0100
TZOFFSETTO:+0200
TZNAME:CEST
DTSTART:20190331T010000
END:DAYLIGHT
BEGIN:STANDARD
TZOFFSETFROM:+0200
TZOFFSETTO:+0100
TZNAME:CET
DTSTART:20191027T010000
END:STANDARD
END:VTIMEZONE
BEGIN:VEVENT
DTSTART;TZID=Europe/Rome:20181216T080000
DTEND;TZID=Europe/Rome:20181216T180000
DTSTAMP:20260425T051930
CREATED:20181008T140703Z
LAST-MODIFIED:20181008T140753Z
UID:7560-1544947200-1544983200@reggioemilia.avisemiliaromagna.it
SUMMARY:Mercatini di Natale di Grazzano Visconti
DESCRIPTION:Domenica 16 dicembre Avis ti porta a Grazzano Visconti! Nel Borgo medievale si riuniranno artisti e artigiani attentamente selezionati si riuniscono nel borgo piacentino e con le loro creazioni sono pronti a stupire adulti e bambini. Bancarelle artigianali e di prodotti enogastronomici di qualità vi garantiranno regali unici.\nPer l’occasione ci sarà anche l’apertura straordinaria del Parco del Castello\, solitamente chiuso nel periodo invernale. Su prenotazione sarà possibili effettuare una visita guidata degli incantevoli giardini all’italiana che circondano la dimora viscontea.\nI più piccoli\, durante le giornate dei mercatini\, potranno invece fare un incontro davvero molto speciale: Babbo Natale e le sue renne si aggireranno fra le vie del borgo per regalare abbracci e sorrisi a tutti quanti\, con Babbo Natale che aspetta i bambini per ricevere le loro letterine nella sua casetta sorvegliata dai folletti. \nQUOTE DI PARTECIPAZIONE: \nQUOTA INDIVIDUALE DI PARTECIPAZIONE 40\,00 euro(con min. 45 partecipanti) \nLA QUOTA DI PARTECIPAZIONE COMPRENDE: \nViaggio in Pullman GTL per tutto il tour compresa Iva\, pedaggi autostradali e parcheggi\,\nPranzo presso il ristorante Via Roma 48 compreso di bevande Visite guidate così suddivise\nAssicurazione medica \nLA QUOTA DI PARTECIPAZIONE NON COMPRENDE: \nextra personali facoltativi in genere e tutto quanto non espressamente indicato alla voce “la quota comprende”\nPROGRAMMA \n08.00 Ritrovo alla CASA DEL DONO\, via M. Clementi 2 (RE) sistemazione in pullman e partenza per Piacenza \n10.00 Arrivo previsto a Grazzano Visconti (PC) e tempo libero per la visita del pittoresco mercatino di Natale in uno dei borghi medievali più belli del piacentino. \n13.00 Partenza in pullman per il pranzo in ristorante. \n15.00 Rientro al mercatino del borgo medievale per le attrazioni pomeridiane. Tempo libero. \n18.00 Partenza per il rientro a Reggio Emilia. \nPer prenotare chiama lo 0522/451075 o scrivi a segreteria@avis.re.it \nFonte: www.avis.re.it
URL:https://reggioemilia.avisemiliaromagna.it/evento/mercatini-di-natale-di-grazzano-visconti/
CATEGORIES:Avis Comunale Reggio Emilia,Gita
ATTACH;FMTTYPE=image/jpeg:https://reggioemilia.avisemiliaromagna.it/wp-content/uploads/2018/10/grazzano2.jpg
END:VEVENT
END:VCALENDAR