BEGIN:VCALENDAR
VERSION:2.0
PRODID:-//Avis Provinciale di Reggio Emilia ODV - ECPv6.15.13//NONSGML v1.0//EN
CALSCALE:GREGORIAN
METHOD:PUBLISH
X-WR-CALNAME:Avis Provinciale di Reggio Emilia ODV
X-ORIGINAL-URL:https://reggioemilia.avisemiliaromagna.it
X-WR-CALDESC:Eventi per Avis Provinciale di Reggio Emilia ODV
REFRESH-INTERVAL;VALUE=DURATION:PT1H
X-Robots-Tag:noindex
X-PUBLISHED-TTL:PT1H
BEGIN:VTIMEZONE
TZID:Europe/Rome
BEGIN:DAYLIGHT
TZOFFSETFROM:+0100
TZOFFSETTO:+0200
TZNAME:CEST
DTSTART:20170326T010000
END:DAYLIGHT
BEGIN:STANDARD
TZOFFSETFROM:+0200
TZOFFSETTO:+0100
TZNAME:CET
DTSTART:20171029T010000
END:STANDARD
BEGIN:DAYLIGHT
TZOFFSETFROM:+0100
TZOFFSETTO:+0200
TZNAME:CEST
DTSTART:20180325T010000
END:DAYLIGHT
BEGIN:STANDARD
TZOFFSETFROM:+0200
TZOFFSETTO:+0100
TZNAME:CET
DTSTART:20181028T010000
END:STANDARD
BEGIN:DAYLIGHT
TZOFFSETFROM:+0100
TZOFFSETTO:+0200
TZNAME:CEST
DTSTART:20190331T010000
END:DAYLIGHT
BEGIN:STANDARD
TZOFFSETFROM:+0200
TZOFFSETTO:+0100
TZNAME:CET
DTSTART:20191027T010000
END:STANDARD
BEGIN:DAYLIGHT
TZOFFSETFROM:+0100
TZOFFSETTO:+0200
TZNAME:CEST
DTSTART:20200329T010000
END:DAYLIGHT
BEGIN:STANDARD
TZOFFSETFROM:+0200
TZOFFSETTO:+0100
TZNAME:CET
DTSTART:20201025T010000
END:STANDARD
END:VTIMEZONE
BEGIN:VEVENT
DTSTART;TZID=Europe/Rome:20191123T153000
DTEND;TZID=Europe/Rome:20191123T180000
DTSTAMP:20260424T193723
CREATED:20191115T105001Z
LAST-MODIFIED:20191125T114704Z
UID:10164-1574523000-1574532000@reggioemilia.avisemiliaromagna.it
SUMMARY:365 giorni no! #3
DESCRIPTION:Torna l’evento che associazioni\, volontarie/i\, cittadine/i di Sant’Ilario e Calerno\, tra cui le Avis locali\, dedicano alla Giornata Internazionale per l’eliminazione della Violenza contro le Donne (25 novembre).\nInsieme alla Camminata giunta alla 3° edizione (vedi il percorso)\, la novità di quest’anno sono gli “Alberi sotto Coperta” (vedi il volantino): in questi mesi volontarie e volontari di mezza Italia hanno realizzato a mano quadretti di lana che “vestiranno” gli alberi di piazza Repubblica. \nL’evento “365 giorni no!” è nato nel 2017 dalla proposta di un gruppo di cittadini poi raccoltosi nell’ambito dell’associazione “Giro della Castellana” e dell’associazione Avis Sant’Ilario e Avis Calrno.\nSostenuta dall’Amministrazione Comuale la manifestazione ha ricevuto l’adesione di numerose realtà locali e provinciali e fa parte del calendario ideato dal Forum Donne Val d’Enza in occasione della ricorrenza del 25 novembre. \n(per la foto e l’articolo si ringrazia il “Giro della Castellana”) \nla locandina della manifestazione \nil programma
URL:https://reggioemilia.avisemiliaromagna.it/evento/365-giorni-no-3/
CATEGORIES:Avis Calerno,Avis S. Ilario
ATTACH;FMTTYPE=image/jpeg:https://reggioemilia.avisemiliaromagna.it/wp-content/uploads/2019/11/365.jpg
END:VEVENT
BEGIN:VEVENT
DTSTART;TZID=Europe/Rome:20180603T093000
DTEND;TZID=Europe/Rome:20180603T123000
DTSTAMP:20260424T193723
CREATED:20180427T083755Z
LAST-MODIFIED:20180507T140355Z
UID:6074-1528018200-1528029000@reggioemilia.avisemiliaromagna.it
SUMMARY:3° Giro della Castellana con Avis
DESCRIPTION:Domenica 3 giugno si svolge il terzo Giro della Castellana\, una corsa non competitiva nelle campagne emiliane\, organizzata dall’Associazione Giro della Castellana insieme ad Avis S.Ilario in collaborazione con Avis Calerno\, VAB\, altre Associazioni e con il sostegno di Conad e alcune realtà del territorio.\nIl Giro della Castellana prevede due tipologie di percorso da 5 o 9\,5 km ed è pensata per coinvolgere tutto il paese\, nonché per focalizzare l’attenzione su diversi obiettivi condivisi\, tra i quali: la promozione della salute\, i sani stili di vita e la solidarietà. Così pure la socializzazione\, lo “stare insieme”\, l’assaporare un percorso alla periferia del Paese che non tutti conoscono nella sua interezza\, il valore del volontariato quale valore aggiunto del territorio.\nQuest’anno oltre alla Castellana\, si percorrerà in parte anche il territorio di Calerno (zona corte Spalletti e Partitore).\nLa corsa ha il contributo e il patrocinio dell’amministrazione comunale di Sant’Ilario che ha condiviso gli obiettivi così espressi e il sostegno di varie realtà del territorio.\nAl Gazebo AVIS saranno presenti volontari che offriranno materiale promozionale\, informeranno su come diventare donatori sia dell’Associazione che anche di AIDO e ADMO.\nAgli iscritti della gara verrà consegnato un premio di partecipazione al Giro.\nIl ricavato sarà devoluto all’Ospedale “ Ercole Franchini” di Montecchio Emilia e al “Fondo Samuele Luigi Colacino” \nL’iscrizione costa 3 euro per i minorenni\, 5 euro per i maggiorenni. \nLa locandina dell’evento \nModulo di iscrizione \nhttps://facebook.com/girodellacastellana/
URL:https://reggioemilia.avisemiliaromagna.it/evento/3-giro-della-castellana-con-avis/
CATEGORIES:Avis Calerno,Avis S. Ilario,Camminata,Camminata non competitiva enogastronomica,Corsa podistica,Evento sportivo
ATTACH;FMTTYPE=image/jpeg:https://reggioemilia.avisemiliaromagna.it/wp-content/uploads/2018/04/castellana_ok.jpg
END:VEVENT
END:VCALENDAR