BEGIN:VCALENDAR
VERSION:2.0
PRODID:-//Avis Provinciale di Reggio Emilia ODV - ECPv6.15.13//NONSGML v1.0//EN
CALSCALE:GREGORIAN
METHOD:PUBLISH
X-WR-CALNAME:Avis Provinciale di Reggio Emilia ODV
X-ORIGINAL-URL:https://reggioemilia.avisemiliaromagna.it
X-WR-CALDESC:Eventi per Avis Provinciale di Reggio Emilia ODV
REFRESH-INTERVAL;VALUE=DURATION:PT1H
X-Robots-Tag:noindex
X-PUBLISHED-TTL:PT1H
BEGIN:VTIMEZONE
TZID:Europe/Rome
BEGIN:DAYLIGHT
TZOFFSETFROM:+0100
TZOFFSETTO:+0200
TZNAME:CEST
DTSTART:20170326T010000
END:DAYLIGHT
BEGIN:STANDARD
TZOFFSETFROM:+0200
TZOFFSETTO:+0100
TZNAME:CET
DTSTART:20171029T010000
END:STANDARD
BEGIN:DAYLIGHT
TZOFFSETFROM:+0100
TZOFFSETTO:+0200
TZNAME:CEST
DTSTART:20180325T010000
END:DAYLIGHT
BEGIN:STANDARD
TZOFFSETFROM:+0200
TZOFFSETTO:+0100
TZNAME:CET
DTSTART:20181028T010000
END:STANDARD
BEGIN:DAYLIGHT
TZOFFSETFROM:+0100
TZOFFSETTO:+0200
TZNAME:CEST
DTSTART:20190331T010000
END:DAYLIGHT
BEGIN:STANDARD
TZOFFSETFROM:+0200
TZOFFSETTO:+0100
TZNAME:CET
DTSTART:20191027T010000
END:STANDARD
END:VTIMEZONE
BEGIN:VEVENT
DTSTART;TZID=Europe/Rome:20181129T200000
DTEND;TZID=Europe/Rome:20181129T230000
DTSTAMP:20260425T034701
CREATED:20181102T091028Z
LAST-MODIFIED:20181102T091028Z
UID:7690-1543521600-1543532400@reggioemilia.avisemiliaromagna.it
SUMMARY:Fuga dalla Biblioteca
DESCRIPTION:Avis Bibbiano vi invita Giovedì 29 novembre ad Escape Room – Fuga dalla Biblioteca. Hai solo 60 minuti\, riuscirai a scappare? \nSiete rimasti chiusi in biblioteca. Intorno a voi solo scaffali pieni di libri: alcuni all’apparenza anonimi ma in realtà fondamentali. Magari vi imbattete in un cassetto ma cvi servirà una chiave per aprirlo… Siete in una Escape Room e avete un’ora per cercare insieme ai vostri compagni d’avventura una soluzione al mistero ed uscirne. \nAttività riservata agli adulti.\nMassimo 10 partecipanti per ogni turno.\nCosto 7 euro per ogni partecipante.\nL’intero ricavato sarà devoluto in beneficenza alle associazioni ‘L’angelo del sorriso’\, Auser di Bibbiano e Avis di Bibbiano \nPrenotazione obbligatoria \nBiblioteca comunale di Bibbiano\nPiazza Damiano Chiesa\, 1\nTel. 0522-253230 – biblioteca@comune.bibbiano.re.it \nLa locandina dell’evento
URL:https://reggioemilia.avisemiliaromagna.it/evento/fuga-dalla-biblioteca/
CATEGORIES:Avis Bibbiano
ATTACH;FMTTYPE=image/jpeg:https://reggioemilia.avisemiliaromagna.it/wp-content/uploads/2018/11/bibbiano.jpg
END:VEVENT
END:VCALENDAR