BEGIN:VCALENDAR
VERSION:2.0
PRODID:-//Avis Provinciale di Reggio Emilia ODV - ECPv6.15.13//NONSGML v1.0//EN
CALSCALE:GREGORIAN
METHOD:PUBLISH
X-ORIGINAL-URL:https://reggioemilia.avisemiliaromagna.it
X-WR-CALDESC:Eventi per Avis Provinciale di Reggio Emilia ODV
REFRESH-INTERVAL;VALUE=DURATION:PT1H
X-Robots-Tag:noindex
X-PUBLISHED-TTL:PT1H
BEGIN:VTIMEZONE
TZID:Europe/Rome
BEGIN:DAYLIGHT
TZOFFSETFROM:+0100
TZOFFSETTO:+0200
TZNAME:CEST
DTSTART:20190331T010000
END:DAYLIGHT
BEGIN:STANDARD
TZOFFSETFROM:+0200
TZOFFSETTO:+0100
TZNAME:CET
DTSTART:20191027T010000
END:STANDARD
BEGIN:DAYLIGHT
TZOFFSETFROM:+0100
TZOFFSETTO:+0200
TZNAME:CEST
DTSTART:20200329T010000
END:DAYLIGHT
BEGIN:STANDARD
TZOFFSETFROM:+0200
TZOFFSETTO:+0100
TZNAME:CET
DTSTART:20201025T010000
END:STANDARD
BEGIN:DAYLIGHT
TZOFFSETFROM:+0100
TZOFFSETTO:+0200
TZNAME:CEST
DTSTART:20210328T010000
END:DAYLIGHT
BEGIN:STANDARD
TZOFFSETFROM:+0200
TZOFFSETTO:+0100
TZNAME:CET
DTSTART:20211031T010000
END:STANDARD
END:VTIMEZONE
BEGIN:VEVENT
DTSTART;TZID=Europe/Rome:20200117T203000
DTEND;TZID=Europe/Rome:20200117T223000
DTSTAMP:20260424T193657
CREATED:20200110T091506Z
LAST-MODIFIED:20200110T092221Z
UID:10363-1579293000-1579300200@reggioemilia.avisemiliaromagna.it
SUMMARY:Aspettando la Cura
DESCRIPTION:La vita con la fibrosi cistica\nAvis Gattatico vi aspetta venerdì 17 gennaio per visionare insieme ‘Aspettando la cura‘\, l’interessantissimo documentario di Stefano Vaja.\nInizio ora 20.30 presso il Centro Culturale Polivalente di Gattatico \nIngresso libero \nLa locandina dell’evento
URL:https://reggioemilia.avisemiliaromagna.it/evento/aspettando-la-cura/
CATEGORIES:Avis Gattatico
ATTACH;FMTTYPE=image/jpeg:https://reggioemilia.avisemiliaromagna.it/wp-content/uploads/2020/01/gattatico22_hp.jpg
END:VEVENT
END:VCALENDAR