BEGIN:VCALENDAR
VERSION:2.0
PRODID:-//Avis Provinciale di Reggio Emilia ODV - ECPv6.15.13//NONSGML v1.0//EN
CALSCALE:GREGORIAN
METHOD:PUBLISH
X-WR-CALNAME:Avis Provinciale di Reggio Emilia ODV
X-ORIGINAL-URL:https://reggioemilia.avisemiliaromagna.it
X-WR-CALDESC:Eventi per Avis Provinciale di Reggio Emilia ODV
REFRESH-INTERVAL;VALUE=DURATION:PT1H
X-Robots-Tag:noindex
X-PUBLISHED-TTL:PT1H
BEGIN:VTIMEZONE
TZID:Europe/Rome
BEGIN:DAYLIGHT
TZOFFSETFROM:+0100
TZOFFSETTO:+0200
TZNAME:CEST
DTSTART:20170326T010000
END:DAYLIGHT
BEGIN:STANDARD
TZOFFSETFROM:+0200
TZOFFSETTO:+0100
TZNAME:CET
DTSTART:20171029T010000
END:STANDARD
BEGIN:DAYLIGHT
TZOFFSETFROM:+0100
TZOFFSETTO:+0200
TZNAME:CEST
DTSTART:20180325T010000
END:DAYLIGHT
BEGIN:STANDARD
TZOFFSETFROM:+0200
TZOFFSETTO:+0100
TZNAME:CET
DTSTART:20181028T010000
END:STANDARD
BEGIN:DAYLIGHT
TZOFFSETFROM:+0100
TZOFFSETTO:+0200
TZNAME:CEST
DTSTART:20190331T010000
END:DAYLIGHT
BEGIN:STANDARD
TZOFFSETFROM:+0200
TZOFFSETTO:+0100
TZNAME:CET
DTSTART:20191027T010000
END:STANDARD
END:VTIMEZONE
BEGIN:VEVENT
DTSTART;TZID=Europe/Rome:20180519T163000
DTEND;TZID=Europe/Rome:20180519T230000
DTSTAMP:20260424T224634
CREATED:20180503T080409Z
LAST-MODIFIED:20180503T080642Z
UID:6109-1526747400-1526770800@reggioemilia.avisemiliaromagna.it
SUMMARY:Insieme SI PUO’ 2.0
DESCRIPTION:E dopo il successone dell’anno scorso\, WE ARE BACK!\nADMO & UnmidolloperMatteo \, insieme ad Avis Novellara e tante altre associazioni locali\, di nuovo insieme per l’evento benefico Insieme SI PUO’ 2.0 !! \nDalle ore 16:00 dritti fino a mezzanotte in compagnia di Radio Bruno tra le evoluzioni di freestyle motocross dei DABOOT e del super campione Vanni Oddera\, per i più piccoli “Pompieropoli” e la calata con la fune dei supereroi di EdiliziAcrobatica e tanto altro .. Per non farci mancare nulla? Grigliatona per cena! \nNon vi basta? Durante TUTTO l’evento i ragazzi in età compresa tra i 18 e i 35 anni potranno diventare dei potenziali donatori di midollo osseo con un semplice TAMPONE SALIVARE! ❤ \nVietato Mancare! \nLa locandina dell’evento \nLeggi anche: AVIS e ADMO: INSIEME SI PUO’!
URL:https://reggioemilia.avisemiliaromagna.it/evento/insieme-si-puo-2-0/
CATEGORIES:Admo,Avis Novellara,Cena
ATTACH;FMTTYPE=image/jpeg:https://reggioemilia.avisemiliaromagna.it/wp-content/uploads/2018/05/insieme_si_puo_home-1.jpg
END:VEVENT
END:VCALENDAR