BEGIN:VCALENDAR
VERSION:2.0
PRODID:-//Avis Provinciale di Reggio Emilia ODV - ECPv6.15.13//NONSGML v1.0//EN
CALSCALE:GREGORIAN
METHOD:PUBLISH
X-ORIGINAL-URL:https://reggioemilia.avisemiliaromagna.it
X-WR-CALDESC:Eventi per Avis Provinciale di Reggio Emilia ODV
REFRESH-INTERVAL;VALUE=DURATION:PT1H
X-Robots-Tag:noindex
X-PUBLISHED-TTL:PT1H
BEGIN:VTIMEZONE
TZID:Europe/Rome
BEGIN:DAYLIGHT
TZOFFSETFROM:+0100
TZOFFSETTO:+0200
TZNAME:CEST
DTSTART:20170326T010000
END:DAYLIGHT
BEGIN:STANDARD
TZOFFSETFROM:+0200
TZOFFSETTO:+0100
TZNAME:CET
DTSTART:20171029T010000
END:STANDARD
BEGIN:DAYLIGHT
TZOFFSETFROM:+0100
TZOFFSETTO:+0200
TZNAME:CEST
DTSTART:20180325T010000
END:DAYLIGHT
BEGIN:STANDARD
TZOFFSETFROM:+0200
TZOFFSETTO:+0100
TZNAME:CET
DTSTART:20181028T010000
END:STANDARD
BEGIN:DAYLIGHT
TZOFFSETFROM:+0100
TZOFFSETTO:+0200
TZNAME:CEST
DTSTART:20190331T010000
END:DAYLIGHT
BEGIN:STANDARD
TZOFFSETFROM:+0200
TZOFFSETTO:+0100
TZNAME:CET
DTSTART:20191027T010000
END:STANDARD
END:VTIMEZONE
BEGIN:VEVENT
DTSTART;TZID=Europe/Rome:20181019T173000
DTEND;TZID=Europe/Rome:20181019T193000
DTSTAMP:20260424T211941
CREATED:20181001T140706Z
LAST-MODIFIED:20251231T002103Z
UID:7478-1539970200-1539977400@reggioemilia.avisemiliaromagna.it
SUMMARY:Il Valore del Dono
DESCRIPTION:Siete invitati venerdì 19 ottobre\, alle ore 17.30\, presso il Cinema Cristallo\, via Ferrari-Bonini\, 4 alla conferenza “Il valore del dono: AVIS\, AIDO\, ADMO“\, a cura del dott. Giancarlo Tavasanis. Evento a cura della Biblioteca cappuccini\, P.za Vallisneri\, 1 ed organizzato da Feder.SP.e.V (Federazione Nazionale Sanitari Pensionati (Medici\, Farmacisti\, Veterinari) e superstiti (Vedovd/i e orfani). \nIngresso libero
URL:https://reggioemilia.avisemiliaromagna.it/evento/il-valore-del-dono/
CATEGORIES:Admo,Aido,Avis Provinciale Reggio Emilia,Casa del Dono,Convegno
ATTACH;FMTTYPE=image/png:https://reggioemilia.avisemiliaromagna.it/wp-content/uploads/2018/10/dono.png
END:VEVENT
END:VCALENDAR