BEGIN:VCALENDAR
VERSION:2.0
PRODID:-//Avis Provinciale di Reggio Emilia ODV - ECPv6.15.13//NONSGML v1.0//EN
CALSCALE:GREGORIAN
METHOD:PUBLISH
X-WR-CALNAME:Avis Provinciale di Reggio Emilia ODV
X-ORIGINAL-URL:https://reggioemilia.avisemiliaromagna.it
X-WR-CALDESC:Eventi per Avis Provinciale di Reggio Emilia ODV
REFRESH-INTERVAL;VALUE=DURATION:PT1H
X-Robots-Tag:noindex
X-PUBLISHED-TTL:PT1H
BEGIN:VTIMEZONE
TZID:Europe/Rome
BEGIN:DAYLIGHT
TZOFFSETFROM:+0100
TZOFFSETTO:+0200
TZNAME:CEST
DTSTART:20160327T010000
END:DAYLIGHT
BEGIN:STANDARD
TZOFFSETFROM:+0200
TZOFFSETTO:+0100
TZNAME:CET
DTSTART:20161030T010000
END:STANDARD
BEGIN:DAYLIGHT
TZOFFSETFROM:+0100
TZOFFSETTO:+0200
TZNAME:CEST
DTSTART:20170326T010000
END:DAYLIGHT
BEGIN:STANDARD
TZOFFSETFROM:+0200
TZOFFSETTO:+0100
TZNAME:CET
DTSTART:20171029T010000
END:STANDARD
BEGIN:DAYLIGHT
TZOFFSETFROM:+0100
TZOFFSETTO:+0200
TZNAME:CEST
DTSTART:20180325T010000
END:DAYLIGHT
BEGIN:STANDARD
TZOFFSETFROM:+0200
TZOFFSETTO:+0100
TZNAME:CET
DTSTART:20181028T010000
END:STANDARD
END:VTIMEZONE
BEGIN:VEVENT
DTSTART;TZID=Europe/Rome:20171103T100000
DTEND;TZID=Europe/Rome:20171103T130000
DTSTAMP:20260426T033211
CREATED:20171019T102539Z
LAST-MODIFIED:20171027T100153Z
UID:5134-1509703200-1509714000@reggioemilia.avisemiliaromagna.it
SUMMARY:Avis a Lucca Comics con "Il colore della vita"
DESCRIPTION:Verrà presentato il fumetto che narra dell’amicizia tra Vittorio Formentano\, fondatore di AVIS\, e Giorgio Moscatelli\, che per anni condivise con lui la guida dell’Associazione\nProseguono gli eventi di AVIS Nazionale legati alle celebrazioni per il novantesimo anniversario\,  venerdì 3 novembre il festival di Lucca Comics ospiterà la conferenza di presentazione de “Il colore della vita”\, fumetto che narra la storia dell’amicizia tra Vittorio Formentano\, fondatore di AVIS\, e  Giorgio Moscatelli\, che per tanti anni condivise con lui la guida dell’Associazione. \nIl volume è stato realizzato dalla Scuola Internazionale di Comics con il contributo di Fondazione Terzo Pilastro ed Emoservizi. \nLa conferenza si terrà nell’auditorium della Fondazione Banca del Monte di Lucca (in piazza San Martino\, 7) e vedrà la partecipazione di:\nAlberto Argentoni\, Presidente AVIS Nazionale\nAdelmo Agnolucci\, Presidente AVIS Regionale Toscana\nClaudia Firenze\, Segretario Generale AVIS\nRiccardo Mauri\, dirigente AVIS e co-autore\nRoberto Dal Pra’\, Scuola Internazionale di Comics\nMassimiliano Filadoro\, Scuola Internazionale di Comics\nGiampiero Wallnöfer\, disegnatore \nL’evento è organizzato in collaborazione con Avis Regionale Toscana\, Centro Nazionale per il Volontariato e l’Ufficio Scolastico Regionale per la Toscana. \nFonte: www.avistoscana.it
URL:https://reggioemilia.avisemiliaromagna.it/evento/avis-luccacomics-colore-della-vita/
CATEGORIES:Avis Nazionale
ATTACH;FMTTYPE=image/jpeg:https://reggioemilia.avisemiliaromagna.it/wp-content/uploads/2017/10/fumetto.jpg
END:VEVENT
END:VCALENDAR