BEGIN:VCALENDAR
VERSION:2.0
PRODID:-//Avis Provinciale di Reggio Emilia ODV - ECPv6.15.13//NONSGML v1.0//EN
CALSCALE:GREGORIAN
METHOD:PUBLISH
X-ORIGINAL-URL:https://reggioemilia.avisemiliaromagna.it
X-WR-CALDESC:Eventi per Avis Provinciale di Reggio Emilia ODV
REFRESH-INTERVAL;VALUE=DURATION:PT1H
X-Robots-Tag:noindex
X-PUBLISHED-TTL:PT1H
BEGIN:VTIMEZONE
TZID:Europe/Rome
BEGIN:DAYLIGHT
TZOFFSETFROM:+0100
TZOFFSETTO:+0200
TZNAME:CEST
DTSTART:20170326T010000
END:DAYLIGHT
BEGIN:STANDARD
TZOFFSETFROM:+0200
TZOFFSETTO:+0100
TZNAME:CET
DTSTART:20171029T010000
END:STANDARD
BEGIN:DAYLIGHT
TZOFFSETFROM:+0100
TZOFFSETTO:+0200
TZNAME:CEST
DTSTART:20180325T010000
END:DAYLIGHT
BEGIN:STANDARD
TZOFFSETFROM:+0200
TZOFFSETTO:+0100
TZNAME:CET
DTSTART:20181028T010000
END:STANDARD
BEGIN:DAYLIGHT
TZOFFSETFROM:+0100
TZOFFSETTO:+0200
TZNAME:CEST
DTSTART:20190331T010000
END:DAYLIGHT
BEGIN:STANDARD
TZOFFSETFROM:+0200
TZOFFSETTO:+0100
TZNAME:CET
DTSTART:20191027T010000
END:STANDARD
BEGIN:DAYLIGHT
TZOFFSETFROM:+0100
TZOFFSETTO:+0200
TZNAME:CEST
DTSTART:20200329T010000
END:DAYLIGHT
BEGIN:STANDARD
TZOFFSETFROM:+0200
TZOFFSETTO:+0100
TZNAME:CET
DTSTART:20201025T010000
END:STANDARD
END:VTIMEZONE
BEGIN:VEVENT
DTSTART;TZID=Europe/Rome:20191012T093000
DTEND;TZID=Europe/Rome:20191012T163000
DTSTAMP:20260424T180133
CREATED:20190620T091116Z
LAST-MODIFIED:20251231T002102Z
UID:9312-1570872600-1570897800@reggioemilia.avisemiliaromagna.it
SUMMARY:Stare e crescere in gruppo: l’appartenenza attiva
DESCRIPTION:Scadenza Bando				\n				\n				\n				\n							\n			 Giorni Ore Minuti Secondi		\n						\n									\n								\n				\n				\n				\n					Se hai tra i 18 e i 28 anni e risiedi in provincia di Reggio Emilia ti informiamo che sono disponibili 4 posti in 2 sedi del nostro territorio.\n\nPer iscriverti al bando c’è tempo fino alle ore 14.00 di giovedì 16 aprile 2026.				\n				\n					\n		\n					\n		\n				\n						\n					\n			\n						\n				\n									Il Servizio Civile Universale è un’esperienza di grande valore etico\, sociale e formativo. Nelle nostre sedi viene richiesto un lavoro attivo nella sensibilizzazione della cultura del dono\, nella cura e supporto ai donatori e nella realizzazione delle numerose attività associative (tra cui incontri negli istituti scolastici della provincia\, supporto nelle attività dei centri prelievo). La formazione che mettiamo in campo per le volontarie e i volontari è orientata agli aspetti comunicativi interni ed esterni all’associazione\, alla corretta gestione delle risorse informative\, alla capacità di lavorare in team\, progettando in modo efficace le varie iniziative sapendone misurare e valutare gli esiti. Il progetto Avis della provincia di Reggio Emilia è “SCUola di dono – nel NORD – Terza Edizione” . Durata: 12 mesi di alto valore umano e formativoMonte ore annuale: 1145 Orario di servizio: 25 ore medie settimanali. L’orario di servizio viene stabilito in relazione alla natura del progetto ed è indicato nel progetto stesso. Per i volontari in Servizio Civile é previsto un rimborso spese di 519\,47 €. 								\n				\n					\n		\n					\n		\n				\n						\n					\n			\n						\n				\n									Clicca qui per aderire al bando (solo online e tramite Spid) fino alle ore 14 di martedì 8 aprile 2026. 								\n				\n					\n		\n					\n		\n				\n						\n					\n			\n						\n				\n									In Avis Provinciale i posti disponibili sono 2. 								\n				\n					\n		\n					\n		\n				\n						\n					\n			\n						\n				\n									Di seguito i riferimenti della nostra sede: CODICESEDE DEL PROGETTON. POSTIOLP147026AVIS PROVINCIALE DI REGGIO EMILIA ODVVia Muzio Clementi n. 2/A42123 Reggio Emilia   2Federico MontanariMail: serviziocivile@avisre.it Tel: 0522 304033								\n				\n					\n		\n					\n		\n				\n						\n					\n			\n						\n				\n									Di seguito i riferimenti delle altre sedi in provincia: CODICESEDE DEL PROGETTON. POSTIOLP    147018AVIS COMUNALE DI REGGIO EMILIA ODVVia Muzio Clementi n. 2/A42123 Reggio Emilia    2Andrea Di MaioMail: segreteria@avis.re.itTel: 0522 451075								\n				\n					\n		\n					\n		\n				\n						\n					\n			\n						\n				\n									È importante ricordare che non si possono inoltrare domande di adesione a più sedi di progetto quindi ti consigliamo di scegliere quello che più rispecchia i tuoi interessi. Se dovessi riscontrare difficoltà nella compilazione a questo link puoi trovare una pratica guida che ti aiuterà nella compilazione della domanda nella maniera più corretta e rapida possibile.In alternativa puoi contattare il referente del progetto (OLP) della sede.
URL:https://reggioemilia.avisemiliaromagna.it/evento/stare-e-crescere-in-gruppo-lappartenenza-attiva/
CATEGORIES:Avis Provinciale Reggio Emilia,Corso di formazione
ATTACH;FMTTYPE=image/jpeg:https://reggioemilia.avisemiliaromagna.it/wp-content/uploads/2019/06/gruppo.jpg
END:VEVENT
BEGIN:VEVENT
DTSTART;TZID=Europe/Rome:20190525T140000
DTEND;TZID=Europe/Rome:20190525T180000
DTSTAMP:20260424T180133
CREATED:20190516T095347Z
LAST-MODIFIED:20251231T002102Z
UID:9006-1558792800-1558807200@reggioemilia.avisemiliaromagna.it
SUMMARY:Cicatrici\, tutte le loro sfumature fisiche ed emotive
DESCRIPTION:Scadenza Bando				\n				\n				\n				\n							\n			 Giorni Ore Minuti Secondi		\n						\n									\n								\n				\n				\n				\n					Se hai tra i 18 e i 28 anni e risiedi in provincia di Reggio Emilia ti informiamo che sono disponibili 4 posti in 2 sedi del nostro territorio.\n\nPer iscriverti al bando c’è tempo fino alle ore 14.00 di giovedì 16 aprile 2026.				\n				\n					\n		\n					\n		\n				\n						\n					\n			\n						\n				\n									Il Servizio Civile Universale è un’esperienza di grande valore etico\, sociale e formativo. Nelle nostre sedi viene richiesto un lavoro attivo nella sensibilizzazione della cultura del dono\, nella cura e supporto ai donatori e nella realizzazione delle numerose attività associative (tra cui incontri negli istituti scolastici della provincia\, supporto nelle attività dei centri prelievo). La formazione che mettiamo in campo per le volontarie e i volontari è orientata agli aspetti comunicativi interni ed esterni all’associazione\, alla corretta gestione delle risorse informative\, alla capacità di lavorare in team\, progettando in modo efficace le varie iniziative sapendone misurare e valutare gli esiti. Il progetto Avis della provincia di Reggio Emilia è “SCUola di dono – nel NORD – Terza Edizione” . Durata: 12 mesi di alto valore umano e formativoMonte ore annuale: 1145 Orario di servizio: 25 ore medie settimanali. L’orario di servizio viene stabilito in relazione alla natura del progetto ed è indicato nel progetto stesso. Per i volontari in Servizio Civile é previsto un rimborso spese di 519\,47 €. 								\n				\n					\n		\n					\n		\n				\n						\n					\n			\n						\n				\n									Clicca qui per aderire al bando (solo online e tramite Spid) fino alle ore 14 di martedì 8 aprile 2026. 								\n				\n					\n		\n					\n		\n				\n						\n					\n			\n						\n				\n									In Avis Provinciale i posti disponibili sono 2. 								\n				\n					\n		\n					\n		\n				\n						\n					\n			\n						\n				\n									Di seguito i riferimenti della nostra sede: CODICESEDE DEL PROGETTON. POSTIOLP147026AVIS PROVINCIALE DI REGGIO EMILIA ODVVia Muzio Clementi n. 2/A42123 Reggio Emilia   2Federico MontanariMail: serviziocivile@avisre.it Tel: 0522 304033								\n				\n					\n		\n					\n		\n				\n						\n					\n			\n						\n				\n									Di seguito i riferimenti delle altre sedi in provincia: CODICESEDE DEL PROGETTON. POSTIOLP    147018AVIS COMUNALE DI REGGIO EMILIA ODVVia Muzio Clementi n. 2/A42123 Reggio Emilia    2Andrea Di MaioMail: segreteria@avis.re.itTel: 0522 451075								\n				\n					\n		\n					\n		\n				\n						\n					\n			\n						\n				\n									È importante ricordare che non si possono inoltrare domande di adesione a più sedi di progetto quindi ti consigliamo di scegliere quello che più rispecchia i tuoi interessi. Se dovessi riscontrare difficoltà nella compilazione a questo link puoi trovare una pratica guida che ti aiuterà nella compilazione della domanda nella maniera più corretta e rapida possibile.In alternativa puoi contattare il referente del progetto (OLP) della sede.
URL:https://reggioemilia.avisemiliaromagna.it/evento/cicatrici-tutte-le-loro-sfumature-fisiche-ed-emotive/
CATEGORIES:Admo,Aido,Avis Provinciale Reggio Emilia,Incontro Informativo,Mostra
ATTACH;FMTTYPE=image/png:https://reggioemilia.avisemiliaromagna.it/wp-content/uploads/2019/05/Convegno-Mostra-Collaterale-FE2019_250519_hp.png
END:VEVENT
BEGIN:VEVENT
DTSTART;TZID=Europe/Rome:20190317T090000
DTEND;TZID=Europe/Rome:20190317T120000
DTSTAMP:20260424T180133
CREATED:20190228T085128Z
LAST-MODIFIED:20251231T002103Z
UID:8511-1552813200-1552824000@reggioemilia.avisemiliaromagna.it
SUMMARY:Avis alla ‘Corsa dei Papà’
DESCRIPTION:Scadenza Bando				\n				\n				\n				\n							\n			 Giorni Ore Minuti Secondi		\n						\n									\n								\n				\n				\n				\n					Se hai tra i 18 e i 28 anni e risiedi in provincia di Reggio Emilia ti informiamo che sono disponibili 4 posti in 2 sedi del nostro territorio.\n\nPer iscriverti al bando c’è tempo fino alle ore 14.00 di giovedì 16 aprile 2026.				\n				\n					\n		\n					\n		\n				\n						\n					\n			\n						\n				\n									Il Servizio Civile Universale è un’esperienza di grande valore etico\, sociale e formativo. Nelle nostre sedi viene richiesto un lavoro attivo nella sensibilizzazione della cultura del dono\, nella cura e supporto ai donatori e nella realizzazione delle numerose attività associative (tra cui incontri negli istituti scolastici della provincia\, supporto nelle attività dei centri prelievo). La formazione che mettiamo in campo per le volontarie e i volontari è orientata agli aspetti comunicativi interni ed esterni all’associazione\, alla corretta gestione delle risorse informative\, alla capacità di lavorare in team\, progettando in modo efficace le varie iniziative sapendone misurare e valutare gli esiti. Il progetto Avis della provincia di Reggio Emilia è “SCUola di dono – nel NORD – Terza Edizione” . Durata: 12 mesi di alto valore umano e formativoMonte ore annuale: 1145 Orario di servizio: 25 ore medie settimanali. L’orario di servizio viene stabilito in relazione alla natura del progetto ed è indicato nel progetto stesso. Per i volontari in Servizio Civile é previsto un rimborso spese di 519\,47 €. 								\n				\n					\n		\n					\n		\n				\n						\n					\n			\n						\n				\n									Clicca qui per aderire al bando (solo online e tramite Spid) fino alle ore 14 di martedì 8 aprile 2026. 								\n				\n					\n		\n					\n		\n				\n						\n					\n			\n						\n				\n									In Avis Provinciale i posti disponibili sono 2. 								\n				\n					\n		\n					\n		\n				\n						\n					\n			\n						\n				\n									Di seguito i riferimenti della nostra sede: CODICESEDE DEL PROGETTON. POSTIOLP147026AVIS PROVINCIALE DI REGGIO EMILIA ODVVia Muzio Clementi n. 2/A42123 Reggio Emilia   2Federico MontanariMail: serviziocivile@avisre.it Tel: 0522 304033								\n				\n					\n		\n					\n		\n				\n						\n					\n			\n						\n				\n									Di seguito i riferimenti delle altre sedi in provincia: CODICESEDE DEL PROGETTON. POSTIOLP    147018AVIS COMUNALE DI REGGIO EMILIA ODVVia Muzio Clementi n. 2/A42123 Reggio Emilia    2Andrea Di MaioMail: segreteria@avis.re.itTel: 0522 451075								\n				\n					\n		\n					\n		\n				\n						\n					\n			\n						\n				\n									È importante ricordare che non si possono inoltrare domande di adesione a più sedi di progetto quindi ti consigliamo di scegliere quello che più rispecchia i tuoi interessi. Se dovessi riscontrare difficoltà nella compilazione a questo link puoi trovare una pratica guida che ti aiuterà nella compilazione della domanda nella maniera più corretta e rapida possibile.In alternativa puoi contattare il referente del progetto (OLP) della sede.
URL:https://reggioemilia.avisemiliaromagna.it/evento/avis-alla-corsa-dei-papa/
CATEGORIES:Avis Comunale Reggio Emilia,Avis Provinciale Reggio Emilia,Corsa podistica,Evento sportivo
ATTACH;FMTTYPE=image/png:https://reggioemilia.avisemiliaromagna.it/wp-content/uploads/2019/02/Pagina21diReggio_2019.png
END:VEVENT
BEGIN:VEVENT
DTSTART;TZID=Europe/Rome:20181106T183000
DTEND;TZID=Europe/Rome:20181106T210000
DTSTAMP:20260424T180133
CREATED:20181029T134752Z
LAST-MODIFIED:20251231T002103Z
UID:7670-1541529000-1541538000@reggioemilia.avisemiliaromagna.it
SUMMARY:Match4Alessandro\, diventa donatore di midollo osseo
DESCRIPTION:Scadenza Bando				\n				\n				\n				\n							\n			 Giorni Ore Minuti Secondi		\n						\n									\n								\n				\n				\n				\n					Se hai tra i 18 e i 28 anni e risiedi in provincia di Reggio Emilia ti informiamo che sono disponibili 4 posti in 2 sedi del nostro territorio.\n\nPer iscriverti al bando c’è tempo fino alle ore 14.00 di giovedì 16 aprile 2026.				\n				\n					\n		\n					\n		\n				\n						\n					\n			\n						\n				\n									Il Servizio Civile Universale è un’esperienza di grande valore etico\, sociale e formativo. Nelle nostre sedi viene richiesto un lavoro attivo nella sensibilizzazione della cultura del dono\, nella cura e supporto ai donatori e nella realizzazione delle numerose attività associative (tra cui incontri negli istituti scolastici della provincia\, supporto nelle attività dei centri prelievo). La formazione che mettiamo in campo per le volontarie e i volontari è orientata agli aspetti comunicativi interni ed esterni all’associazione\, alla corretta gestione delle risorse informative\, alla capacità di lavorare in team\, progettando in modo efficace le varie iniziative sapendone misurare e valutare gli esiti. Il progetto Avis della provincia di Reggio Emilia è “SCUola di dono – nel NORD – Terza Edizione” . Durata: 12 mesi di alto valore umano e formativoMonte ore annuale: 1145 Orario di servizio: 25 ore medie settimanali. L’orario di servizio viene stabilito in relazione alla natura del progetto ed è indicato nel progetto stesso. Per i volontari in Servizio Civile é previsto un rimborso spese di 519\,47 €. 								\n				\n					\n		\n					\n		\n				\n						\n					\n			\n						\n				\n									Clicca qui per aderire al bando (solo online e tramite Spid) fino alle ore 14 di martedì 8 aprile 2026. 								\n				\n					\n		\n					\n		\n				\n						\n					\n			\n						\n				\n									In Avis Provinciale i posti disponibili sono 2. 								\n				\n					\n		\n					\n		\n				\n						\n					\n			\n						\n				\n									Di seguito i riferimenti della nostra sede: CODICESEDE DEL PROGETTON. POSTIOLP147026AVIS PROVINCIALE DI REGGIO EMILIA ODVVia Muzio Clementi n. 2/A42123 Reggio Emilia   2Federico MontanariMail: serviziocivile@avisre.it Tel: 0522 304033								\n				\n					\n		\n					\n		\n				\n						\n					\n			\n						\n				\n									Di seguito i riferimenti delle altre sedi in provincia: CODICESEDE DEL PROGETTON. POSTIOLP    147018AVIS COMUNALE DI REGGIO EMILIA ODVVia Muzio Clementi n. 2/A42123 Reggio Emilia    2Andrea Di MaioMail: segreteria@avis.re.itTel: 0522 451075								\n				\n					\n		\n					\n		\n				\n						\n					\n			\n						\n				\n									È importante ricordare che non si possono inoltrare domande di adesione a più sedi di progetto quindi ti consigliamo di scegliere quello che più rispecchia i tuoi interessi. Se dovessi riscontrare difficoltà nella compilazione a questo link puoi trovare una pratica guida che ti aiuterà nella compilazione della domanda nella maniera più corretta e rapida possibile.In alternativa puoi contattare il referente del progetto (OLP) della sede.
URL:https://reggioemilia.avisemiliaromagna.it/evento/match4alessandro-diventa-donatore-di-midollo-osseo/
CATEGORIES:Admo,Avis Comunale Reggio Emilia,Avis Provinciale Reggio Emilia
ATTACH;FMTTYPE=image/jpeg:https://reggioemilia.avisemiliaromagna.it/wp-content/uploads/2018/10/45035720_2100640303301068_3095719286296018944_n.jpg
END:VEVENT
BEGIN:VEVENT
DTSTART;TZID=Europe/Rome:20180904T100000
DTEND;TZID=Europe/Rome:20180909T200000
DTSTAMP:20260424T180133
CREATED:20180827T153103Z
LAST-MODIFIED:20251231T002103Z
UID:7304-1536055200-1536523200@reggioemilia.avisemiliaromagna.it
SUMMARY:La Casa del Dono alla 39^ Sagra della Giareda
DESCRIPTION:Scadenza Bando				\n				\n				\n				\n							\n			 Giorni Ore Minuti Secondi		\n						\n									\n								\n				\n				\n				\n					Se hai tra i 18 e i 28 anni e risiedi in provincia di Reggio Emilia ti informiamo che sono disponibili 4 posti in 2 sedi del nostro territorio.\n\nPer iscriverti al bando c’è tempo fino alle ore 14.00 di giovedì 16 aprile 2026.				\n				\n					\n		\n					\n		\n				\n						\n					\n			\n						\n				\n									Il Servizio Civile Universale è un’esperienza di grande valore etico\, sociale e formativo. Nelle nostre sedi viene richiesto un lavoro attivo nella sensibilizzazione della cultura del dono\, nella cura e supporto ai donatori e nella realizzazione delle numerose attività associative (tra cui incontri negli istituti scolastici della provincia\, supporto nelle attività dei centri prelievo). La formazione che mettiamo in campo per le volontarie e i volontari è orientata agli aspetti comunicativi interni ed esterni all’associazione\, alla corretta gestione delle risorse informative\, alla capacità di lavorare in team\, progettando in modo efficace le varie iniziative sapendone misurare e valutare gli esiti. Il progetto Avis della provincia di Reggio Emilia è “SCUola di dono – nel NORD – Terza Edizione” . Durata: 12 mesi di alto valore umano e formativoMonte ore annuale: 1145 Orario di servizio: 25 ore medie settimanali. L’orario di servizio viene stabilito in relazione alla natura del progetto ed è indicato nel progetto stesso. Per i volontari in Servizio Civile é previsto un rimborso spese di 519\,47 €. 								\n				\n					\n		\n					\n		\n				\n						\n					\n			\n						\n				\n									Clicca qui per aderire al bando (solo online e tramite Spid) fino alle ore 14 di martedì 8 aprile 2026. 								\n				\n					\n		\n					\n		\n				\n						\n					\n			\n						\n				\n									In Avis Provinciale i posti disponibili sono 2. 								\n				\n					\n		\n					\n		\n				\n						\n					\n			\n						\n				\n									Di seguito i riferimenti della nostra sede: CODICESEDE DEL PROGETTON. POSTIOLP147026AVIS PROVINCIALE DI REGGIO EMILIA ODVVia Muzio Clementi n. 2/A42123 Reggio Emilia   2Federico MontanariMail: serviziocivile@avisre.it Tel: 0522 304033								\n				\n					\n		\n					\n		\n				\n						\n					\n			\n						\n				\n									Di seguito i riferimenti delle altre sedi in provincia: CODICESEDE DEL PROGETTON. POSTIOLP    147018AVIS COMUNALE DI REGGIO EMILIA ODVVia Muzio Clementi n. 2/A42123 Reggio Emilia    2Andrea Di MaioMail: segreteria@avis.re.itTel: 0522 451075								\n				\n					\n		\n					\n		\n				\n						\n					\n			\n						\n				\n									È importante ricordare che non si possono inoltrare domande di adesione a più sedi di progetto quindi ti consigliamo di scegliere quello che più rispecchia i tuoi interessi. Se dovessi riscontrare difficoltà nella compilazione a questo link puoi trovare una pratica guida che ti aiuterà nella compilazione della domanda nella maniera più corretta e rapida possibile.In alternativa puoi contattare il referente del progetto (OLP) della sede.
URL:https://reggioemilia.avisemiliaromagna.it/evento/la-casa-del-dono-alla-39-sagra-della-giareda/
CATEGORIES:Admo,Aido,Avis Comunale Reggio Emilia,Avis Provinciale Reggio Emilia,Casa del Dono,Fiera
ATTACH;FMTTYPE=image/jpeg:https://reggioemilia.avisemiliaromagna.it/wp-content/uploads/2018/08/giareda2018.jpg
END:VEVENT
BEGIN:VEVENT
DTSTART;TZID=Europe/Rome:20180419T170000
DTEND;TZID=Europe/Rome:20180531T160000
DTSTAMP:20260424T180133
CREATED:20180416T082611Z
LAST-MODIFIED:20251231T002103Z
UID:6011-1524157200-1527782400@reggioemilia.avisemiliaromagna.it
SUMMARY:Alla Casa del Dono Fotografia Europea
DESCRIPTION:Scadenza Bando				\n				\n				\n				\n							\n			 Giorni Ore Minuti Secondi		\n						\n									\n								\n				\n				\n				\n					Se hai tra i 18 e i 28 anni e risiedi in provincia di Reggio Emilia ti informiamo che sono disponibili 4 posti in 2 sedi del nostro territorio.\n\nPer iscriverti al bando c’è tempo fino alle ore 14.00 di giovedì 16 aprile 2026.				\n				\n					\n		\n					\n		\n				\n						\n					\n			\n						\n				\n									Il Servizio Civile Universale è un’esperienza di grande valore etico\, sociale e formativo. Nelle nostre sedi viene richiesto un lavoro attivo nella sensibilizzazione della cultura del dono\, nella cura e supporto ai donatori e nella realizzazione delle numerose attività associative (tra cui incontri negli istituti scolastici della provincia\, supporto nelle attività dei centri prelievo). La formazione che mettiamo in campo per le volontarie e i volontari è orientata agli aspetti comunicativi interni ed esterni all’associazione\, alla corretta gestione delle risorse informative\, alla capacità di lavorare in team\, progettando in modo efficace le varie iniziative sapendone misurare e valutare gli esiti. Il progetto Avis della provincia di Reggio Emilia è “SCUola di dono – nel NORD – Terza Edizione” . Durata: 12 mesi di alto valore umano e formativoMonte ore annuale: 1145 Orario di servizio: 25 ore medie settimanali. L’orario di servizio viene stabilito in relazione alla natura del progetto ed è indicato nel progetto stesso. Per i volontari in Servizio Civile é previsto un rimborso spese di 519\,47 €. 								\n				\n					\n		\n					\n		\n				\n						\n					\n			\n						\n				\n									Clicca qui per aderire al bando (solo online e tramite Spid) fino alle ore 14 di martedì 8 aprile 2026. 								\n				\n					\n		\n					\n		\n				\n						\n					\n			\n						\n				\n									In Avis Provinciale i posti disponibili sono 2. 								\n				\n					\n		\n					\n		\n				\n						\n					\n			\n						\n				\n									Di seguito i riferimenti della nostra sede: CODICESEDE DEL PROGETTON. POSTIOLP147026AVIS PROVINCIALE DI REGGIO EMILIA ODVVia Muzio Clementi n. 2/A42123 Reggio Emilia   2Federico MontanariMail: serviziocivile@avisre.it Tel: 0522 304033								\n				\n					\n		\n					\n		\n				\n						\n					\n			\n						\n				\n									Di seguito i riferimenti delle altre sedi in provincia: CODICESEDE DEL PROGETTON. POSTIOLP    147018AVIS COMUNALE DI REGGIO EMILIA ODVVia Muzio Clementi n. 2/A42123 Reggio Emilia    2Andrea Di MaioMail: segreteria@avis.re.itTel: 0522 451075								\n				\n					\n		\n					\n		\n				\n						\n					\n			\n						\n				\n									È importante ricordare che non si possono inoltrare domande di adesione a più sedi di progetto quindi ti consigliamo di scegliere quello che più rispecchia i tuoi interessi. Se dovessi riscontrare difficoltà nella compilazione a questo link puoi trovare una pratica guida che ti aiuterà nella compilazione della domanda nella maniera più corretta e rapida possibile.In alternativa puoi contattare il referente del progetto (OLP) della sede.
URL:https://reggioemilia.avisemiliaromagna.it/evento/fotografia-europea-2018-la-casa-del-dono-ospita-la-mostra-marcus-aemilius-lepidus/
CATEGORIES:Admo,Aido,Avis Comunale Reggio Emilia,Avis Provinciale Reggio Emilia,Mostra
ATTACH;FMTTYPE=image/jpeg:https://reggioemilia.avisemiliaromagna.it/wp-content/uploads/2018/04/FE_home.jpg
END:VEVENT
BEGIN:VEVENT
DTSTART;TZID=Europe/Rome:20180318T073000
DTEND;TZID=Europe/Rome:20180318T110000
DTSTAMP:20260424T180133
CREATED:20180308T104413Z
LAST-MODIFIED:20251231T002103Z
UID:5725-1521358200-1521370800@reggioemilia.avisemiliaromagna.it
SUMMARY:Avis alla “21 di Reggio Emilia”
DESCRIPTION:Scadenza Bando				\n				\n				\n				\n							\n			 Giorni Ore Minuti Secondi		\n						\n									\n								\n				\n				\n				\n					Se hai tra i 18 e i 28 anni e risiedi in provincia di Reggio Emilia ti informiamo che sono disponibili 4 posti in 2 sedi del nostro territorio.\n\nPer iscriverti al bando c’è tempo fino alle ore 14.00 di giovedì 16 aprile 2026.				\n				\n					\n		\n					\n		\n				\n						\n					\n			\n						\n				\n									Il Servizio Civile Universale è un’esperienza di grande valore etico\, sociale e formativo. Nelle nostre sedi viene richiesto un lavoro attivo nella sensibilizzazione della cultura del dono\, nella cura e supporto ai donatori e nella realizzazione delle numerose attività associative (tra cui incontri negli istituti scolastici della provincia\, supporto nelle attività dei centri prelievo). La formazione che mettiamo in campo per le volontarie e i volontari è orientata agli aspetti comunicativi interni ed esterni all’associazione\, alla corretta gestione delle risorse informative\, alla capacità di lavorare in team\, progettando in modo efficace le varie iniziative sapendone misurare e valutare gli esiti. Il progetto Avis della provincia di Reggio Emilia è “SCUola di dono – nel NORD – Terza Edizione” . Durata: 12 mesi di alto valore umano e formativoMonte ore annuale: 1145 Orario di servizio: 25 ore medie settimanali. L’orario di servizio viene stabilito in relazione alla natura del progetto ed è indicato nel progetto stesso. Per i volontari in Servizio Civile é previsto un rimborso spese di 519\,47 €. 								\n				\n					\n		\n					\n		\n				\n						\n					\n			\n						\n				\n									Clicca qui per aderire al bando (solo online e tramite Spid) fino alle ore 14 di martedì 8 aprile 2026. 								\n				\n					\n		\n					\n		\n				\n						\n					\n			\n						\n				\n									In Avis Provinciale i posti disponibili sono 2. 								\n				\n					\n		\n					\n		\n				\n						\n					\n			\n						\n				\n									Di seguito i riferimenti della nostra sede: CODICESEDE DEL PROGETTON. POSTIOLP147026AVIS PROVINCIALE DI REGGIO EMILIA ODVVia Muzio Clementi n. 2/A42123 Reggio Emilia   2Federico MontanariMail: serviziocivile@avisre.it Tel: 0522 304033								\n				\n					\n		\n					\n		\n				\n						\n					\n			\n						\n				\n									Di seguito i riferimenti delle altre sedi in provincia: CODICESEDE DEL PROGETTON. POSTIOLP    147018AVIS COMUNALE DI REGGIO EMILIA ODVVia Muzio Clementi n. 2/A42123 Reggio Emilia    2Andrea Di MaioMail: segreteria@avis.re.itTel: 0522 451075								\n				\n					\n		\n					\n		\n				\n						\n					\n			\n						\n				\n									È importante ricordare che non si possono inoltrare domande di adesione a più sedi di progetto quindi ti consigliamo di scegliere quello che più rispecchia i tuoi interessi. Se dovessi riscontrare difficoltà nella compilazione a questo link puoi trovare una pratica guida che ti aiuterà nella compilazione della domanda nella maniera più corretta e rapida possibile.In alternativa puoi contattare il referente del progetto (OLP) della sede.
URL:https://reggioemilia.avisemiliaromagna.it/evento/avis-alla-21-reggio-emilia/
CATEGORIES:Avis Comunale Reggio Emilia,Avis Provinciale Reggio Emilia,Corsa podistica,Evento sportivo
ATTACH;FMTTYPE=image/png:https://reggioemilia.avisemiliaromagna.it/wp-content/uploads/2018/03/intro21diReggio.png
END:VEVENT
END:VCALENDAR