BEGIN:VCALENDAR
VERSION:2.0
PRODID:-//Avis Provinciale di Reggio Emilia ODV - ECPv6.15.13//NONSGML v1.0//EN
CALSCALE:GREGORIAN
METHOD:PUBLISH
X-WR-CALNAME:Avis Provinciale di Reggio Emilia ODV
X-ORIGINAL-URL:https://reggioemilia.avisemiliaromagna.it
X-WR-CALDESC:Eventi per Avis Provinciale di Reggio Emilia ODV
REFRESH-INTERVAL;VALUE=DURATION:PT1H
X-Robots-Tag:noindex
X-PUBLISHED-TTL:PT1H
BEGIN:VTIMEZONE
TZID:Europe/Rome
BEGIN:DAYLIGHT
TZOFFSETFROM:+0100
TZOFFSETTO:+0200
TZNAME:CEST
DTSTART:20170326T010000
END:DAYLIGHT
BEGIN:STANDARD
TZOFFSETFROM:+0200
TZOFFSETTO:+0100
TZNAME:CET
DTSTART:20171029T010000
END:STANDARD
BEGIN:DAYLIGHT
TZOFFSETFROM:+0100
TZOFFSETTO:+0200
TZNAME:CEST
DTSTART:20180325T010000
END:DAYLIGHT
BEGIN:STANDARD
TZOFFSETFROM:+0200
TZOFFSETTO:+0100
TZNAME:CET
DTSTART:20181028T010000
END:STANDARD
BEGIN:DAYLIGHT
TZOFFSETFROM:+0100
TZOFFSETTO:+0200
TZNAME:CEST
DTSTART:20190331T010000
END:DAYLIGHT
BEGIN:STANDARD
TZOFFSETFROM:+0200
TZOFFSETTO:+0100
TZNAME:CET
DTSTART:20191027T010000
END:STANDARD
BEGIN:DAYLIGHT
TZOFFSETFROM:+0100
TZOFFSETTO:+0200
TZNAME:CEST
DTSTART:20200329T010000
END:DAYLIGHT
BEGIN:STANDARD
TZOFFSETFROM:+0200
TZOFFSETTO:+0100
TZNAME:CET
DTSTART:20201025T010000
END:STANDARD
END:VTIMEZONE
BEGIN:VEVENT
DTSTART;TZID=Europe/Rome:20190718T190000
DTEND;TZID=Europe/Rome:20190721T233000
DTSTAMP:20260424T211744
CREATED:20180703T070313Z
LAST-MODIFIED:20190719T080809Z
UID:6970-1563476400-1563751800@reggioemilia.avisemiliaromagna.it
SUMMARY:Tutto pronto per Praticio Rock 2019
DESCRIPTION:E’ tutto pronto per la 20esima edizione di Praticio Rock 2019\, la tradizionale kermesse a base di musica\, birra e divertimento di Gattatico a cui presenzia\, con un banchetto promozionale ed informativo\, anche l’Avis locale. \n20^ Edizione // 18-19-20-21 Luglio\nPraticio Rock \n PROGRAMMA  \nGiovedì 18 Luglio 2019 ☆ Murubutu ☆ + Dentro\nVenerdì 19 Luglio 2019 ☆ Clavdio☆ + Niccolò Bossini\nSabato 20 Luglio 2019 ☆ Modena City Ramblers ☆ + Chameleon Mime\nDomenica 21 Luglio 2019 ☆ Explosion Band☆ + Waffle \n\n✔ INGRESSO GRATUITO ✔ \nApertura festa ore 19:00 // Inizio live 21:30 \nPer tutta la sera è attivo il servizio Ristorante//Cocktail Bar//Birreria//Bancarelle \nPraticio Rock Festival // dal 18 al 21 luglio 2019\nVia Cicalini\, 14 – 42043 – Praticello di Gattatico\nhttps://goo.gl/maps/5BHW9szfoR72 \n\nLa locandina dell’evento \nPer tutta la sera è attivo il servizio Ristorante//Cocktail Bar//Birreria//Bancarelle \nDalle 17.00 torneo di Splash Volley e ricco aperitivo ogni sera!!! \nPer Info:\nInfo: Giorgia 340 5921534 – Jessica 349 3641233\npraticiorock@gmail.com\nwww.facebook.com/PraticioRock
URL:https://reggioemilia.avisemiliaromagna.it/evento/tutto-pronto-per-praticio-rock-2018/
CATEGORIES:Avis Gattatico
ATTACH;FMTTYPE=image/jpeg:https://reggioemilia.avisemiliaromagna.it/wp-content/uploads/2018/07/praticioHOME.jpg
END:VEVENT
BEGIN:VEVENT
DTSTART;TZID=Europe/Rome:20190501T090000
DTEND;TZID=Europe/Rome:20190501T113000
DTSTAMP:20260424T211744
CREATED:20190426T101646Z
LAST-MODIFIED:20190426T101646Z
UID:8889-1556701200-1556710200@reggioemilia.avisemiliaromagna.it
SUMMARY:Gimkana con Avis
DESCRIPTION:Mercoledì 1 maggio Avis Gattatico vi invita in piazza Cervi (Praticello)\, dalle ore 9\,00\, per la Gimkana Avis\, gara ad ostacoli da percorrere in bicicletta.\nA tutti i partecipanti verrà consegnata la medaglia di partecipazione.\nIscrizione gratuita \nIn collaborazione con la Ciclistica Gattatico \nLa locandina del’evento
URL:https://reggioemilia.avisemiliaromagna.it/evento/gimkana-con-avis/
CATEGORIES:Avis Gattatico
ATTACH;FMTTYPE=image/jpeg:https://reggioemilia.avisemiliaromagna.it/wp-content/uploads/2019/04/gimkana.jpg
END:VEVENT
BEGIN:VEVENT
DTSTART;TZID=Europe/Rome:20190318T080000
DTEND;TZID=Europe/Rome:20190318T170000
DTSTAMP:20260424T211744
CREATED:20190318T130319Z
LAST-MODIFIED:20190318T130319Z
UID:8603-1552896000-1552928400@reggioemilia.avisemiliaromagna.it
SUMMARY:Prevenzione oncologica\, incontro a Gattatico
DESCRIPTION:Per il ciclo di incontri ‘Prevenzione e salute in piazza’\, Avis Gattatico vi invita sabato 23 marzo alle ore 15 presso il Centro Polivalente (via Cicalini 14 – Praticello di Gattatico) all’evento ‘Prevenzione Oncologica – alimentazione e movimento\, realtà e falsi miti‘. Il relatore è il dott. Storani Simone\, medico Ausl-Irrcs\, con il contributo della dott.ssa Piffer Anna\, psicologa-pricoterapeuta della Lilt di Reggio Emilia \nIngresso libero \nLa locandina dell’evento
URL:https://reggioemilia.avisemiliaromagna.it/evento/prevenzione-oncologica-incontro-a-gattatico/
CATEGORIES:Avis Gattatico,Incontro Informativo
ATTACH;FMTTYPE=image/jpeg:https://reggioemilia.avisemiliaromagna.it/wp-content/uploads/2019/03/gattatico55.jpg
END:VEVENT
BEGIN:VEVENT
DTSTART;TZID=Europe/Rome:20181216T093000
DTEND;TZID=Europe/Rome:20181216T123000
DTSTAMP:20260424T211744
CREATED:20181212T121356Z
LAST-MODIFIED:20181212T121455Z
UID:8342-1544952600-1544963400@reggioemilia.avisemiliaromagna.it
SUMMARY:Avis Gattatico\, Natale in Piazza
DESCRIPTION:Avis Gattatico invita tutti domenica 16\, in piazza Cervi a Gattatico\, per il Natale in Piazza! \nDalle 9.30 MERCATINI DI NATALE con Bancarelle delle scuole\, stand associazioni e banchi gastronomici \nOre 10.30 Canti di Natale dei bambini delle Scuole Primarie \nOre 11.30 Premiazione concorso PresepiAMO \nOre 12.00 Arrivo di BABBO NATALE \nDurante la mattinata:\nArtigianato artistico\nGioco dei tappi\nVin BruléIazza\nTorte\nCioccolata e frutta\nSgonfietti e zeppole\nStrauben\nCappelletti d’asporto\ne tanto altro… \nInfo: Pro Loco Gattatico \nLa locandina dell’evento
URL:https://reggioemilia.avisemiliaromagna.it/evento/avis-gattatico-natale-in-piazza/
CATEGORIES:Avis Gattatico
ATTACH;FMTTYPE=image/jpeg:https://reggioemilia.avisemiliaromagna.it/wp-content/uploads/2018/12/PresepiAMO-vis-Gatattico_hp.jpg
END:VEVENT
BEGIN:VEVENT
DTSTART;TZID=Europe/Rome:20181110T090000
DTEND;TZID=Europe/Rome:20181113T123000
DTSTAMP:20260424T211744
CREATED:20181022T104736Z
LAST-MODIFIED:20181022T122554Z
UID:7644-1541840400-1542112200@reggioemilia.avisemiliaromagna.it
SUMMARY:Nastro rosa\, prevenzione del tumore al seno
DESCRIPTION:PREVENZIONE DEL TUMORE AL SENO VISITE SENOLOGICHE GRATUITE\nda parte dei medici della LILT (Lega Italiana della Lotta contro i Tumori) \nSABATO 10 NOVEMBRE E MARTEDI’ 13 NOVEMBRE\ndalle ore 9.00 alle ore 12.30 presso la Sezione Avis di Gattatico\nVisite su prenotazione al numero 347 0320874 \n\nCon il Patrocinio del Comune di Gattatico ed in collaborazione con gli Esercizi Commerciali del paese\, che per l’occasione di tingeranno di ROSA per sostenere l’iniziativa \nSeguiranno a Marzo 2019:\n– serata informativa sul tumore al seno\n– camminata ROSA\, in collaborazione con la Compagnia Dal Reviot ANCeSCAO \n“Parlare di tumore al seno a volte è difficile\, ma necessario.La malattia non deve essere un tabù. La corretta informazione\, oggi più che mai…salva la VITA” cit. Umberto Veronesi \nLocandina dell’evento
URL:https://reggioemilia.avisemiliaromagna.it/evento/nastro-rosa-prevenzione-del-tumore-al-seno/
CATEGORIES:Avis Gattatico
ATTACH;FMTTYPE=image/jpeg:https://reggioemilia.avisemiliaromagna.it/wp-content/uploads/2018/10/gattatico_iniziativa_ok.jpg
END:VEVENT
BEGIN:VEVENT
DTSTART;TZID=Europe/Rome:20180923T093000
DTEND;TZID=Europe/Rome:20180923T120000
DTSTAMP:20260424T211744
CREATED:20180920T085741Z
LAST-MODIFIED:20180921T062954Z
UID:7436-1537695000-1537704000@reggioemilia.avisemiliaromagna.it
SUMMARY:Gazebo della Salute alla Fiera di San Matteo
DESCRIPTION:Domenica 23 settembre\, all’interno della 173^ Fiera di San Matteo di Gattatico\, ti aspettiamo dalle ore 9.30 alle ore 12.00 presso il Gazebo della Salute con Avis Gattatico.\nPotrai controllare gratuitamente pressione\, emoglobina\, glicemia e colesterolo con la supervisione di un medico dell’associazione\, che risponderà a tutti i tuoi quesiti.\nGli interessati si presentino a digiuno da zuccheri. \nCentro Polivalente Cicalini\, via Cicalini\, 14 – Praticello di Gattatico. \nLa locandina dell’evento
URL:https://reggioemilia.avisemiliaromagna.it/evento/gazebo-della-salute-alla-fiera-di-san-matteo/
CATEGORIES:Avis Gattatico
ATTACH;FMTTYPE=image/png:https://reggioemilia.avisemiliaromagna.it/wp-content/uploads/2018/09/FieraSanMatteo173.png
END:VEVENT
BEGIN:VEVENT
DTSTART;TZID=Europe/Rome:20180909T103000
DTEND;TZID=Europe/Rome:20180909T140000
DTSTAMP:20260424T211744
CREATED:20180830T080249Z
LAST-MODIFIED:20180830T080249Z
UID:7315-1536489000-1536501600@reggioemilia.avisemiliaromagna.it
SUMMARY:Avis di Gattatico fa 30 con lode!
DESCRIPTION:Avis Gattatico invita i suoi soci\, donatori\, volontari e amici a festeggiare insieme il trentennale della Sezione. \nDomenica 9 settembre 2018 \nDalle 10.45 Santa Messa del Donatore\n11.30 visita sezione e saluti autorità\n12.30 pranzo presso la Festa del Grano di Olmo \nIl pranzo è offerto ai soci\, mentre gli accompagnatori pagano 20€\, i bambini sotto 12 anni pagano 10€. \nÈ vivamente consigliata la prenotazione:\nEdicola della Piazza – Praticello\nBar Mony&Daniel\nTel. 3400959439 \nLa locandina dell’evento
URL:https://reggioemilia.avisemiliaromagna.it/evento/avis-di-gattatico-fa-30-con-lode/
CATEGORIES:Avis Gattatico,Festa sociale
ATTACH;FMTTYPE=image/jpeg:https://reggioemilia.avisemiliaromagna.it/wp-content/uploads/2018/08/gattatico_home.jpg
END:VEVENT
BEGIN:VEVENT
DTSTART;TZID=Europe/Rome:20180705T193000
DTEND;TZID=Europe/Rome:20180705T233000
DTSTAMP:20260424T211744
CREATED:20180702T151245Z
LAST-MODIFIED:20180702T151245Z
UID:6961-1530819000-1530833400@reggioemilia.avisemiliaromagna.it
SUMMARY:Gattatico\, magiche serate in piazza
DESCRIPTION:Burattini\, liscio\, stand della cocomera\, truccabimbi ed altre attrazioni giovedì 5 luglio in piazza a Praticello per la quarta serata di EstArte 2018. Non mancare.\nPer l’occasione\, Avis Gattatico vi aspetta in piazza con cocomera e aperitivo !!!!!! \n  \nla locandina dell’evento
URL:https://reggioemilia.avisemiliaromagna.it/evento/gattatico-magiche-serate-in-piazza/
CATEGORIES:Avis Gattatico
ATTACH;FMTTYPE=image/jpeg:https://reggioemilia.avisemiliaromagna.it/wp-content/uploads/2018/07/AvisGattatico-1.jpg
END:VEVENT
BEGIN:VEVENT
DTSTART;TZID=Europe/Rome:20180505T160000
DTEND;TZID=Europe/Rome:20180505T180000
DTSTAMP:20260424T211744
CREATED:20180423T115429Z
LAST-MODIFIED:20180423T115429Z
UID:6062-1525536000-1525543200@reggioemilia.avisemiliaromagna.it
SUMMARY:Ludopatia\, i problemi del gioco d'azzardo
DESCRIPTION:Proseguono gli appuntamenti con i ‘Pomeriggi della Salute‘ a Praticello di Gattatico.\nL’Avis locale\, insieme al Comune e all’Università del Tempo Libero\, vi aspettano sabato 5 maggio alle ore 16.00\, al Centro Polivalente di Praticello di Gattatico (via Cicalini 14) per parlare di ludopatia. \nIntroduce il dott. Liello Zocchi. Relatore il dott. Enrico Malferrari\, per il Centro sociale Papa Giovanni XXIII Scs onlus. \nIngresso libero \nLa locandina dell’evento
URL:https://reggioemilia.avisemiliaromagna.it/evento/ludopatia-i-problemi-del-gioco-dazzardo/
CATEGORIES:Avis Gattatico,Incontro Informativo
ATTACH;FMTTYPE=image/jpeg:https://reggioemilia.avisemiliaromagna.it/wp-content/uploads/2018/04/ludopatia.jpg
END:VEVENT
BEGIN:VEVENT
DTSTART;TZID=Europe/Rome:20180501T093000
DTEND;TZID=Europe/Rome:20180501T120000
DTSTAMP:20260424T211744
CREATED:20180424T094451Z
LAST-MODIFIED:20180424T094451Z
UID:6069-1525167000-1525176000@reggioemilia.avisemiliaromagna.it
SUMMARY:Gimkana Avis
DESCRIPTION:Martedì 1 maggio Avis Gattatico vi invita in piazza Cervi (Praticello)\, dalle ore 9\,30\, per la Gimkana Avis\, gara ad ostacoli da percorrere in bicicletta.\nA tutti i partecipanti verrà consegnata la medaglia di partecipazione.\nIscrizione gratuita \nDurante la manifestazione saranno in vendita le orchidee a sostegno di Unicef. \nIn collaborazione con la Ciclistica Gattatico \nLa locandina del’evento
URL:https://reggioemilia.avisemiliaromagna.it/evento/gimkana-avis/
CATEGORIES:Avis Gattatico
ATTACH;FMTTYPE=image/jpeg:https://reggioemilia.avisemiliaromagna.it/wp-content/uploads/2018/04/gimcana_home.jpg
END:VEVENT
BEGIN:VEVENT
DTSTART;TZID=Europe/Rome:20180324T160000
DTEND;TZID=Europe/Rome:20180324T183000
DTSTAMP:20260424T211744
CREATED:20180306T073908Z
LAST-MODIFIED:20180307T134321Z
UID:5679-1521907200-1521916200@reggioemilia.avisemiliaromagna.it
SUMMARY:Linfomi\, tutto quello che c'è da sapere
DESCRIPTION:Proseguono gli appuntamenti con i ‘Pomeriggi della Salute‘ a Praticello di Gattatico.\nL’Avis locale\, insieme al Comune e all’Università del Tempo Libero\, vi aspettano sabato 24 marzo alle ore 16.00\, al Centro Polivalente di Praticello di Gattatico (via Cicalini 14) per parlare di linfomi. \nIntroduce il dott. Liello Zocchi. Relatore il dott. Francesco Merli\, direttore S.C. Ematologia Dipartimento Oncologico e Tecnologie Avanzate Arcispedale Santa Maria Nuova – IRCCS di Reggio Emilia. \nDurante la conferenza saranno raccolti fondi a favore di GRADE – Gruppo Amici dell’Ematologia di Reggio Emilia. \nIngresso libero \nLa locandina dell’evento
URL:https://reggioemilia.avisemiliaromagna.it/evento/linfomi-quello-ce-sapere/
CATEGORIES:Avis Gattatico,Incontro Informativo
ATTACH;FMTTYPE=image/jpeg:https://reggioemilia.avisemiliaromagna.it/wp-content/uploads/2018/03/linfoma.jpg
END:VEVENT
BEGIN:VEVENT
DTSTART;TZID=Europe/Rome:20180106T150000
DTEND;TZID=Europe/Rome:20180106T180000
DTSTAMP:20260424T211744
CREATED:20180105T073026Z
LAST-MODIFIED:20180105T073026Z
UID:5467-1515250800-1515261600@reggioemilia.avisemiliaromagna.it
SUMMARY:Avis Gattatico: grande festa della Befana
DESCRIPTION:Sabato 6 gennaio\, a partire dalle ore 15\, Avis Gattatico vi aspetta alla Grande Festa della Befana presso il Centro Culturale Polivalente di Praticello di Gattatico (via Cicalini\, 14).\nSpettacolo del Mago Pitti e i capricci della simpatica Vecchietta.\nA seguire\, sorprese e doni per tutti i bambini. \nLa locandina dell’evento
URL:https://reggioemilia.avisemiliaromagna.it/evento/avis-gattatico-grande-festa-della-befana/
CATEGORIES:Avis Gattatico
ATTACH;FMTTYPE=image/jpeg:https://reggioemilia.avisemiliaromagna.it/wp-content/uploads/2018/01/befana_web.jpg
END:VEVENT
END:VCALENDAR