BEGIN:VCALENDAR
VERSION:2.0
PRODID:-//Avis Provinciale di Reggio Emilia ODV - ECPv6.15.13//NONSGML v1.0//EN
CALSCALE:GREGORIAN
METHOD:PUBLISH
X-WR-CALNAME:Avis Provinciale di Reggio Emilia ODV
X-ORIGINAL-URL:https://reggioemilia.avisemiliaromagna.it
X-WR-CALDESC:Eventi per Avis Provinciale di Reggio Emilia ODV
REFRESH-INTERVAL;VALUE=DURATION:PT1H
X-Robots-Tag:noindex
X-PUBLISHED-TTL:PT1H
BEGIN:VTIMEZONE
TZID:Europe/Rome
BEGIN:DAYLIGHT
TZOFFSETFROM:+0100
TZOFFSETTO:+0200
TZNAME:CEST
DTSTART:20180325T010000
END:DAYLIGHT
BEGIN:STANDARD
TZOFFSETFROM:+0200
TZOFFSETTO:+0100
TZNAME:CET
DTSTART:20181028T010000
END:STANDARD
BEGIN:DAYLIGHT
TZOFFSETFROM:+0100
TZOFFSETTO:+0200
TZNAME:CEST
DTSTART:20190331T010000
END:DAYLIGHT
BEGIN:STANDARD
TZOFFSETFROM:+0200
TZOFFSETTO:+0100
TZNAME:CET
DTSTART:20191027T010000
END:STANDARD
BEGIN:DAYLIGHT
TZOFFSETFROM:+0100
TZOFFSETTO:+0200
TZNAME:CEST
DTSTART:20200329T010000
END:DAYLIGHT
BEGIN:STANDARD
TZOFFSETFROM:+0200
TZOFFSETTO:+0100
TZNAME:CET
DTSTART:20201025T010000
END:STANDARD
END:VTIMEZONE
BEGIN:VEVENT
DTSTART;TZID=Europe/Rome:20191207T160000
DTEND;TZID=Europe/Rome:20191207T190000
DTSTAMP:20260424T212417
CREATED:20191120T144242Z
LAST-MODIFIED:20191120T144242Z
UID:10195-1575734400-1575745200@reggioemilia.avisemiliaromagna.it
SUMMARY:Notte di Luce 2019 a Sant'Ilario
DESCRIPTION:Il Comune di Sant’Ilario d’Enza aderisce SABATO 7 DICEMBRE e promuove “Notte di Luce”\, evento ideato da Comune di Reggio nell’Emilia e Reggio Emilia Città Senza Barriere. \nNotte di Luce è un evento realizato in occasione della “Giornata Internazionale delle Persone con Disabilità” che\, attraverso la metafora della luce\, vuole promuovere il valore della differenza e l’attenzione verso le persone. \nIl programma \nore 16.00: narrazione presso il centro diurno Aventia (via Roma 20) con Le Civette sul Comò \ndalle ore 16.45: ritrovo in piazza dei ragazzi delle Scuole Primarie per l’accensione delle candele \nore 17.15: musica dal vivo con i Century Light \nore 17.30 : lettura Scenica con Teatro l’Attesa. Esibizioni di Danza Moderna con coreografia di Elisa Tonelli della Scuola EIDOS DANZA. \nore 18.00: accensione Albero di Natale della Piazza \nLa presente edizione è organizzata dall’Amministrazione Comunale e realizzata da GIS Genitori per l’Inclusione Sociale\, Le civette sul Comò\, Teatro l’Attesa\, Proloco Sant’Ilario d’Enza\, Istituto Comprensivo S. Ilario\, A. P. Croce Bianca\, Unità Pastorale S.Ilario-Caleno\, Avis comunale di Sant’ilario d’Enza ODV\, Avis Calerno Odv
URL:https://reggioemilia.avisemiliaromagna.it/evento/notte-di-luce-2019-a-santilario/
CATEGORIES:Avis Calerno,Avis S. Ilario
ATTACH;FMTTYPE=image/jpeg:https://reggioemilia.avisemiliaromagna.it/wp-content/uploads/2019/11/notti-luce.jpg
END:VEVENT
END:VCALENDAR