BEGIN:VCALENDAR
VERSION:2.0
PRODID:-//Avis Provinciale di Reggio Emilia ODV - ECPv6.15.13//NONSGML v1.0//EN
CALSCALE:GREGORIAN
METHOD:PUBLISH
X-ORIGINAL-URL:https://reggioemilia.avisemiliaromagna.it
X-WR-CALDESC:Eventi per Avis Provinciale di Reggio Emilia ODV
REFRESH-INTERVAL;VALUE=DURATION:PT1H
X-Robots-Tag:noindex
X-PUBLISHED-TTL:PT1H
BEGIN:VTIMEZONE
TZID:Europe/Rome
BEGIN:DAYLIGHT
TZOFFSETFROM:+0100
TZOFFSETTO:+0200
TZNAME:CEST
DTSTART:20180325T010000
END:DAYLIGHT
BEGIN:STANDARD
TZOFFSETFROM:+0200
TZOFFSETTO:+0100
TZNAME:CET
DTSTART:20181028T010000
END:STANDARD
BEGIN:DAYLIGHT
TZOFFSETFROM:+0100
TZOFFSETTO:+0200
TZNAME:CEST
DTSTART:20190331T010000
END:DAYLIGHT
BEGIN:STANDARD
TZOFFSETFROM:+0200
TZOFFSETTO:+0100
TZNAME:CET
DTSTART:20191027T010000
END:STANDARD
BEGIN:DAYLIGHT
TZOFFSETFROM:+0100
TZOFFSETTO:+0200
TZNAME:CEST
DTSTART:20200329T010000
END:DAYLIGHT
BEGIN:STANDARD
TZOFFSETFROM:+0200
TZOFFSETTO:+0100
TZNAME:CET
DTSTART:20201025T010000
END:STANDARD
END:VTIMEZONE
BEGIN:VEVENT
DTSTART;TZID=Europe/Rome:20190921T173000
DTEND;TZID=Europe/Rome:20190921T193000
DTSTAMP:20260425T003344
CREATED:20190904T125609Z
LAST-MODIFIED:20190904T125609Z
UID:9771-1569087000-1569094200@reggioemilia.avisemiliaromagna.it
SUMMARY:Avis Correggio\, consegna benemerenze
DESCRIPTION:Sabato 21 settembre\, dalle ore17.30\, presso il Cortile del Palazzo dei Principi\, Avis Comunale di Correggio OdV premierà i donatori che hanno raggiunto il ragguardevole traguardo di 50\, 75 e 100 donazioni! \nVi aspettiamo in tanti per festeggiare i SUPER AVISINI ! \nAperitivo per tutti ed informazioni e gadget per chi vorrà iscriversi all’associazione. \nLa locandina e  l’evento su facebook
URL:https://reggioemilia.avisemiliaromagna.it/evento/avis-correggio-consegna-benemerenze/
CATEGORIES:Avis Correggio
ATTACH;FMTTYPE=image/jpeg:https://reggioemilia.avisemiliaromagna.it/wp-content/uploads/2019/09/69067620_2749349565077583_3507184012315590656_n.jpg
END:VEVENT
END:VCALENDAR