BEGIN:VCALENDAR
VERSION:2.0
PRODID:-//Avis Provinciale di Reggio Emilia ODV - ECPv6.15.13//NONSGML v1.0//EN
CALSCALE:GREGORIAN
METHOD:PUBLISH
X-WR-CALNAME:Avis Provinciale di Reggio Emilia ODV
X-ORIGINAL-URL:https://reggioemilia.avisemiliaromagna.it
X-WR-CALDESC:Eventi per Avis Provinciale di Reggio Emilia ODV
REFRESH-INTERVAL;VALUE=DURATION:PT1H
X-Robots-Tag:noindex
X-PUBLISHED-TTL:PT1H
BEGIN:VTIMEZONE
TZID:Europe/Rome
BEGIN:DAYLIGHT
TZOFFSETFROM:+0100
TZOFFSETTO:+0200
TZNAME:CEST
DTSTART:20160327T010000
END:DAYLIGHT
BEGIN:STANDARD
TZOFFSETFROM:+0200
TZOFFSETTO:+0100
TZNAME:CET
DTSTART:20161030T010000
END:STANDARD
BEGIN:DAYLIGHT
TZOFFSETFROM:+0100
TZOFFSETTO:+0200
TZNAME:CEST
DTSTART:20170326T010000
END:DAYLIGHT
BEGIN:STANDARD
TZOFFSETFROM:+0200
TZOFFSETTO:+0100
TZNAME:CET
DTSTART:20171029T010000
END:STANDARD
BEGIN:DAYLIGHT
TZOFFSETFROM:+0100
TZOFFSETTO:+0200
TZNAME:CEST
DTSTART:20180325T010000
END:DAYLIGHT
BEGIN:STANDARD
TZOFFSETFROM:+0200
TZOFFSETTO:+0100
TZNAME:CET
DTSTART:20181028T010000
END:STANDARD
BEGIN:DAYLIGHT
TZOFFSETFROM:+0100
TZOFFSETTO:+0200
TZNAME:CEST
DTSTART:20190331T010000
END:DAYLIGHT
BEGIN:STANDARD
TZOFFSETFROM:+0200
TZOFFSETTO:+0100
TZNAME:CET
DTSTART:20191027T010000
END:STANDARD
BEGIN:DAYLIGHT
TZOFFSETFROM:+0100
TZOFFSETTO:+0200
TZNAME:CEST
DTSTART:20200329T010000
END:DAYLIGHT
BEGIN:STANDARD
TZOFFSETFROM:+0200
TZOFFSETTO:+0100
TZNAME:CET
DTSTART:20201025T010000
END:STANDARD
END:VTIMEZONE
BEGIN:VEVENT
DTSTART;TZID=Europe/Rome:20190624T200000
DTEND;TZID=Europe/Rome:20190624T233000
DTSTAMP:20260425T034717
CREATED:20190617T121816Z
LAST-MODIFIED:20190617T121816Z
UID:9248-1561406400-1561419000@reggioemilia.avisemiliaromagna.it
SUMMARY:Avis Cavriago\, Tortellata di S. Giovanni
DESCRIPTION:LUNEDI’ 24 GIUGNO (patrono di Cavriago) “TORTELLATA DI S. GIOVANNI” organizzata da Circolo Area Feste (via Bassetta 11/E) e Avis Cavriago \nore 20.00 inizio serata \nSIMONA ci accopagnerà con musica live \nPER PRENOTAZIONI 333 23.71.179 \nLa locandina dell’evento \nL’evento su facebook
URL:https://reggioemilia.avisemiliaromagna.it/evento/avis-cavriago-tortellata-di-s-giovanni/
CATEGORIES:Avis Cavriago,Cena
ATTACH;FMTTYPE=image/jpeg:https://reggioemilia.avisemiliaromagna.it/wp-content/uploads/2019/06/tortellata_home.jpg
END:VEVENT
BEGIN:VEVENT
DTSTART;TZID=Europe/Rome:20190303T150000
DTEND;TZID=Europe/Rome:20190303T223000
DTSTAMP:20260425T034717
CREATED:20190228T100546Z
LAST-MODIFIED:20190228T100546Z
UID:8513-1551625200-1551652200@reggioemilia.avisemiliaromagna.it
SUMMARY:Avis Cavriago\, Carnevale è con Mary Poppins
DESCRIPTION:Quest’anno il Carnevale è con Avis Cavriago e MARY POPPINS! Domenica 3 Marzo\, dalle ore 15.00\, non prendete impegni\, Mary Poppins arriva all’Area Feste di Cavriago! \nDalle ore 16.00 gnocco fritto. \nDalle ore 16.30 merenda offerta a tutti i bambini. \nDalle ore 19.30 possibilità di cenare con gnocco e salumi \nIngresso offerta libera \nInfo: 333.2371179\nwww.aviscavriago.it \nCircolo Area Feste\nVia Bassetta\, 11/E – Cavriago\nZona Parco delo Sport \nLa locandina dell’evento
URL:https://reggioemilia.avisemiliaromagna.it/evento/avis-cavriago-carnevale-e-con-mary-poppins/
ATTACH;FMTTYPE=image/jpeg:https://reggioemilia.avisemiliaromagna.it/wp-content/uploads/2019/02/Cavriago2.jpg
END:VEVENT
BEGIN:VEVENT
DTSTART;TZID=Europe/Rome:20171021T200000
DTEND;TZID=Europe/Rome:20171021T200000
DTSTAMP:20260425T034717
CREATED:20171010T142423Z
LAST-MODIFIED:20171010T144559Z
UID:5011-1508616000-1508616000@reggioemilia.avisemiliaromagna.it
SUMMARY:Cavriago\, 'Ma Noi No' in concerto
DESCRIPTION:La tribute band reggiana dei Nomadi fa tappa sabato 21 ottobre all’Area Feste di Cavriago\nAvis Cavriago organizza un concerto in collaborazione con i MA NOI NO\, sabato 21 ottobre dalle ore 20.00\, ingresso con cena a menù fisso € 23\,00 dalle ore 22\,00 ingresso solo concerto € 10\,00. Prenotazione obbligatoria al 333 23.71.179 \nArea Feste Cavriago\nVia Bassetta 11/E\, 42025 Cavriago
URL:https://reggioemilia.avisemiliaromagna.it/evento/cavriago-no-concerto/
LOCATION:Area Feste Cavriago\, Via Bassetta 11/\, Cavriago\, Italia
CATEGORIES:Avis Cavriago,Concerto
ATTACH;FMTTYPE=image/jpeg:https://reggioemilia.avisemiliaromagna.it/wp-content/uploads/2017/09/manoino_avis.jpg
END:VEVENT
END:VCALENDAR