BEGIN:VCALENDAR
VERSION:2.0
PRODID:-//Avis Provinciale di Reggio Emilia ODV - ECPv6.15.13//NONSGML v1.0//EN
CALSCALE:GREGORIAN
METHOD:PUBLISH
X-ORIGINAL-URL:https://reggioemilia.avisemiliaromagna.it
X-WR-CALDESC:Eventi per Avis Provinciale di Reggio Emilia ODV
REFRESH-INTERVAL;VALUE=DURATION:PT1H
X-Robots-Tag:noindex
X-PUBLISHED-TTL:PT1H
BEGIN:VTIMEZONE
TZID:Europe/Rome
BEGIN:DAYLIGHT
TZOFFSETFROM:+0100
TZOFFSETTO:+0200
TZNAME:CEST
DTSTART:20170326T010000
END:DAYLIGHT
BEGIN:STANDARD
TZOFFSETFROM:+0200
TZOFFSETTO:+0100
TZNAME:CET
DTSTART:20171029T010000
END:STANDARD
BEGIN:DAYLIGHT
TZOFFSETFROM:+0100
TZOFFSETTO:+0200
TZNAME:CEST
DTSTART:20180325T010000
END:DAYLIGHT
BEGIN:STANDARD
TZOFFSETFROM:+0200
TZOFFSETTO:+0100
TZNAME:CET
DTSTART:20181028T010000
END:STANDARD
BEGIN:DAYLIGHT
TZOFFSETFROM:+0100
TZOFFSETTO:+0200
TZNAME:CEST
DTSTART:20190331T010000
END:DAYLIGHT
BEGIN:STANDARD
TZOFFSETFROM:+0200
TZOFFSETTO:+0100
TZNAME:CET
DTSTART:20191027T010000
END:STANDARD
END:VTIMEZONE
BEGIN:VEVENT
DTSTART;TZID=Europe/Rome:20180224T193000
DTEND;TZID=Europe/Rome:20180224T233000
DTSTAMP:20260425T034851
CREATED:20180130T080717Z
LAST-MODIFIED:20180130T080717Z
UID:5523-1519500600-1519515000@reggioemilia.avisemiliaromagna.it
SUMMARY:Castelnovo nè Monti\, Festa del donatore Avis
DESCRIPTION:Sabato 24 febbraio\, Avis Castelnovo nè Monti festeggia i donatori!\nDalle ore 19.30 assemblea\, ore 20.00 cena presso il Parco Tegge con opportunità di entrare in balera con l’Orchestra Ivana Group. \nNell’occasione\, alla presenza delle autorità cittadine e dell’associazione\, verranno premiati i donatori che quest’anno hanno raggiunto i traguardi di donazioni e di attività previsti dallo statuto. \nVi aspettiamo numerosi! \nLa locandina dell’evento
URL:https://reggioemilia.avisemiliaromagna.it/evento/castelnovo-ne-monti-festa-del-donatore-avis/
CATEGORIES:Avis Castelnovo nè Monti
ATTACH;FMTTYPE=image/jpeg:https://reggioemilia.avisemiliaromagna.it/wp-content/uploads/2018/01/festa_cast_web.jpg
END:VEVENT
END:VCALENDAR