BEGIN:VCALENDAR
VERSION:2.0
PRODID:-//Avis Provinciale di Reggio Emilia ODV - ECPv6.15.13//NONSGML v1.0//EN
CALSCALE:GREGORIAN
METHOD:PUBLISH
X-WR-CALNAME:Avis Provinciale di Reggio Emilia ODV
X-ORIGINAL-URL:https://reggioemilia.avisemiliaromagna.it
X-WR-CALDESC:Eventi per Avis Provinciale di Reggio Emilia ODV
REFRESH-INTERVAL;VALUE=DURATION:PT1H
X-Robots-Tag:noindex
X-PUBLISHED-TTL:PT1H
BEGIN:VTIMEZONE
TZID:Europe/Rome
BEGIN:DAYLIGHT
TZOFFSETFROM:+0100
TZOFFSETTO:+0200
TZNAME:CEST
DTSTART:20180325T010000
END:DAYLIGHT
BEGIN:STANDARD
TZOFFSETFROM:+0200
TZOFFSETTO:+0100
TZNAME:CET
DTSTART:20181028T010000
END:STANDARD
BEGIN:DAYLIGHT
TZOFFSETFROM:+0100
TZOFFSETTO:+0200
TZNAME:CEST
DTSTART:20190331T010000
END:DAYLIGHT
BEGIN:STANDARD
TZOFFSETFROM:+0200
TZOFFSETTO:+0100
TZNAME:CET
DTSTART:20191027T010000
END:STANDARD
BEGIN:DAYLIGHT
TZOFFSETFROM:+0100
TZOFFSETTO:+0200
TZNAME:CEST
DTSTART:20200329T010000
END:DAYLIGHT
BEGIN:STANDARD
TZOFFSETFROM:+0200
TZOFFSETTO:+0100
TZNAME:CET
DTSTART:20201025T010000
END:STANDARD
END:VTIMEZONE
BEGIN:VEVENT
DTSTART;TZID=Europe/Rome:20191205T203000
DTEND;TZID=Europe/Rome:20191205T230000
DTSTAMP:20260424T194420
CREATED:20191125T134159Z
LAST-MODIFIED:20191125T134159Z
UID:10208-1575577800-1575586800@reggioemilia.avisemiliaromagna.it
SUMMARY:Ruolo ed importanza del Primo Soccorso
DESCRIPTION:Nuovo appuntamento con Avis Comunale di Casina OdV e con “InvestiAMO sullo STAR BENE“\, impariamo ad essere sempre più protagonisti della nostra salute.\nGiovedì 5 dicembre si parlerà di “PRIMO SOCCORSO: ruolo e importanza nel nostro territorio” insieme al presidente C.R.I. Casina Andrea Soncini e al dott. Mirco Ghirelli\n\nIntroduce i temi della serata il dott. Walter Vezzosi\, direttore sanitario di Avis Comunale di Casina OdV. \nSi inizia alle ore 20.30. \nLa locandina del ciclo di incontri “InvestiAMO sullo STAR BENE“ \nGli incontri si terranno a Casina nella Sala dei Principi\, via Matteotti 2. L’invito è rivolto a tutta la popolazione.
URL:https://reggioemilia.avisemiliaromagna.it/evento/ruolo-ed-importanza-del-primo-soccorso/
CATEGORIES:Avis Casina
ATTACH;FMTTYPE=image/jpeg:https://reggioemilia.avisemiliaromagna.it/wp-content/uploads/2019/11/soccorso.jpg
END:VEVENT
END:VCALENDAR