BEGIN:VCALENDAR
VERSION:2.0
PRODID:-//Avis Provinciale di Reggio Emilia ODV - ECPv6.15.13//NONSGML v1.0//EN
CALSCALE:GREGORIAN
METHOD:PUBLISH
X-ORIGINAL-URL:https://reggioemilia.avisemiliaromagna.it
X-WR-CALDESC:Eventi per Avis Provinciale di Reggio Emilia ODV
REFRESH-INTERVAL;VALUE=DURATION:PT1H
X-Robots-Tag:noindex
X-PUBLISHED-TTL:PT1H
BEGIN:VTIMEZONE
TZID:Europe/Rome
BEGIN:DAYLIGHT
TZOFFSETFROM:+0100
TZOFFSETTO:+0200
TZNAME:CEST
DTSTART:20170326T010000
END:DAYLIGHT
BEGIN:STANDARD
TZOFFSETFROM:+0200
TZOFFSETTO:+0100
TZNAME:CET
DTSTART:20171029T010000
END:STANDARD
BEGIN:DAYLIGHT
TZOFFSETFROM:+0100
TZOFFSETTO:+0200
TZNAME:CEST
DTSTART:20180325T010000
END:DAYLIGHT
BEGIN:STANDARD
TZOFFSETFROM:+0200
TZOFFSETTO:+0100
TZNAME:CET
DTSTART:20181028T010000
END:STANDARD
BEGIN:DAYLIGHT
TZOFFSETFROM:+0100
TZOFFSETTO:+0200
TZNAME:CEST
DTSTART:20190331T010000
END:DAYLIGHT
BEGIN:STANDARD
TZOFFSETFROM:+0200
TZOFFSETTO:+0100
TZNAME:CET
DTSTART:20191027T010000
END:STANDARD
END:VTIMEZONE
BEGIN:VEVENT
DTSTART;TZID=Europe/Rome:20180421T110000
DTEND;TZID=Europe/Rome:20180421T123000
DTSTAMP:20260424T225106
CREATED:20180419T081100Z
LAST-MODIFIED:20180419T081751Z
UID:6040-1524308400-1524313800@reggioemilia.avisemiliaromagna.it
SUMMARY:Cuore al sicuro con Avis Calerno
DESCRIPTION:Il Comune di Sant’ilario D’Enza e la Lineaconfort medicali hanno realizzato il Progetto “CUOREALSICURO” in favore della Comunità.\nLe Aziende del territorio e le relative frazioni hanno aderito a questo nobile progetto acquistando uno o più defibrillatori per la propria azienda oppure pubblicando il loro logo sui totem che conterranno i defibrillatori messi a disposizione per la comunità. Tra gli aderenti a questa nobile iniziativa\, anche le associazioni Avis Calerno e Aido Calerno. \nSabato 21 aprile alle ore 11.00\, alla presenza del sindaco Marcello Moretti\, vi sarà l’Inaugurazione del Totem con l’installazione del defibrillatore presso la P.zza Carlo Alberto dalla Chiesa di Calerno.
URL:https://reggioemilia.avisemiliaromagna.it/evento/cuore-al-sicuro/
CATEGORIES:Aido,Avis Calerno,Inaugurazione
ATTACH;FMTTYPE=image/jpeg:https://reggioemilia.avisemiliaromagna.it/wp-content/uploads/2018/04/totem2_ok.jpg
END:VEVENT
END:VCALENDAR