BEGIN:VCALENDAR
VERSION:2.0
PRODID:-//Avis Provinciale di Reggio Emilia ODV - ECPv6.15.13//NONSGML v1.0//EN
CALSCALE:GREGORIAN
METHOD:PUBLISH
X-ORIGINAL-URL:https://reggioemilia.avisemiliaromagna.it
X-WR-CALDESC:Eventi per Avis Provinciale di Reggio Emilia ODV
REFRESH-INTERVAL;VALUE=DURATION:PT1H
X-Robots-Tag:noindex
X-PUBLISHED-TTL:PT1H
BEGIN:VTIMEZONE
TZID:Europe/Rome
BEGIN:DAYLIGHT
TZOFFSETFROM:+0100
TZOFFSETTO:+0200
TZNAME:CEST
DTSTART:20160327T010000
END:DAYLIGHT
BEGIN:STANDARD
TZOFFSETFROM:+0200
TZOFFSETTO:+0100
TZNAME:CET
DTSTART:20161030T010000
END:STANDARD
BEGIN:DAYLIGHT
TZOFFSETFROM:+0100
TZOFFSETTO:+0200
TZNAME:CEST
DTSTART:20170326T010000
END:DAYLIGHT
BEGIN:STANDARD
TZOFFSETFROM:+0200
TZOFFSETTO:+0100
TZNAME:CET
DTSTART:20171029T010000
END:STANDARD
BEGIN:DAYLIGHT
TZOFFSETFROM:+0100
TZOFFSETTO:+0200
TZNAME:CEST
DTSTART:20180325T010000
END:DAYLIGHT
BEGIN:STANDARD
TZOFFSETFROM:+0200
TZOFFSETTO:+0100
TZNAME:CET
DTSTART:20181028T010000
END:STANDARD
END:VTIMEZONE
BEGIN:VEVENT
DTSTART;TZID=Europe/Rome:20171028T160000
DTEND;TZID=Europe/Rome:20171028T160000
DTSTAMP:20260425T035412
CREATED:20171013T141423Z
LAST-MODIFIED:20171016T120839Z
UID:5069-1509206400-1509206400@reggioemilia.avisemiliaromagna.it
SUMMARY:Avis Bibbiano\, trent'anni di Solidarietà
DESCRIPTION:Avis Comunale Bibbiano celebra sabato 28 ottobre il suo 30° anniversario di fondazione\n1987-2017: Avis Bibbiano sabato 28 ottobre festeggerà i suoi 30 anni di solidarietà e lo farà in grande stile! \nIl programma: \nore 16:00\nSanta Messa nella chiesa S. Maria Assunta in memoria di tutti gli avisini\nore 17:00\nFormazione del corteo accompagnato da “Gli Ottoni Matildici”\nore 17:15\nDeposizione corona di alloro\nal Monumento ai Caduti\nore 17:30 Teatro Metropolis\nSaluto delle autorità\nConsegna onorificenze\nore 19:00\nRinfresco offerto da AVIS \nper informazioni: avisbibbiano@libero.it
URL:https://reggioemilia.avisemiliaromagna.it/evento/avis-bibbiano-30-solidarieta/
CATEGORIES:Anniversario fondazione,Avis Bibbiano
ATTACH;FMTTYPE=image/jpeg:https://reggioemilia.avisemiliaromagna.it/wp-content/uploads/2017/10/Bibbiano30.jpg
END:VEVENT
END:VCALENDAR