BEGIN:VCALENDAR
VERSION:2.0
PRODID:-//Avis Provinciale di Reggio Emilia ODV - ECPv6.15.13//NONSGML v1.0//EN
CALSCALE:GREGORIAN
METHOD:PUBLISH
X-WR-CALNAME:Avis Provinciale di Reggio Emilia ODV
X-ORIGINAL-URL:https://reggioemilia.avisemiliaromagna.it
X-WR-CALDESC:Eventi per Avis Provinciale di Reggio Emilia ODV
REFRESH-INTERVAL;VALUE=DURATION:PT1H
X-Robots-Tag:noindex
X-PUBLISHED-TTL:PT1H
BEGIN:VTIMEZONE
TZID:Europe/Rome
BEGIN:DAYLIGHT
TZOFFSETFROM:+0100
TZOFFSETTO:+0200
TZNAME:CEST
DTSTART:20180325T010000
END:DAYLIGHT
BEGIN:STANDARD
TZOFFSETFROM:+0200
TZOFFSETTO:+0100
TZNAME:CET
DTSTART:20181028T010000
END:STANDARD
BEGIN:DAYLIGHT
TZOFFSETFROM:+0100
TZOFFSETTO:+0200
TZNAME:CEST
DTSTART:20190331T010000
END:DAYLIGHT
BEGIN:STANDARD
TZOFFSETFROM:+0200
TZOFFSETTO:+0100
TZNAME:CET
DTSTART:20191027T010000
END:STANDARD
BEGIN:DAYLIGHT
TZOFFSETFROM:+0100
TZOFFSETTO:+0200
TZNAME:CEST
DTSTART:20200329T010000
END:DAYLIGHT
BEGIN:STANDARD
TZOFFSETFROM:+0200
TZOFFSETTO:+0100
TZNAME:CET
DTSTART:20201025T010000
END:STANDARD
END:VTIMEZONE
BEGIN:VEVENT
DTSTART;TZID=Europe/Rome:20190921T180000
DTEND;TZID=Europe/Rome:20190922T230000
DTSTAMP:20260425T020853
CREATED:20190918T144622Z
LAST-MODIFIED:20190918T144622Z
UID:9851-1569088800-1569193200@reggioemilia.avisemiliaromagna.it
SUMMARY:Torneo di calcio a 7 - 1° memorial "Renato Trolli"
DESCRIPTION:L’Avis Comunale di Bibbiano ODV vi aspetta al 1° Memorial “Renato Trolli” per un bellissimo torneo di calcio a 7 (richieste almeno 3 donne e giocatori maggiorenni). \nIl torneo si svolgerà sabato 21 e domenica 22 Settembre dalle ore 18 in via Montefiorino\, 1 a Ghiardo di Bibbiano (RE) presso il campo da calcio del Circolo Arci Ghiardo. \nQuota di partecipazione: 10 euro a persona. \nAl termine del torneo saranno premiate le prime tre squadre classificate. \nDurante l’evento sarà presente un piccolo punto ristoro con gnocco fritto\, salumi e hamburger. \nInfo e iscrizioni\nEmail: info@avisbibbiano.it\nSito internet: www.avisbibbiano.it\nFederico: 346 849 7941\nElisa: 339 342 4081 \nL’intero ricavato sarà devoluto all’AUSER di Bibbiano per l’acquisto di un nuovo pulmino. \nLocandina\n\n\n\n    \n        \n            \n        \n        \n            \n                [Locandina] Torneo di calcio a 7 - 1° memorial "Renato Trolli"\n                \n                     841.80 KB\n                     4 downloads\n                \n            \n            ...\n        \n        \n            Download
URL:https://reggioemilia.avisemiliaromagna.it/evento/torneo-di-calcio-a-7-1-memorial-renato-trolli/
LOCATION:Ghiardo di Bibbiano\, Via Montefiorino\, 1\, Ghiardo di Bibbiano\, Reggio nell'Emilia\, Italia
CATEGORIES:Avis Bibbiano,Torneo di calcio
ATTACH;FMTTYPE=image/jpeg:https://reggioemilia.avisemiliaromagna.it/wp-content/uploads/2019/09/1°-memorial-Renato-Trolli-e1568817850653.jpg
END:VEVENT
END:VCALENDAR