BEGIN:VCALENDAR
VERSION:2.0
PRODID:-//Avis Provinciale di Reggio Emilia ODV - ECPv6.15.13//NONSGML v1.0//EN
CALSCALE:GREGORIAN
METHOD:PUBLISH
X-WR-CALNAME:Avis Provinciale di Reggio Emilia ODV
X-ORIGINAL-URL:https://reggioemilia.avisemiliaromagna.it
X-WR-CALDESC:Eventi per Avis Provinciale di Reggio Emilia ODV
REFRESH-INTERVAL;VALUE=DURATION:PT1H
X-Robots-Tag:noindex
X-PUBLISHED-TTL:PT1H
BEGIN:VTIMEZONE
TZID:Europe/Rome
BEGIN:DAYLIGHT
TZOFFSETFROM:+0100
TZOFFSETTO:+0200
TZNAME:CEST
DTSTART:20160327T010000
END:DAYLIGHT
BEGIN:STANDARD
TZOFFSETFROM:+0200
TZOFFSETTO:+0100
TZNAME:CET
DTSTART:20161030T010000
END:STANDARD
BEGIN:DAYLIGHT
TZOFFSETFROM:+0100
TZOFFSETTO:+0200
TZNAME:CEST
DTSTART:20170326T010000
END:DAYLIGHT
BEGIN:STANDARD
TZOFFSETFROM:+0200
TZOFFSETTO:+0100
TZNAME:CET
DTSTART:20171029T010000
END:STANDARD
BEGIN:DAYLIGHT
TZOFFSETFROM:+0100
TZOFFSETTO:+0200
TZNAME:CEST
DTSTART:20180325T010000
END:DAYLIGHT
BEGIN:STANDARD
TZOFFSETFROM:+0200
TZOFFSETTO:+0100
TZNAME:CET
DTSTART:20181028T010000
END:STANDARD
END:VTIMEZONE
BEGIN:VEVENT
DTSTART;TZID=Europe/Rome:20171028T160000
DTEND;TZID=Europe/Rome:20171028T160000
DTSTAMP:20260426T035424
CREATED:20171018T064228Z
LAST-MODIFIED:20171018T064228Z
UID:5120-1509206400-1509206400@reggioemilia.avisemiliaromagna.it
SUMMARY:A Gattatico si parla di antibiotici
DESCRIPTION:Sabato 28\, al Centro Polivalente di Praticello di Gattatico\, nuovo appuntamento con i ‘Pomeriggi della salute’ insieme al dott. Zocchi e al dott. Ragni\nProseguono gli appuntamenti con i ‘Pomeriggi della Salute‘ a Praticello di Gattatico.\nL’Avis locale\, insieme al Comune e all’Università del Tempo Libero\, vi aspettano sabato 28 ottobre alle ore 16.00\, al Centro Polivalente di Praticello di Gattatico (via Cicalini 14) per parlare di antibiotici. \nIntroduce il dott. Liello Zocchi. Relatore il dott. Pietro Ragni\, resp. Area Rischio clinico\, Coordinatore comitato interaziendale Rischio Infettivo Struttura Governo Clinico Azienda Usl di Reggio Emilia \nLa locandina dell’evento \nIngresso libero.
URL:https://reggioemilia.avisemiliaromagna.it/evento/gattatico-si-parla-antibiotici/
CATEGORIES:Avis Gattatico,Pomeriggi della Salute
ATTACH;FMTTYPE=image/jpeg:https://reggioemilia.avisemiliaromagna.it/wp-content/uploads/2017/10/gattattico_home.jpg
END:VEVENT
END:VCALENDAR