BEGIN:VCALENDAR
VERSION:2.0
PRODID:-//Avis Provinciale di Reggio Emilia ODV - ECPv6.15.13//NONSGML v1.0//EN
CALSCALE:GREGORIAN
METHOD:PUBLISH
X-WR-CALNAME:Avis Provinciale di Reggio Emilia ODV
X-ORIGINAL-URL:https://reggioemilia.avisemiliaromagna.it
X-WR-CALDESC:Eventi per Avis Provinciale di Reggio Emilia ODV
REFRESH-INTERVAL;VALUE=DURATION:PT1H
X-Robots-Tag:noindex
X-PUBLISHED-TTL:PT1H
BEGIN:VTIMEZONE
TZID:Europe/Rome
BEGIN:DAYLIGHT
TZOFFSETFROM:+0100
TZOFFSETTO:+0200
TZNAME:CEST
DTSTART:20160327T010000
END:DAYLIGHT
BEGIN:STANDARD
TZOFFSETFROM:+0200
TZOFFSETTO:+0100
TZNAME:CET
DTSTART:20161030T010000
END:STANDARD
BEGIN:DAYLIGHT
TZOFFSETFROM:+0100
TZOFFSETTO:+0200
TZNAME:CEST
DTSTART:20170326T010000
END:DAYLIGHT
BEGIN:STANDARD
TZOFFSETFROM:+0200
TZOFFSETTO:+0100
TZNAME:CET
DTSTART:20171029T010000
END:STANDARD
BEGIN:DAYLIGHT
TZOFFSETFROM:+0100
TZOFFSETTO:+0200
TZNAME:CEST
DTSTART:20180325T010000
END:DAYLIGHT
BEGIN:STANDARD
TZOFFSETFROM:+0200
TZOFFSETTO:+0100
TZNAME:CET
DTSTART:20181028T010000
END:STANDARD
BEGIN:DAYLIGHT
TZOFFSETFROM:+0100
TZOFFSETTO:+0200
TZNAME:CEST
DTSTART:20190331T010000
END:DAYLIGHT
BEGIN:STANDARD
TZOFFSETFROM:+0200
TZOFFSETTO:+0100
TZNAME:CET
DTSTART:20191027T010000
END:STANDARD
BEGIN:DAYLIGHT
TZOFFSETFROM:+0100
TZOFFSETTO:+0200
TZNAME:CEST
DTSTART:20200329T010000
END:DAYLIGHT
BEGIN:STANDARD
TZOFFSETFROM:+0200
TZOFFSETTO:+0100
TZNAME:CET
DTSTART:20201025T010000
END:STANDARD
BEGIN:DAYLIGHT
TZOFFSETFROM:+0100
TZOFFSETTO:+0200
TZNAME:CEST
DTSTART:20210328T010000
END:DAYLIGHT
BEGIN:STANDARD
TZOFFSETFROM:+0200
TZOFFSETTO:+0100
TZNAME:CET
DTSTART:20211031T010000
END:STANDARD
BEGIN:DAYLIGHT
TZOFFSETFROM:+0100
TZOFFSETTO:+0200
TZNAME:CEST
DTSTART:20220327T010000
END:DAYLIGHT
BEGIN:STANDARD
TZOFFSETFROM:+0200
TZOFFSETTO:+0100
TZNAME:CET
DTSTART:20221030T010000
END:STANDARD
BEGIN:DAYLIGHT
TZOFFSETFROM:+0100
TZOFFSETTO:+0200
TZNAME:CEST
DTSTART:20230326T010000
END:DAYLIGHT
BEGIN:STANDARD
TZOFFSETFROM:+0200
TZOFFSETTO:+0100
TZNAME:CET
DTSTART:20231029T010000
END:STANDARD
END:VTIMEZONE
BEGIN:VEVENT
DTSTART;TZID=Europe/Rome:20221009T153000
DTEND;TZID=Europe/Rome:20221009T180000
DTSTAMP:20260424T211844
CREATED:20220920T080458Z
LAST-MODIFIED:20220920T082710Z
UID:13465-1665329400-1665338400@reggioemilia.avisemiliaromagna.it
SUMMARY:Il Piccolo coro dell’Antoniano in concerto a Guastalla
DESCRIPTION:I grandi successi dello Zecchino d’Oro riproposti al Teatro Ruggeri domenica 9 ottobre\nDomenica 9 ottobre\, alle ore 15.30\, presso il Teatro Comunale “R.Ruggeri” (via G.Verdi 8) di Guastalla\, grande appuntamento con i successi dello Zecchino d’Oro. L’evento è organizzato da Avis Comunale di Guastalla ODV. \nIl Piccolo Coro dell’Antoniano\, diretto da Sabrina Simoni\, nell’occasione riproporrà il vasto repertorio di celebri canzoni che hanno accompagnato da sempre grandi e piccini\, per più generazioni.\nIl coro misto di bambini nasce nel 1963 all’Istituto Antoniano di Bologna per accompagnare i piccoli interpreti delle canzoni allo Zecchino d’Oro (il festival musicale dedicato alla musica per bambini). Dal 1996 è diretto da Sabrina Simoni\, dopo la morte di Mariele (alla quale è stato poi intitolato)\, avvenuta nel 1995. \nCosto del biglietto 15 euro (10 euro fino a 12 anni)\nPrevendite presso: “Ginger” Via Gonzaga 10/i e Avis Guastalla – Via Allende\, 4\nL’itero incasso sarà devoluto in favore delle attività dell’associazione. \nVI ASPETTIAMO NUMEROSI !!! \nLa locandina dell’evento \n 
URL:https://reggioemilia.avisemiliaromagna.it/evento/il-piccolo-coro-dellantoniano-in-concerto-a-guastalla/
CATEGORIES:Concerto
ATTACH;FMTTYPE=image/jpeg:https://reggioemilia.avisemiliaromagna.it/wp-content/uploads/2022/09/coro-AntonianoH.jpg
END:VEVENT
BEGIN:VEVENT
DTSTART;TZID=Europe/Rome:20180831T193000
DTEND;TZID=Europe/Rome:20180902T170000
DTSTAMP:20260424T211844
CREATED:20180730T102247Z
LAST-MODIFIED:20180808T063234Z
UID:7125-1535743800-1535907600@reggioemilia.avisemiliaromagna.it
SUMMARY:Avis Novellara\, tre giorni di festa per il 60°
DESCRIPTION:La sezione Avis di Novellara festeggia il suo 60° anniversario di fondazione (1958-2018) e lo fa alla grandissima!\nLa festa per i donatori\, le consorelle e tutti i volontari e amici\, si terrà domenica 2 settembre\, ma i festeggiamenti inizieranno già il venerdì sera\, 31 agosto\, con una mega serata in piazza con concerto degli Spingi Gonzales\, cena con gnocco fritto e tigelle\, gonfiabili per i più piccoli e spazi espositivi. \nIL PROGRAMMA NEL DETTAGLIO \nVenerdì 31 agosto: ore 19.30 cena in piazza con gnocco fritto e tigelle (anche da asporto). Ore 21.30 concerto degli Spingi Gonzales (c/o piazza Unità d’italia) \nSabato 1 settembre: Inaugurazione isola fitness Avis c/o Parco Augusto Daolio \nDomenica 2 settembre: ore 9.30 ritrovo davanti sede Avis Comunale Novellara; ore 10:00 partenza corteo per la piazza di Novellara; ore 10:30 Santa Messa del Donatore (c/o Collegiata Santo Stefano); ore 11:30 deposizione corona c/o il monumento dei Caduti di Piazza Unità d’Italia; ore 11:45 spettacolo sbandieratori e musici ‘Maestà della Battaglia‘; ore 12:30 deposizione corona c/o Monumento dei Donatori nel locale cimitero di Novellara; ore 13:00 pranzo per donatori e volontari c/o struttura di San Giovanni di Novellara; ore 15:00 caffè in compagnia con Antonio Guidetti.\nIl pranzo prevede un menù completo di tipo tradizionale. E’ gratuito per donatori e collaboratori. Per familiari ed amici: € 20\,00. \nDurante il pranzo saranno premiati i donatori con benemerenze. Interventi di autorità locali. \nPrenotazioni con ritiro modulo di partecipazione presso la sede Avis di Novellara entro\, tassativamente\, mercoledì 29 agosto. \nLa locandina di venerdì 31 e della tre-giorni
URL:https://reggioemilia.avisemiliaromagna.it/evento/avis-novellara-tre-giorni-di-festa-per-il-60/
CATEGORIES:Avis Novellara,Cena,Concerto,Festa del donatore
ATTACH;FMTTYPE=image/jpeg:https://reggioemilia.avisemiliaromagna.it/wp-content/uploads/2018/07/AVIS-flyer-completo_home.jpg
END:VEVENT
BEGIN:VEVENT
DTSTART;TZID=Europe/Rome:20180721T183000
DTEND;TZID=Europe/Rome:20180721T233000
DTSTAMP:20260424T211844
CREATED:20180704T084954Z
LAST-MODIFIED:20180704T084954Z
UID:6976-1532197800-1532215800@reggioemilia.avisemiliaromagna.it
SUMMARY:Avis di Fabbrico e Rolo in festa!
DESCRIPTION:Sabato 21 luglio AVIS Fabbrico Rolo è in festa al Parco della Villa Resti Ferrari a Rolo! Prenotazioni per la cena entro lunedì 16 luglio \n  \nScarica il programma della festa!
URL:https://reggioemilia.avisemiliaromagna.it/evento/avis-di-fabbrico-e-rolo-in-festa/
CATEGORIES:Avis Fabbrico,Cena,Concerto,Festa del donatore
ATTACH;FMTTYPE=image/jpeg:https://reggioemilia.avisemiliaromagna.it/wp-content/uploads/2018/07/Rolo_Fabbrico_web.jpg
END:VEVENT
BEGIN:VEVENT
DTSTART;TZID=Europe/Rome:20171021T200000
DTEND;TZID=Europe/Rome:20171021T200000
DTSTAMP:20260424T211844
CREATED:20171010T142423Z
LAST-MODIFIED:20171010T144559Z
UID:5011-1508616000-1508616000@reggioemilia.avisemiliaromagna.it
SUMMARY:Cavriago\, 'Ma Noi No' in concerto
DESCRIPTION:La tribute band reggiana dei Nomadi fa tappa sabato 21 ottobre all’Area Feste di Cavriago\nAvis Cavriago organizza un concerto in collaborazione con i MA NOI NO\, sabato 21 ottobre dalle ore 20.00\, ingresso con cena a menù fisso € 23\,00 dalle ore 22\,00 ingresso solo concerto € 10\,00. Prenotazione obbligatoria al 333 23.71.179 \nArea Feste Cavriago\nVia Bassetta 11/E\, 42025 Cavriago
URL:https://reggioemilia.avisemiliaromagna.it/evento/cavriago-no-concerto/
LOCATION:Area Feste Cavriago\, Via Bassetta 11/\, Cavriago\, Italia
CATEGORIES:Avis Cavriago,Concerto
ATTACH;FMTTYPE=image/jpeg:https://reggioemilia.avisemiliaromagna.it/wp-content/uploads/2017/09/manoino_avis.jpg
END:VEVENT
END:VCALENDAR