BEGIN:VCALENDAR
VERSION:2.0
PRODID:-//Avis Provinciale di Reggio Emilia ODV - ECPv6.15.13//NONSGML v1.0//EN
CALSCALE:GREGORIAN
METHOD:PUBLISH
X-ORIGINAL-URL:https://reggioemilia.avisemiliaromagna.it
X-WR-CALDESC:Eventi per Avis Provinciale di Reggio Emilia ODV
REFRESH-INTERVAL;VALUE=DURATION:PT1H
X-Robots-Tag:noindex
X-PUBLISHED-TTL:PT1H
BEGIN:VTIMEZONE
TZID:Europe/Rome
BEGIN:DAYLIGHT
TZOFFSETFROM:+0100
TZOFFSETTO:+0200
TZNAME:CEST
DTSTART:20210328T010000
END:DAYLIGHT
BEGIN:STANDARD
TZOFFSETFROM:+0200
TZOFFSETTO:+0100
TZNAME:CET
DTSTART:20211031T010000
END:STANDARD
BEGIN:DAYLIGHT
TZOFFSETFROM:+0100
TZOFFSETTO:+0200
TZNAME:CEST
DTSTART:20220327T010000
END:DAYLIGHT
BEGIN:STANDARD
TZOFFSETFROM:+0200
TZOFFSETTO:+0100
TZNAME:CET
DTSTART:20221030T010000
END:STANDARD
BEGIN:DAYLIGHT
TZOFFSETFROM:+0100
TZOFFSETTO:+0200
TZNAME:CEST
DTSTART:20230326T010000
END:DAYLIGHT
BEGIN:STANDARD
TZOFFSETFROM:+0200
TZOFFSETTO:+0100
TZNAME:CET
DTSTART:20231029T010000
END:STANDARD
END:VTIMEZONE
BEGIN:VEVENT
DTSTART;TZID=Europe/Rome:20220913T193000
DTEND;TZID=Europe/Rome:20220913T233000
DTSTAMP:20260425T163813
CREATED:20220902T091530Z
LAST-MODIFIED:20220902T092617Z
UID:13425-1663097400-1663111800@reggioemilia.avisemiliaromagna.it
SUMMARY:Novellara\, Pizzata in Compagnia
DESCRIPTION:L‘Avis Comunale di Novellara\, insieme alla Pizzeria al Borgo (e con il patrocinio del Comune)\, vi invitano martedì 13 settembre alla “Pizzata in Compagnia”.\nDurante la cena ci sarà un intrattenimento musicale. Il ricavato della serata sarà devoluto all’associazione.\nPrenotazioni entro sabato 10.\nIn caso di maltempo la serata sarà rimandata al martedì successivo 20 settembre. \nTutte le info nella locandina dell’evento
URL:https://reggioemilia.avisemiliaromagna.it/evento/novellara-pizzata-in-compagnia/
CATEGORIES:Avis Novellara,Cena
ATTACH;FMTTYPE=image/jpeg:https://reggioemilia.avisemiliaromagna.it/wp-content/uploads/2022/09/cenaaaaa.jpg
END:VEVENT
END:VCALENDAR