BEGIN:VCALENDAR
VERSION:2.0
PRODID:-//Avis Provinciale di Reggio Emilia ODV - ECPv6.15.13//NONSGML v1.0//EN
CALSCALE:GREGORIAN
METHOD:PUBLISH
X-WR-CALNAME:Avis Provinciale di Reggio Emilia ODV
X-ORIGINAL-URL:https://reggioemilia.avisemiliaromagna.it
X-WR-CALDESC:Eventi per Avis Provinciale di Reggio Emilia ODV
REFRESH-INTERVAL;VALUE=DURATION:PT1H
X-Robots-Tag:noindex
X-PUBLISHED-TTL:PT1H
BEGIN:VTIMEZONE
TZID:Europe/Rome
BEGIN:DAYLIGHT
TZOFFSETFROM:+0100
TZOFFSETTO:+0200
TZNAME:CEST
DTSTART:20170326T010000
END:DAYLIGHT
BEGIN:STANDARD
TZOFFSETFROM:+0200
TZOFFSETTO:+0100
TZNAME:CET
DTSTART:20171029T010000
END:STANDARD
BEGIN:DAYLIGHT
TZOFFSETFROM:+0100
TZOFFSETTO:+0200
TZNAME:CEST
DTSTART:20180325T010000
END:DAYLIGHT
BEGIN:STANDARD
TZOFFSETFROM:+0200
TZOFFSETTO:+0100
TZNAME:CET
DTSTART:20181028T010000
END:STANDARD
BEGIN:DAYLIGHT
TZOFFSETFROM:+0100
TZOFFSETTO:+0200
TZNAME:CEST
DTSTART:20190331T010000
END:DAYLIGHT
BEGIN:STANDARD
TZOFFSETFROM:+0200
TZOFFSETTO:+0100
TZNAME:CET
DTSTART:20191027T010000
END:STANDARD
BEGIN:DAYLIGHT
TZOFFSETFROM:+0100
TZOFFSETTO:+0200
TZNAME:CEST
DTSTART:20200329T010000
END:DAYLIGHT
BEGIN:STANDARD
TZOFFSETFROM:+0200
TZOFFSETTO:+0100
TZNAME:CET
DTSTART:20201025T010000
END:STANDARD
END:VTIMEZONE
BEGIN:VEVENT
DTSTART;TZID=Europe/Rome:20190602T083000
DTEND;TZID=Europe/Rome:20190602T120000
DTSTAMP:20260424T175249
CREATED:20190418T074630Z
LAST-MODIFIED:20190529T083034Z
UID:8763-1559464200-1559476800@reggioemilia.avisemiliaromagna.it
SUMMARY:4° Giro della Castellana
DESCRIPTION:Domenica 2 giugno si svolge a Sant’Ilario il quarto Giro della Castellana\, una corsa non competitiva nelle campagne emiliane\nE’ così. A questo giro siamo alla quarta edizione\, con partenza come sempre il parcheggio del Conad Superstore di Sant’Ilario d’Enza.\nDevi sapere che a Sant’Ilario il Giro della Castellana è un’istituzione. Un binario. Fossi a Roma è una linea della metro.\nSi tratta di un percorso naturale\, nella zona ovest del paese\, percorso da decine di persone in ogni stagione\, che diventano quasi centinaia quando fa bello.\nQuattro anni fa un gruppo di ragazze e ragazzi di genio (perché il genio\, bada bene\, è quello che scopre le cose piccole a portata di mano) si mette lì\, prende il nome e organizza una passeggiata-corsa\, adatta sia a chi va piano che a chi butta tutto il fiato\, raccoglie il volontariato che c’è in zona\, sensibilizza le realtà (commerciali) presenti sul territorio e sceglie alcuni obiettivi benefici ai quali devolvere TUTTO il ricavato.\nFatto: una festa\, che si rinnova all’arrivo della buona stagione ogni anno.\nBrave! Bravi!\nE rieccoli: il volontariato è prima di tutto Avis\, ma anche tante persone indipendenti.\nGli sponsor sono davvero numerosi.\nCi si mette al lavoro parecchio prima\, per accogliere al meglio i partecipanti\, per donare loro un bel pacco gara.\nQuest’anno\, oltre a buone cose donate da aziende generose\, un’idea originale di cui i nostri tempi han bisogno: accanto a generi alimentari ci sarà un genere di prima sopravvivenza per la mente: un libro a sorpresa (non ti piace? Fermati al traguardo e scambialo con il vicino).\nE infine l’obiettivo benefico: il fondo Samuele Colacino (che vuole rendere migliore la vita a bimbi e ragazzi che si trovano in ospedale sotto cure molto pesanti)\, il Progetto Patente di Madre Teresa Onlus (contribuire – nel piccolo – al finanziamento di una patente di guida per una donna che si trova lungo un percorso di emancipazione personale) e infine il consueto aiuto all’Ospedale Franchini di Montecchio.\nIl tutto per assistere alla festa di una partenza coloratissima\, la mattina di domenica 2 giugno.\nVenite\, la serenità è garantita. \nDonatori e non\, siete tutti invitati\, NON MANCATE! \nCHI?\nOrganizzata dall’Associazione Giro della Castellana insieme ad Avis S.Ilario in collaborazione con Avis Calerno e altre Associazioni e con il sostegno di Conad e alcune realtà del territorio \nCOS’È?\nCamminata-corsa\, non competitiva\, su un percorso di 5 o 10.2 km – zona Castellana s. Ilario d’Enza. \nQUANDO?\nDomenica 2 giugno 2019. \nRITROVO: ore 8.30\nper iscrizioni presso\nCONAD Superstore (S.Ilario\, via Guidetti 1). \nPARTENZA: ore 9.30 Dal Conad. \nALL’ARRIVO:\nRicco punto ristoro offerto e consegna del premio di partecipazione a tutti gli iscritti al Giro \nE’ preferibile\, data la grande partecipazione degli scorsi anni\, PREISCRIVERSI nei giorni:\n– mattinata sabato 18 maggio mercato di S. Ilario\,\n– sabato 25 maggio + domenica 1 giugno davanti Conad Superstore di S. Ilario \nModulo scaricabile (presto pubblicheremo il link). \nQUOTA D’ISCRIZIONE:\n€ 3.00 per i bambini e ragazzi fino a 18 anni\n€ 5.00 per gli adulti. \nIl totale del ricavato sarà devoluto in BENEFICENZA \nPer info: girodellacastellana@gmail.com \nPer qualsiasi dettagli\, consulta la pagina ufficiale dell’evento: https://facebook.com/girodellacastellana/
URL:https://reggioemilia.avisemiliaromagna.it/evento/4-giro-della-castellana/
CATEGORIES:Avis Calerno,Avis S. Ilario,Camminata,Camminata non competitiva enogastronomica,Evento sportivo
ATTACH;FMTTYPE=image/jpeg:https://reggioemilia.avisemiliaromagna.it/wp-content/uploads/2019/04/4giroCastellana.jpg
END:VEVENT
BEGIN:VEVENT
DTSTART;TZID=Europe/Rome:20190519T090000
DTEND;TZID=Europe/Rome:20190519T123000
DTSTAMP:20260424T175249
CREATED:20190427T075216Z
LAST-MODIFIED:20190507T065616Z
UID:8921-1558256400-1558269000@reggioemilia.avisemiliaromagna.it
SUMMARY:9^ Magnalonga di Baiso
DESCRIPTION:Camminata ‘eno-gastronomica’ non competitiva di circa 9 km tra la natura\nTorna per il nono anno l’appuntamento ormai fisso con la Magnalonga di Baiso.  Avis Baiso vi invita a partecipare\, domenica 19 maggio\, ad una passeggiata rilassante\, senza competizione.\nSarà una grande occasione per godersi una giornata all’insegna della natura\, dei sapori e dei profumi delle nostre colline reggiane. L’itinerario a piedi di circa 9 km comprende 7 tappe di degustazione eno-gastronomica\, dislocate nei punti più suggestivi del territorio di Baiso.\nAdatta ai bambini. \nLa locandina dell’evento \nIl regolamento \nINFO: tel: +39 3497604467\ne-mail : mauriziomonzali@gmail.com \nLa pagina facebook dell’evento
URL:https://reggioemilia.avisemiliaromagna.it/evento/9-magnalonga-di-baiso/
CATEGORIES:Avis Baiso,Camminata non competitiva enogastronomica
ATTACH;FMTTYPE=image/jpeg:https://reggioemilia.avisemiliaromagna.it/wp-content/uploads/2019/04/magnalonga19.jpg
END:VEVENT
BEGIN:VEVENT
DTSTART;TZID=Europe/Rome:20190331T083000
DTEND;TZID=Europe/Rome:20190331T120000
DTSTAMP:20260424T175249
CREATED:20190306T142026Z
LAST-MODIFIED:20190306T142026Z
UID:8523-1554021000-1554033600@reggioemilia.avisemiliaromagna.it
SUMMARY:4ª Camminata Avis Luzzara
DESCRIPTION:Domenica 31 marzo Avis Luzzara vi invita alla 4ª Camminata Avis Luzzara\, manifestazione podistica ludico motoria a carattere internazionale aperta a tutti\, valida per il concorso Nazionale FIASP ‘Piede Alato’ e internazionale IVV.\nRitrovo presso le scuole Medie di Via De Gaspare\, partenza ore 8.30. Gare sui km 6 e 10. \nInfo e prenotazioni tel. 338-8272211 (ore pasti) – gpavisluzzarese@gmail.com \nLocandina e info
URL:https://reggioemilia.avisemiliaromagna.it/evento/4a-camminata-avis-luzzara/
CATEGORIES:Avis Luzzara,Camminata,Camminata non competitiva enogastronomica
ATTACH;FMTTYPE=image/jpeg:https://reggioemilia.avisemiliaromagna.it/wp-content/uploads/2019/03/camminata-luzzara.jpg
END:VEVENT
BEGIN:VEVENT
DTSTART;TZID=Europe/Rome:20190324T080000
DTEND;TZID=Europe/Rome:20190324T120000
DTSTAMP:20260424T175249
CREATED:20190306T143055Z
LAST-MODIFIED:20190306T143055Z
UID:8528-1553414400-1553428800@reggioemilia.avisemiliaromagna.it
SUMMARY:33° Trofeo Avis Novellara
DESCRIPTION:Torna\, domenica 24 marzo\, la tradizionale manifestazione podistica competitiva (21 km) e non competitiva (4/7/12 km) a passo libero\, aperta a tutti\nScaldate i muscoli per la “Camminata 33° TROFEO AVIS Novellara“\, XI Memorial Gelati Gabriele. Torna infatti\, domenica 24 marzo\, la tradizionale manifestazione podistica competitiva (21 km) e non competitiva (4/7/12 km) a passo libero\, aperta a tutti. \nLa locandina con il regolamento dell’evento \n 
URL:https://reggioemilia.avisemiliaromagna.it/evento/33-trofeo-avis-novellara/
CATEGORIES:Avis Novellara,Camminata,Camminata non competitiva enogastronomica,Corsa podistica,Evento sportivo
ATTACH;FMTTYPE=image/jpeg:https://reggioemilia.avisemiliaromagna.it/wp-content/uploads/2019/03/Novellara2_home.jpg
END:VEVENT
BEGIN:VEVENT
DTSTART;TZID=Europe/Rome:20180923T090000
DTEND;TZID=Europe/Rome:20180923T120000
DTSTAMP:20260424T175249
CREATED:20180723T082645Z
LAST-MODIFIED:20180723T082645Z
UID:7101-1537693200-1537704000@reggioemilia.avisemiliaromagna.it
SUMMARY:Corri con l'AVIS 2018
DESCRIPTION:Il gruppo podistico Avis Montecchio e Avis Montecchio vi invitano alla classica ‘Corri con l’AVIS‘ che\, per il 2018\, annuncia grandi novità: sarà uno spettacolo parteciparvi!\nNuova data e nuovo percorso con partenza e arrivo presso la pista di atletica del Silvio d’Arzo!\nL’appuntamento è fissato per domenica 23 settembre dalle ore 9.00. Ritrovo Via delle Scienze a Montecchio Emilia.\nCorsa competitiva di circa 11 km\, con camminata non competitiva al seguito.\nPrima della gara competitiva ci saranno le gare giovanili. \nPer le iscrizioni alla competitiva e dare un’occhiata al tracciato completamente nuovo
URL:https://reggioemilia.avisemiliaromagna.it/evento/corri-con-lavis-2018/
CATEGORIES:Avis Montecchio,Camminata,Camminata non competitiva enogastronomica,Evento sportivo
ATTACH;FMTTYPE=image/jpeg:https://reggioemilia.avisemiliaromagna.it/wp-content/uploads/2018/07/Avis_corsa_ok.jpg
END:VEVENT
BEGIN:VEVENT
DTSTART;TZID=Europe/Rome:20180603T093000
DTEND;TZID=Europe/Rome:20180603T123000
DTSTAMP:20260424T175249
CREATED:20180427T083755Z
LAST-MODIFIED:20180507T140355Z
UID:6074-1528018200-1528029000@reggioemilia.avisemiliaromagna.it
SUMMARY:3° Giro della Castellana con Avis
DESCRIPTION:Domenica 3 giugno si svolge il terzo Giro della Castellana\, una corsa non competitiva nelle campagne emiliane\, organizzata dall’Associazione Giro della Castellana insieme ad Avis S.Ilario in collaborazione con Avis Calerno\, VAB\, altre Associazioni e con il sostegno di Conad e alcune realtà del territorio.\nIl Giro della Castellana prevede due tipologie di percorso da 5 o 9\,5 km ed è pensata per coinvolgere tutto il paese\, nonché per focalizzare l’attenzione su diversi obiettivi condivisi\, tra i quali: la promozione della salute\, i sani stili di vita e la solidarietà. Così pure la socializzazione\, lo “stare insieme”\, l’assaporare un percorso alla periferia del Paese che non tutti conoscono nella sua interezza\, il valore del volontariato quale valore aggiunto del territorio.\nQuest’anno oltre alla Castellana\, si percorrerà in parte anche il territorio di Calerno (zona corte Spalletti e Partitore).\nLa corsa ha il contributo e il patrocinio dell’amministrazione comunale di Sant’Ilario che ha condiviso gli obiettivi così espressi e il sostegno di varie realtà del territorio.\nAl Gazebo AVIS saranno presenti volontari che offriranno materiale promozionale\, informeranno su come diventare donatori sia dell’Associazione che anche di AIDO e ADMO.\nAgli iscritti della gara verrà consegnato un premio di partecipazione al Giro.\nIl ricavato sarà devoluto all’Ospedale “ Ercole Franchini” di Montecchio Emilia e al “Fondo Samuele Luigi Colacino” \nL’iscrizione costa 3 euro per i minorenni\, 5 euro per i maggiorenni. \nLa locandina dell’evento \nModulo di iscrizione \nhttps://facebook.com/girodellacastellana/
URL:https://reggioemilia.avisemiliaromagna.it/evento/3-giro-della-castellana-con-avis/
CATEGORIES:Avis Calerno,Avis S. Ilario,Camminata,Camminata non competitiva enogastronomica,Corsa podistica,Evento sportivo
ATTACH;FMTTYPE=image/jpeg:https://reggioemilia.avisemiliaromagna.it/wp-content/uploads/2018/04/castellana_ok.jpg
END:VEVENT
BEGIN:VEVENT
DTSTART;TZID=Europe/Rome:20180520T090000
DTEND;TZID=Europe/Rome:20180520T160000
DTSTAMP:20260424T175249
CREATED:20180416T123323Z
LAST-MODIFIED:20180416T123323Z
UID:6019-1526806800-1526832000@reggioemilia.avisemiliaromagna.it
SUMMARY:8^ Magnalonga di Baiso
DESCRIPTION:Camminata ‘eno-gastronomica’ non competitiva di circa 10 km tra la natura\nTorna per l’ottavo anno l’appuntamento ormai fisso con la Magnalonga di Baiso. Avis Baiso vi invita a partecipare\, domenica 20 maggio\, ad una passeggiata rilassante\, senza competizione.\nSarà una grande occasione per godersi una giornata all’insegna della natura\, dei sapori e dei profumi delle nostre colline reggiane. L’itinerario a piedi di 10 km comprende 7 tappe di degustazione eno-gastronomica\, dislocate nei punti più suggestivi del territorio di Baiso.\nAdatta ai bambini. \nLa locandina dell’evento \nIl regolamento \nINFO E REGOLAMENTI: http://www.avisbaiso.altervista.org/\ntel: +39 3497604467\ne-mail : mauriziomonzali@gmail.com \nLa pagina facebook dell’evento \n 
URL:https://reggioemilia.avisemiliaromagna.it/evento/8-magnalonga-di-baiso/
CATEGORIES:Avis Baiso,Camminata non competitiva enogastronomica
ATTACH;FMTTYPE=image/jpeg:https://reggioemilia.avisemiliaromagna.it/wp-content/uploads/2018/04/magnalonga_home.jpg
END:VEVENT
END:VCALENDAR