BEGIN:VCALENDAR
VERSION:2.0
PRODID:-//Avis Provinciale di Reggio Emilia ODV - ECPv6.15.13//NONSGML v1.0//EN
CALSCALE:GREGORIAN
METHOD:PUBLISH
X-WR-CALNAME:Avis Provinciale di Reggio Emilia ODV
X-ORIGINAL-URL:https://reggioemilia.avisemiliaromagna.it
X-WR-CALDESC:Eventi per Avis Provinciale di Reggio Emilia ODV
REFRESH-INTERVAL;VALUE=DURATION:PT1H
X-Robots-Tag:noindex
X-PUBLISHED-TTL:PT1H
BEGIN:VTIMEZONE
TZID:Europe/Rome
BEGIN:DAYLIGHT
TZOFFSETFROM:+0100
TZOFFSETTO:+0200
TZNAME:CEST
DTSTART:20210328T010000
END:DAYLIGHT
BEGIN:STANDARD
TZOFFSETFROM:+0200
TZOFFSETTO:+0100
TZNAME:CET
DTSTART:20211031T010000
END:STANDARD
BEGIN:DAYLIGHT
TZOFFSETFROM:+0100
TZOFFSETTO:+0200
TZNAME:CEST
DTSTART:20220327T010000
END:DAYLIGHT
BEGIN:STANDARD
TZOFFSETFROM:+0200
TZOFFSETTO:+0100
TZNAME:CET
DTSTART:20221030T010000
END:STANDARD
BEGIN:DAYLIGHT
TZOFFSETFROM:+0100
TZOFFSETTO:+0200
TZNAME:CEST
DTSTART:20230326T010000
END:DAYLIGHT
BEGIN:STANDARD
TZOFFSETFROM:+0200
TZOFFSETTO:+0100
TZNAME:CET
DTSTART:20231029T010000
END:STANDARD
BEGIN:DAYLIGHT
TZOFFSETFROM:+0100
TZOFFSETTO:+0200
TZNAME:CEST
DTSTART:20240331T010000
END:DAYLIGHT
BEGIN:STANDARD
TZOFFSETFROM:+0200
TZOFFSETTO:+0100
TZNAME:CET
DTSTART:20241027T010000
END:STANDARD
BEGIN:DAYLIGHT
TZOFFSETFROM:+0100
TZOFFSETTO:+0200
TZNAME:CEST
DTSTART:20250330T010000
END:DAYLIGHT
BEGIN:STANDARD
TZOFFSETFROM:+0200
TZOFFSETTO:+0100
TZNAME:CET
DTSTART:20251026T010000
END:STANDARD
BEGIN:DAYLIGHT
TZOFFSETFROM:+0100
TZOFFSETTO:+0200
TZNAME:CEST
DTSTART:20260329T010000
END:DAYLIGHT
BEGIN:STANDARD
TZOFFSETFROM:+0200
TZOFFSETTO:+0100
TZNAME:CET
DTSTART:20261025T010000
END:STANDARD
END:VTIMEZONE
BEGIN:VEVENT
DTSTART;TZID=Europe/Rome:20221112T203000
DTEND;TZID=Europe/Rome:20221112T233000
DTSTAMP:20260425T175847
CREATED:20221028T091758Z
LAST-MODIFIED:20251231T002102Z
UID:14104-1668285000-1668295800@reggioemilia.avisemiliaromagna.it
SUMMARY:Avis premia i ragazzi più bravi nello studio e nel volontariato
DESCRIPTION:Sabato 12 novembre premiazione per i neodiplomati della “Bassa” distintisi per impegno scolastico e volontariato attivo. Intrattenimento musicale con la band Cobaya\nAnche quest’anno\, grazie all’iniziativa “AVIS premia i Giovani del Volontariato”\, le AVIS Comunali di Boretto\, Brescello\, Gualtieri\, Guastalla\, Luzzara\, Novellara\, Poviglio\, Reggiolo e S. Vittoria premieranno\, con buoni tecnologici del valore  di 300 euro cadauno\, i 10 studenti neodiplomati  che si sono distinti durante l’anno per impegno scolastico ma anche e soprattutto per volontariato attivo. \nL’appuntamento è per sabato 12 novembre  alle ore 20.45 presso il Nuovo Centro Polivalente Via Panagulis 5 a Luzzara.\nSarà una grande festa accompagnata dalla musica travolgente del Gruppo musicale COBAYA\, \nCon questa iniziativa le AVIS della Bassa Reggiana vogliono\, unendo ancora una volta le proprie forze\, rivolgersi concretamente ai giovani del territorio sottolineando e promuovendo l’importanza del valore del Dono e della Solidarietà e dimostrare la propria gratitudine verso i tanti ragazzi e ragazze che si impegnano nel volontariato\, dando un concreto esempio di cittadinanza attiva. \nLa serata è ad ingresso libero \nVi aspettiamo numerosi ! \nLa locandina dell’evento
URL:https://reggioemilia.avisemiliaromagna.it/evento/musica-e-premi-con-le-avis-della-bassa/
CATEGORIES:Avis Boretto,Avis Brescello,Avis Gualtieri,Avis Guastalla,Avis Luzzara,Avis Novellara,Avis Provinciale Reggio Emilia,Avis Reggiolo,Avis Santa Vittoria
ATTACH;FMTTYPE=image/jpeg:https://reggioemilia.avisemiliaromagna.it/wp-content/uploads/2022/10/bassa-1.jpg
END:VEVENT
BEGIN:VEVENT
DTSTART;TZID=Europe/Rome:20230728T190000
DTEND;TZID=Europe/Rome:20230730T233000
DTSTAMP:20260425T175847
CREATED:20230719T100319Z
LAST-MODIFIED:20230719T100319Z
UID:15224-1690570800-1690759800@reggioemilia.avisemiliaromagna.it
SUMMARY:Festa sull'aia Reggiolo
DESCRIPTION:‘   !\n\n\n\n\nDa venerdi’ 28 a domenica 30 luglio per trascorrere tre in serate in compagnia\, tutto accompagnato da cibo e ottima musica \n\nTutte le sere stand gastronomico e servizio bar sempre attivo!\n\nTrattori d’epoca nel parco con sfilata sabato pomeriggio\n\nProgramma completo
URL:https://reggioemilia.avisemiliaromagna.it/evento/festa-sullaia-reggiolo/
LOCATION:Reggiolo
CATEGORIES:Avis Reggiolo
END:VEVENT
BEGIN:VEVENT
DTSTART;TZID=Europe/Rome:20240726T190000
DTEND;TZID=Europe/Rome:20240728T230000
DTSTAMP:20260425T175847
CREATED:20240715T084112Z
LAST-MODIFIED:20240715T084710Z
UID:17014-1722020400-1722207600@reggioemilia.avisemiliaromagna.it
SUMMARY:Festa sull'aia - Reggiolo
DESCRIPTION:Come ogni anno torna la festa sull’Aia a Reggiolo! \nDa venerdì 26 a domenica 28 luglio tre serate di festa con i nostri amici di Avis Reggiolo \nSerate all’insegna del buon cibo e della musica con esposizione di trattori d’epoca \nVi aspettiamo numerosi! \nLocandina completa dell’evento qui
URL:https://reggioemilia.avisemiliaromagna.it/evento/festa-sullaia-reggiolo-2/
CATEGORIES:Avis Reggiolo
END:VEVENT
BEGIN:VEVENT
DTSTART;TZID=Europe/Rome:20241020T170000
DTEND;TZID=Europe/Rome:20241020T193000
DTSTAMP:20260425T175847
CREATED:20241001T135356Z
LAST-MODIFIED:20241001T143054Z
UID:17385-1729443600-1729452600@reggioemilia.avisemiliaromagna.it
SUMMARY:Spettacolo teatrale - Un'altra goccia
DESCRIPTION:Domenica 20 ottobre andrà in scena a Reggiolo presso il Teatro Rinaldi lo  spettacolo teatrale  Un’altra goccia  \nLo spettacolo esplora il concetto del dono in una dimensione più profonda e universale. Il dono non è solo un atto fisico\, ma un gesto che trascende le barriere e crea connessioni umane significative. Il dono è un filo invisibile che unisce le anime\, un atto di amore e altruismo che va oltre il semplice gesto materiale. \nAttraverso la musica\, il canto\, la recitazione e la danza\, vogliamo trasmettere l’idea che donare significa avvicinarsi all’altro\, comprendere le sue necessità e offrire una parte di sé per il bene comune \nCosto biglietto € 10\nprenotazioni@teatrorinaldi.it \nLocandina dell’evento
URL:https://reggioemilia.avisemiliaromagna.it/evento/spettacolo-teatrale-unaltra-goccia/
LOCATION:Reggiolo
CATEGORIES:Avis Reggiolo
END:VEVENT
BEGIN:VEVENT
DTSTART;TZID=Europe/Rome:20241116T203000
DTEND;TZID=Europe/Rome:20241116T230000
DTSTAMP:20260425T175847
CREATED:20241105T132828Z
LAST-MODIFIED:20241105T132828Z
UID:17563-1731789000-1731798000@reggioemilia.avisemiliaromagna.it
SUMMARY:Avis premia impegno e volontariato
DESCRIPTION:Evento organizzato dalle Avis “della bassa”\, in programma per sabato 16 novembre a Poviglio (in via Bologna 1) durante il quale verranno premiati gli studenti meritevoli diplomati nell’anno scolastico 2023/24 \nIngresso libero e concerto del gruppo Il giardino dei pini \nVi aspettiamo numerosi! \nLocandina completa
URL:https://reggioemilia.avisemiliaromagna.it/evento/avis-premia-impegno-e-volontariato-4/
LOCATION:Poviglio
CATEGORIES:Avis Boretto,Avis Brescello,Avis Gualtieri,Avis Guastalla,Avis Luzzara,Avis Novellara,Avis Poviglio,Avis Reggiolo,Avis Santa Vittoria
END:VEVENT
BEGIN:VEVENT
DTSTART;TZID=Europe/Rome:20250725T180000
DTEND;TZID=Europe/Rome:20250727T230000
DTSTAMP:20260425T175847
CREATED:20250708T101941Z
LAST-MODIFIED:20250708T103950Z
UID:18523-1753466400-1753657200@reggioemilia.avisemiliaromagna.it
SUMMARY:Festa sull' Aia - Reggiolo
DESCRIPTION:🎉 Festa sull’Aia 2025 – Sapori\, tradizioni e sorrisi al Parco Salici! 🌾 \nTorna anche quest’anno la tanto attesa Festa sull’Aia\, l’evento estivo organizzato con passione da Avis Reggiolo\, con il patrocinio del Comune di Reggiolo! Ti aspettiamo il 25\, 26 e 27 luglio presso il Parco Salici – Zona Sportiva per tre serate all’insegna del gusto\, della compagnia e delle tradizioni contadine. \n🍽️ Stand gastronomico tutte le sere dalle ore 19.30 \nPrelibatezze per tutti i palati: tortelli verdi\, gramigna con salsiccia\, maccheroni al ragù\, bigoli con le sarde\, roast beef\, grigliate miste\, gnocco fritto\, prosciutto e tanto altro\, inclusi dolci\, frutta e uno stand bar sempre attivo. \n🚜 In esposizione: trattori d’epoca \nUn tuffo nel passato con mezzi agricoli storici nel verde del parco! \n🌧️ In caso di maltempo\, la festa prosegue anche lunedì 28 luglio. \nVieni a vivere l’estate con noi: buon cibo\, allegria e tradizione ti aspettano sotto le stelle di Reggiolo! ✨ \nLocandina completa qui
URL:https://reggioemilia.avisemiliaromagna.it/evento/festa-sull-aia-reggiolo/
LOCATION:Reggiolo
CATEGORIES:Avis Reggiolo
END:VEVENT
BEGIN:VEVENT
DTSTART;TZID=Europe/Rome:20251115T203000
DTEND;TZID=Europe/Rome:20251115T230000
DTSTAMP:20260425T175847
CREATED:20251023T120938Z
LAST-MODIFIED:20251028T142306Z
UID:18836-1763238600-1763247600@reggioemilia.avisemiliaromagna.it
SUMMARY:Concerto AVIS – Musica e Solidarietà
DESCRIPTION:🎶 Concerto AVIS – Musica e Solidarietà – Ingresso Libero!\n📅 Sabato 15 novembre 2025🕣 Ore 20:45📍 Teatro Ruggeri\, Via Giuseppe Verdi 7\, Guastalla (RE) \n💉 Evento promosso dalle Avis di Boretto\, Brescello\, Guastalla\, Gualtieri\, Luzzara\, Novellara\, Poviglio\, Reggiolo e S. Vittoria\n🎸 Musica Live con\nRussell Crows Cover BandStudenti del Laboratorio Musicale dell’Istituto B. Russell \nSpingi Gonzales – Tribute Band delle Cover BandCon Damiano\, Fiffi & Rosa \n🏅 Premiazioni AVIS “Impegno e Volontariato”\nDurante la serata verranno consegnati i premi AVIS Premia Impegno e Volontariato ai neodiplomati delle classi quinte a.s. 2024/2025 degli Istituti “B. Russell” e “M. Carrara” di Guastalla e di altri istituti.
URL:https://reggioemilia.avisemiliaromagna.it/evento/concerto-avis-musica-e-solidarieta/
LOCATION:Guastalla
CATEGORIES:Avis Boretto,Avis Brescello,Avis Gualtieri,Avis Guastalla,Avis Novellara,Avis Poviglio,Avis Reggiolo,Avis Santa Vittoria
END:VEVENT
END:VCALENDAR