BEGIN:VCALENDAR
VERSION:2.0
PRODID:-//Avis Provinciale di Reggio Emilia ODV - ECPv6.15.13//NONSGML v1.0//EN
CALSCALE:GREGORIAN
METHOD:PUBLISH
X-WR-CALNAME:Avis Provinciale di Reggio Emilia ODV
X-ORIGINAL-URL:https://reggioemilia.avisemiliaromagna.it
X-WR-CALDESC:Eventi per Avis Provinciale di Reggio Emilia ODV
REFRESH-INTERVAL;VALUE=DURATION:PT1H
X-Robots-Tag:noindex
X-PUBLISHED-TTL:PT1H
BEGIN:VTIMEZONE
TZID:Europe/Rome
BEGIN:DAYLIGHT
TZOFFSETFROM:+0100
TZOFFSETTO:+0200
TZNAME:CEST
DTSTART:20160327T010000
END:DAYLIGHT
BEGIN:STANDARD
TZOFFSETFROM:+0200
TZOFFSETTO:+0100
TZNAME:CET
DTSTART:20161030T010000
END:STANDARD
BEGIN:DAYLIGHT
TZOFFSETFROM:+0100
TZOFFSETTO:+0200
TZNAME:CEST
DTSTART:20170326T010000
END:DAYLIGHT
BEGIN:STANDARD
TZOFFSETFROM:+0200
TZOFFSETTO:+0100
TZNAME:CET
DTSTART:20171029T010000
END:STANDARD
BEGIN:DAYLIGHT
TZOFFSETFROM:+0100
TZOFFSETTO:+0200
TZNAME:CEST
DTSTART:20180325T010000
END:DAYLIGHT
BEGIN:STANDARD
TZOFFSETFROM:+0200
TZOFFSETTO:+0100
TZNAME:CET
DTSTART:20181028T010000
END:STANDARD
BEGIN:DAYLIGHT
TZOFFSETFROM:+0100
TZOFFSETTO:+0200
TZNAME:CEST
DTSTART:20190331T010000
END:DAYLIGHT
BEGIN:STANDARD
TZOFFSETFROM:+0200
TZOFFSETTO:+0100
TZNAME:CET
DTSTART:20191027T010000
END:STANDARD
BEGIN:DAYLIGHT
TZOFFSETFROM:+0100
TZOFFSETTO:+0200
TZNAME:CEST
DTSTART:20200329T010000
END:DAYLIGHT
BEGIN:STANDARD
TZOFFSETFROM:+0200
TZOFFSETTO:+0100
TZNAME:CET
DTSTART:20201025T010000
END:STANDARD
BEGIN:DAYLIGHT
TZOFFSETFROM:+0100
TZOFFSETTO:+0200
TZNAME:CEST
DTSTART:20210328T010000
END:DAYLIGHT
BEGIN:STANDARD
TZOFFSETFROM:+0200
TZOFFSETTO:+0100
TZNAME:CET
DTSTART:20211031T010000
END:STANDARD
BEGIN:DAYLIGHT
TZOFFSETFROM:+0100
TZOFFSETTO:+0200
TZNAME:CEST
DTSTART:20220327T010000
END:DAYLIGHT
BEGIN:STANDARD
TZOFFSETFROM:+0200
TZOFFSETTO:+0100
TZNAME:CET
DTSTART:20221030T010000
END:STANDARD
BEGIN:DAYLIGHT
TZOFFSETFROM:+0100
TZOFFSETTO:+0200
TZNAME:CEST
DTSTART:20230326T010000
END:DAYLIGHT
BEGIN:STANDARD
TZOFFSETFROM:+0200
TZOFFSETTO:+0100
TZNAME:CET
DTSTART:20231029T010000
END:STANDARD
BEGIN:DAYLIGHT
TZOFFSETFROM:+0100
TZOFFSETTO:+0200
TZNAME:CEST
DTSTART:20240331T010000
END:DAYLIGHT
BEGIN:STANDARD
TZOFFSETFROM:+0200
TZOFFSETTO:+0100
TZNAME:CET
DTSTART:20241027T010000
END:STANDARD
BEGIN:DAYLIGHT
TZOFFSETFROM:+0100
TZOFFSETTO:+0200
TZNAME:CEST
DTSTART:20250330T010000
END:DAYLIGHT
BEGIN:STANDARD
TZOFFSETFROM:+0200
TZOFFSETTO:+0100
TZNAME:CET
DTSTART:20251026T010000
END:STANDARD
BEGIN:DAYLIGHT
TZOFFSETFROM:+0100
TZOFFSETTO:+0200
TZNAME:CEST
DTSTART:20260329T010000
END:DAYLIGHT
BEGIN:STANDARD
TZOFFSETFROM:+0200
TZOFFSETTO:+0100
TZNAME:CET
DTSTART:20261025T010000
END:STANDARD
END:VTIMEZONE
BEGIN:VEVENT
DTSTART;TZID=Europe/Rome:20251115T203000
DTEND;TZID=Europe/Rome:20251115T230000
DTSTAMP:20260424T193724
CREATED:20251023T120938Z
LAST-MODIFIED:20251028T142306Z
UID:18836-1763238600-1763247600@reggioemilia.avisemiliaromagna.it
SUMMARY:Concerto AVIS – Musica e Solidarietà
DESCRIPTION:🎶 Concerto AVIS – Musica e Solidarietà – Ingresso Libero!\n📅 Sabato 15 novembre 2025🕣 Ore 20:45📍 Teatro Ruggeri\, Via Giuseppe Verdi 7\, Guastalla (RE) \n💉 Evento promosso dalle Avis di Boretto\, Brescello\, Guastalla\, Gualtieri\, Luzzara\, Novellara\, Poviglio\, Reggiolo e S. Vittoria\n🎸 Musica Live con\nRussell Crows Cover BandStudenti del Laboratorio Musicale dell’Istituto B. Russell \nSpingi Gonzales – Tribute Band delle Cover BandCon Damiano\, Fiffi & Rosa \n🏅 Premiazioni AVIS “Impegno e Volontariato”\nDurante la serata verranno consegnati i premi AVIS Premia Impegno e Volontariato ai neodiplomati delle classi quinte a.s. 2024/2025 degli Istituti “B. Russell” e “M. Carrara” di Guastalla e di altri istituti.
URL:https://reggioemilia.avisemiliaromagna.it/evento/concerto-avis-musica-e-solidarieta/
LOCATION:Guastalla
CATEGORIES:Avis Boretto,Avis Brescello,Avis Gualtieri,Avis Guastalla,Avis Novellara,Avis Poviglio,Avis Reggiolo,Avis Santa Vittoria
END:VEVENT
BEGIN:VEVENT
DTSTART;TZID=Europe/Rome:20241116T203000
DTEND;TZID=Europe/Rome:20241116T230000
DTSTAMP:20260424T193724
CREATED:20241105T132828Z
LAST-MODIFIED:20241105T132828Z
UID:17563-1731789000-1731798000@reggioemilia.avisemiliaromagna.it
SUMMARY:Avis premia impegno e volontariato
DESCRIPTION:Evento organizzato dalle Avis “della bassa”\, in programma per sabato 16 novembre a Poviglio (in via Bologna 1) durante il quale verranno premiati gli studenti meritevoli diplomati nell’anno scolastico 2023/24 \nIngresso libero e concerto del gruppo Il giardino dei pini \nVi aspettiamo numerosi! \nLocandina completa
URL:https://reggioemilia.avisemiliaromagna.it/evento/avis-premia-impegno-e-volontariato-4/
LOCATION:Poviglio
CATEGORIES:Avis Boretto,Avis Brescello,Avis Gualtieri,Avis Guastalla,Avis Luzzara,Avis Novellara,Avis Poviglio,Avis Reggiolo,Avis Santa Vittoria
END:VEVENT
BEGIN:VEVENT
DTSTART;TZID=Europe/Rome:20231110T204500
DTEND;TZID=Europe/Rome:20231110T230000
DTSTAMP:20260424T193724
CREATED:20231104T080815Z
LAST-MODIFIED:20231104T080815Z
UID:15763-1699649100-1699657200@reggioemilia.avisemiliaromagna.it
SUMMARY:Avis premia impegno e volontariato
DESCRIPTION:̀   al teatro comunale di Novellara va in scena lo spettacolo  –    \, dove danzatori unici e straordinari sono impegnati in una seria di quadri di danza ispirati alle dinamiche\, alle suggestioni e alla vitalità di una cucina in azione.\n\n\n\nNel corso della serata     da parte delle sezioni Avis della bassa per l’anno scolastico 2022/23\n\n\n\n !\n\nLocandina dell’evento qui\n\nVi aspettiamo numerosi!
URL:https://reggioemilia.avisemiliaromagna.it/evento/avis-premia-impegno-e-volontariato-3/
LOCATION:Novellara
CATEGORIES:Avis Boretto,Avis Brescello,Avis Gualtieri,Avis Guastalla,Avis Luzzara,Avis Novellara,Avis Poviglio
END:VEVENT
BEGIN:VEVENT
DTSTART;TZID=Europe/Rome:20211106T203000
DTEND;TZID=Europe/Rome:20211106T233000
DTSTAMP:20260424T193724
CREATED:20211014T101549Z
LAST-MODIFIED:20211014T101549Z
UID:12339-1636230600-1636241400@reggioemilia.avisemiliaromagna.it
SUMMARY:Avis premia impegno e volontariato
DESCRIPTION:Sabato 6 novembre al Teatro Ruggeri di Guastalla premiazione degli studenti vincitori del concorso promosso dalle Avis della Bassa. In concerto la band Best Befive\nAnche quest’anno le sezioni AVIS di Boretto\, Brescello\, Gualtieri\, Guastalla\, Santa Vittoria\, Luzzara\, Novellara\, Reggiolo\, Poviglio sono unite nella realizzazione di un  importante progetto comune\, “Avis premia impegno e volontariato”\, ossia l’assegnazione di un premio (tablet) a studenti degli Istituti Superiori “Russell” e “Carrara” e a studenti residenti nei comuni delle sezioni Avis aderenti all’iniziativa\, che\, diplomatisi nell’anno scolastico 2020/2021\, si sono distinti per il loro meritevole impegno scolastico e per la partecipazione ad attività di volontariato presso AVIS o altre associazioni. \nLa premiazione dei vincitori si svolgerà SABATO 6 NOVEMBRE dalle ore 20.45 presso il Teatro Ruggeri di Guastalla\, e la serata sarà allietata dal gruppo “Best Befive”\, live rock/pop/acoustic cover band della bassa reggiana. \nQuesta iniziativa fa parte dei tanti progetti che AVIS promuove tra i giovani per diffondere la cultura del dono\, il valore della solidarietà\, l’approccio alla prevenzione e la tutela della salute e dei corretti stili di vita. \nLe famiglie\, gli amici\, i compagni di classe e le cittadinanze “della Bassa” sono inviatati a condividere questo momento di festa. \nLe sezioni AVIS ringraziano sin d’ora per la partecipazione. \nIngresso libero\, si accede con green pass e mascherina \nLa locandina dell’evento
URL:https://reggioemilia.avisemiliaromagna.it/evento/avis-premia-impegno-e-volontariato-2/
CATEGORIES:Avis Boretto,Avis Brescello,Avis Gualtieri,Avis Guastalla,Avis Luzzara,Avis Novellara,Avis Poviglio,Avis Reggiolo,Avis Santa Vittoria
ATTACH;FMTTYPE=image/jpeg:https://reggioemilia.avisemiliaromagna.it/wp-content/uploads/2021/10/best.jpg
END:VEVENT
BEGIN:VEVENT
DTSTART;TZID=Europe/Rome:20211030T210000
DTEND;TZID=Europe/Rome:20211030T233000
DTSTAMP:20260424T193724
CREATED:20211004T121644Z
LAST-MODIFIED:20211006T103722Z
UID:12246-1635627600-1635636600@reggioemilia.avisemiliaromagna.it
SUMMARY:Avis porta in scena le Relazioni Pericolose
DESCRIPTION:Le dinamiche del femminicidio sabato 30 ottobre al Teatro del Fiume di Boretto\nLe Avis di Boretto\, Brescello e Poviglio\, con il contributo della Fondazione Don Camillo e Peppone di Brescello e il patrocinio del comune di Boretto presentano LUCE\, uno spettacolo sulle relazioni pericolose prodotto dalla psicologa\, psicoterapeuta e criminologa dott.ssa Maria Rosaria Palmigiano.\nUna creazione di Erica Muraca che vede la partecipazione degli attori Agostino Rocca e Chiara Sassi.\nDurante la messa in scena\, verranno messi in risalto i meccanismi psicologici disfunzionali di una coppia tossica che possono portare all’epilogo finale più tragico: il femminicidio. \nL’appuntamento è per sabato 30 ottobre ore 21 al Teatro del fiume di Boretto\, via Roma\, 31- Boretto(Re) \nPrenotazione (e green pass) obbligatori\nIngresso libero (offerta consigliata 10 euro) \nLo spettacolo è realizzato nel rispetto dela normativa vigente anti-Covid-19
URL:https://reggioemilia.avisemiliaromagna.it/evento/avis-porta-in-scena-le-relazioni-pericolose/
CATEGORIES:Avis Boretto,Avis Brescello,Avis Poviglio
ATTACH;FMTTYPE=image/jpeg:https://reggioemilia.avisemiliaromagna.it/wp-content/uploads/2021/10/Luce.jpeg
END:VEVENT
BEGIN:VEVENT
DTSTART;TZID=Europe/Rome:20201011T093000
DTEND;TZID=Europe/Rome:20201011T133000
DTSTAMP:20260424T193724
CREATED:20201008T100732Z
LAST-MODIFIED:20201008T100732Z
UID:11059-1602408600-1602423000@reggioemilia.avisemiliaromagna.it
SUMMARY:Reggiolo\, 2ª edizione di "Rosa per Tutti"
DESCRIPTION:Domenica 11 ottobre torna la camminata benefica di 6\,5 km\nVi aspettiamo numerosi domenica 11 ottobre alla seconda edizione di Rosa per Tutti\, camminata di beneficenza il cui ricavato andrà al reparto oncologico dell’ospedale di Guastalla.\nPotrai acquistare una maglietta presso i negozi del paese o direttamente in piazza martiri prima della partenza. \nRitrovo ore 10.30 in piazza Martiri a Reggiolo.A seguire gnocco fritto dell’associazione AVIS di Reggiolo \nTutti i dettagli nella locandina \n 
URL:https://reggioemilia.avisemiliaromagna.it/evento/reggiolo-2a-edizione-di-rosa-per-tutti/
CATEGORIES:Avis Poviglio
ATTACH;FMTTYPE=image/jpeg:https://reggioemilia.avisemiliaromagna.it/wp-content/uploads/2020/10/Reggiolo777home.jpg
END:VEVENT
BEGIN:VEVENT
DTSTART;TZID=Europe/Rome:20191123T203000
DTEND;TZID=Europe/Rome:20191123T233000
DTSTAMP:20260424T193724
CREATED:20191031T085736Z
LAST-MODIFIED:20191031T085736Z
UID:10058-1574541000-1574551800@reggioemilia.avisemiliaromagna.it
SUMMARY:Avis premia impegno e volontariato
DESCRIPTION:Sabato 23 novembre verranno premiati gli studenti vincitori del concorso promosso dalle Avis della Bassa. Durante la serata\, band Postalmarket in concerto\nAnche quest’anno le sezioni AVIS di Boretto\, Brescello\, Gualtieri\, Guastalla\, Santa Vittoria\, Luzzara\, Novellara\, Reggiolo\, Poviglio sono unite nella realizzazione di un  importante progetto comune\, ossia l’assegnazione di un premio (tablet) a studenti degli Istituti Superiori “Russell” e “Carrara” e a studenti residenti nei comuni delle sezioni Avis aderenti all’iniziativa\, che\, diplomatisi nell’anno scolastico 2018/2019\, si sono distinti per il loro meritevole impegno scolastico e per la partecipazione ad attività di volontariato presso AVIS o altre associazioni. \nLa premiazione dei vincitori si svolgerà SABATO 23 NOVEMBRE dalle ore 20.45 presso il Centro Sociale Nino Zà di Reggiolo\, e la serata sarà allietata dal gruppo “Postalmarket”\, che riproporrà con il suo irresistibile stile rock\, funk e disco i più grandi successi 60-70-80 della musica italiana\, trasformando un semplice concerto in un imperdibile spettacolo. \nQuesta iniziativa fa parte dei tanti progetti che AVIS promuove tra i giovani per diffondere la cultura del dono\, il valore della solidarietà\, l’approccio alla prevenzione e la tutela della salute e dei corretti stili di vita. \nLe famiglie\, gli amici\, i compagni di classe e le cittadinanze “della Bassa” sono inviatati a condividere questo momento di festa. \nLe sezioni AVIS ringraziano sin d’ora per la partecipazione. \nIl CENTRO SOCIALE “NINO ZÀ”  si trova in  VIA 4 NOVEMBRE 15/17 a REGGIOLO (RE) \nLa locandina dell’evento
URL:https://reggioemilia.avisemiliaromagna.it/evento/avis-premia-impegno-e-volontariato/
CATEGORIES:Avis Boretto,Avis Brescello,Avis Gualtieri,Avis Guastalla,Avis Luzzara,Avis Novellara,Avis Poviglio,Avis Reggiolo,Avis Santa Vittoria,Premiazione
ATTACH;FMTTYPE=image/jpeg:https://reggioemilia.avisemiliaromagna.it/wp-content/uploads/2019/10/postal_home.jpg
END:VEVENT
BEGIN:VEVENT
DTSTART;TZID=Europe/Rome:20190330T093000
DTEND;TZID=Europe/Rome:20190330T180000
DTSTAMP:20260424T193724
CREATED:20190325T143901Z
LAST-MODIFIED:20251231T002103Z
UID:8630-1553938200-1553968800@reggioemilia.avisemiliaromagna.it
SUMMARY:44ª Assemblea Provinciale AVIS Reggio Emilia
DESCRIPTION:Si svolgerà sabato 30 marzo a Cavola di Toano l’annuale appuntamento avisino che vedrà coinvolti dirigenti\, delegati\, volontari ed autorità\nIl Consiglio Direttivo dell’AVIS Provinciale di Reggio Emilia ha convocato per sabato 30 marzo alle ore 9.30 la 44ª Assemblea Provinciale degli Associati dell’AVIS di Reggio Emilia presso il ‘Cavola Forum’\, ospitati da Avis Toano. \nDopo due assemblee nella nuova Casa del Dono\, la scelta della sede ospitante quest’anno è caduta sulla località montana con l’intento di ripristinare la tradizione itinerante dell’evento\, di dare una ‘spinta istituzionale’ all’area reggiana in cui Avis è meno presente con le sue sedi nonché un chiaro riconoscimento a chi continua a promuovere il gesto del dono sul nostro appennino. \nInoltre\, quest’anno l’appuntamento è stato anticipato al sabato e la sua durata è stata prolungata all’intera giornata (intervallata da brunch buffet) allo scopo di poter trattare più approfonditamente i tanti argomenti all’ordine del giorno. \nIl titolo scelto da Avis Nazionale per l’edizione 2019 è “Reti solidali: le nuove rotte del volontariato del dono”; un chiaro riferimento alla riforma del Terzo Settore che ha introdotto la nuova figura delle reti associative. Tema caldo della giornata di lavori assembleari sarò l’adeguamento dello Statuto alla nuova normativa per il Terzo Settore con conseguente discussione e approvazione delle modifiche statutarie. \nVerranno poi esposte le relazioni riguardanti le molteplici attività svolte dall’associazione e dalle sue commissioni durante l’anno appena conclusosi e saranno presentati il bilancio consuntivo 2018\, la relazione finanziaria ed il bilancio preventivo 2019. \nUno sguardo sarà rivolto al recente passato (visita di sorveglianza brillantemente superata\, seminari organizzati per addetti ai lavori e per la cittadinanza\, apertura alle donazioni pomeridiane\, eventi promozionali e tanto altro ancora) e uno al futuro imminente con le nuove sfide e gli impegni che attendono Avis\, in primis la ricerca di nuovi donatori\, l’aumento delle donazioni di plasma\, ‘governando’ sempre di più la raccolta di sangue\, ed il mantenimento di tutti gli standard qualitativi di ‘raccolta’. \nLa Casa del Dono si consolida punto di riferimento della donazione (e non solo) sul territorio e prosegue la proficua sinergia con i responsabili della Medicina Trasfusionale dell’ospedale. \nAl termine\, spazio ad interventi\, votazioni e conclusioni. \nTra le autorità invitate i sindaci dei Comuni di Castelnovo nè Monti\, Toano\, Villa Minozzo e Ventasso\, il presidente di Avis Emilia Romagna dott. Pirazzoli\, il direttore generale e il direttore sanitario AUSL dottori Nicolini e Mazzi e il sottosegretario alla Presidenza della Regione Manghi. \nAlcuni dati: \nRaccolta: \nIl 2018 si è chiuso positivamente con un aumento dell’1\,25% rispetto al 2017. Complessivamente sono state 20.312 le sacche di sangue intero (+158 rispetto allo scorso anno)\, 7.522 le unità di plasma (+141) e 437 le donazioni di piastrine (+50). \n Donatori: \nIl 2018 ha fatto registrare un dato positivo per quanto riguarda le nuove adesioni con 1.957 nuovi iscritti. Il dato a fine anno è di 16.147 donatori a cui vanno sommati 562 soci collaboratori per un totale di 16.709.
URL:https://reggioemilia.avisemiliaromagna.it/evento/44a-assemblea-provinciale-avis-reggio-emilia/
CATEGORIES:Assemblea,Avis Albinea,Avis Baiso,Avis Bibbiano,Avis Boretto,Avis Brescello,Avis Cadelbosco Sopra,Avis Calerno,Avis Casalgrande,Avis Castellarano,Avis Castelnovo nè Monti,Avis Castelnovo Sotto,Avis Cavriago,Avis Comunale Reggio Emilia,Avis Correggio,Avis Fabbrico,Avis Gattatico,Avis Gualtieri,Avis Guastalla,Avis Luzzara,Avis Montecchio,Avis Novellara,Avis Poviglio,Avis Provinciale Reggio Emilia,Avis Quattro Castella,Avis Reggiolo,Avis Rubiera,Avis S. Ilario,Avis San Polo,Avis Santa Vittoria,Avis Scandiano
ATTACH;FMTTYPE=image/jpeg:https://reggioemilia.avisemiliaromagna.it/wp-content/uploads/2019/03/Manifesto-assemblea-2019_home.jpg
END:VEVENT
BEGIN:VEVENT
DTSTART;TZID=Europe/Rome:20181116T210000
DTEND;TZID=Europe/Rome:20181116T233000
DTSTAMP:20260424T193724
CREATED:20181030T110502Z
LAST-MODIFIED:20181030T110502Z
UID:7687-1542402000-1542411000@reggioemilia.avisemiliaromagna.it
SUMMARY:Consegna delle Borse di Studio Avis
DESCRIPTION:Venerdì 16 novembre spettacolo della compagnia “Musical Project” e premiazione dei ragazzi vincitori del concorso “Avis premia Impegno e Volontariato”\nPer il quarto anno consecutivo le Avis della Bassa (Boretto\, Brescello\, Gualtieri\, Guastalla\, Santa Vittoria\, Luzzara\, Novellara\, Reggiolo\, Poviglio) sono unite nella realizzazione di un importante progetto comune\, ossia l’assegnazione di un premio (tablet) a studenti degli Istituti Superiori “Russelltto” e “Carrara” e a studenti residenti nei comuni delle sezioni Avis aderenti all’iniziativa\, indipendentemente dalla scuola frequentata\, che\, diplomatisi nell’anno scolastico 2017/2018\, si sono distinti per il loro meritevole impegno scolastico e per la partecipazione ad attività di volontariato presso AVIS o altre associazioni.\nLa premiazione dei vincitori si svolgerà venerdì 16 novembre presso il Circolo Kaleidos di Poviglio\, e la serata sarà allietata dallo spettacolo dei Musical Project che proporranno un tributo alle band leggendarie del rock e diversi medley tematici tratti dai più famosi e coinvolgenti musical della storia.\nQuesta iniziativa si inserisce nei tanti progetti che AVIS promuove tra i giovani per diffondere la cultura del dono\, il valore della solidarietà\, l’approccio alla prevenzione e la tutela della salute e dei corretti stili di vita.\nLe famiglie\, gli amici\, i compagni di classe e le cittadinanze “della Bassa” sono inviatati a condividere questo momento di festa.\nLe sezioni AVIS ringraziano sin d’ora per la partecipazione. \nINGRESSO GRATUITO \nCIRCOLO KALEIDOS\nVIA BOLOGNA\, 1\nPOVIGLIO – RE \nLa locandina dell’evento
URL:https://reggioemilia.avisemiliaromagna.it/evento/consegna-delle-borse-di-studio-avis/
CATEGORIES:Avis Boretto,Avis Brescello,Avis Gualtieri,Avis Guastalla,Avis Luzzara,Avis Novellara,Avis Poviglio,Avis Reggiolo,Avis Santa Vittoria
ATTACH;FMTTYPE=image/jpeg:https://reggioemilia.avisemiliaromagna.it/wp-content/uploads/2018/10/AVIS-Locandina-Borse-di-Studio-2018-bassa_ok.jpg
END:VEVENT
BEGIN:VEVENT
DTSTART;TZID=Europe/Rome:20171118T203000
DTEND;TZID=Europe/Rome:20171118T230000
DTSTAMP:20260424T193724
CREATED:20171030T143222Z
LAST-MODIFIED:20171030T161930Z
UID:5213-1511037000-1511046000@reggioemilia.avisemiliaromagna.it
SUMMARY:Avis premia Impegno e Volontariato
DESCRIPTION:Le Avis della Bassa premiano gli studenti che si sono distinti\, oltre che tra i banchi di scuola\, anche nella vita. Prima\, lo spettacolo ‘Annibale Barca il Cartaginese’\nSabato 18 novembre\, per il terzo anno consecutivo\, le sezioni AVIS di Guastalla\, Boretto\, Brescello\, Gualtieri\, Novellara\, Poviglio\, Reggiolo e Santa Vittoria sono unite nella realizzazione dell’importante progetto condiviso ‘Avis premia impegno e volontariato‘\, che consiste nell’assegnazione di 6 borse di studio del valore di 400 € ciascuna a studenti degli Istituti Superiori “Russell” e “Carrara” che\, diplomatisi nell’anno scolastico 2016/2017\, si sono distinti sia per giudizio scolastico sia per la partecipazione ad attività di volontariato In AVIS o altre associazioni. \nAll’interno della bella cornice del teatro Tagliavini di Novellara\, la consegna delle borse di studio seguirà lo spettacolo della compagnia bolognese dei Delirici\, che porterà in scena\, attraverso il racconto e la musica di Neil Young e dei Traffic\, la vita e il mito di Annibale Barca il Cartaginese. \nL’iniziativa fa parte dei tanti progetti che AVIS promuove tra i giovani per diffondere la cultura del dono\, il valore della solidarietà\, la prevenzione e la tutela della salute e dei corretti stili di vita. \nTutta la cittadinanza del territorio è invitata a partecipare. \nUn grazie di cuore dalle AVIS della Bassa. \nPer le AVIS\nCinzia Ghisi – Vicepresidente AVIS di Novellara \nLa locandina dell’evento \n\nTEATRO TAGLIAVINI di NOVELLARA\nPiazzale Marconi\, 1 – Interno Rocca – Novellara (RE)\nTel. 0522 655407\n\nInizio ore 20\,45\ningresso libero
URL:https://reggioemilia.avisemiliaromagna.it/evento/avis-premia-impegno-volontariato/
CATEGORIES:Avis Boretto,Avis Brescello,Avis Gualtieri,Avis Guastalla,Avis Novellara,Avis Poviglio,Avis Reggiolo,Avis Santa Vittoria,Premiazione,Spettacolo teatrale
ATTACH;FMTTYPE=image/jpeg:https://reggioemilia.avisemiliaromagna.it/wp-content/uploads/2017/10/borse-studio-ok.jpg
END:VEVENT
BEGIN:VEVENT
DTSTART;TZID=Europe/Rome:20171018T203000
DTEND;TZID=Europe/Rome:20171018T230000
DTSTAMP:20260424T193724
CREATED:20171012T071149Z
LAST-MODIFIED:20171012T072219Z
UID:5060-1508358600-1508367600@reggioemilia.avisemiliaromagna.it
SUMMARY:La donazione di midollo osseo\, dalla A alla.. Vita!
DESCRIPTION:Mercoledì 18 ottobre a Poviglio Admo e Avis insieme per una serata speciale\nMercoledì 18 ottobre alle ore 20:45 a Poviglio\, AVIS comunale di BORETTO \, BRESCELLO e POVIGLIO e ADMO – Associazione Donatori Midollo Osseosono lieti di invitare TUTTI\, donatori avisini e non\, ad una serata speciale : \n– la voce di chi ha donato e ricevuto il midollo osseo tornando alla Vita\n– intervento della Dott.ssa Federica Biasion\, referente sanitario ADMO Reggio Emilia:\n– tutto quello che c’è da sapere sulla donazione\n-la possibilità\, per tutti coloro che hanno tra i 18 e i 35 anni compresi\, di poter diventare dei potenziali donatori con un semplice PRELIEVO SALIVARE ! \nSolo 1 persona su 100.000 è compatibile con un paziente in attesa di trapianto.. e se fossi proprio TU? \nSONO INVITATI ANCHE I NON DONATORI AVIS (per voi che non donate faremo solo un tampone salivale\, assolutamente indolore e non invasivo)\nTI ASPETTIAMO!  \nAi donatori avisini: il 4 e il 5 novembre ci sarà anche la possibilità di iscriversi al Registro Donatori Midollo Osseo durante la vostra donazione di sangue con 2 sole provette in più prese direttamente dalla sacca! \nPer info: 334-1369246
URL:https://reggioemilia.avisemiliaromagna.it/evento/la-donazione-midollo-osseo-dalla-alla-vita/
CATEGORIES:Admo,Avis Boretto,Avis Brescello,Avis Poviglio,Incontro Informativo
ATTACH;FMTTYPE=image/jpeg:https://reggioemilia.avisemiliaromagna.it/wp-content/uploads/2017/10/admooo.jpg
END:VEVENT
END:VCALENDAR