BEGIN:VCALENDAR
VERSION:2.0
PRODID:-//Avis Provinciale di Reggio Emilia ODV - ECPv6.15.13//NONSGML v1.0//EN
CALSCALE:GREGORIAN
METHOD:PUBLISH
X-WR-CALNAME:Avis Provinciale di Reggio Emilia ODV
X-ORIGINAL-URL:https://reggioemilia.avisemiliaromagna.it
X-WR-CALDESC:Eventi per Avis Provinciale di Reggio Emilia ODV
REFRESH-INTERVAL;VALUE=DURATION:PT1H
X-Robots-Tag:noindex
X-PUBLISHED-TTL:PT1H
BEGIN:VTIMEZONE
TZID:Europe/Rome
BEGIN:DAYLIGHT
TZOFFSETFROM:+0100
TZOFFSETTO:+0200
TZNAME:CEST
DTSTART:20170326T010000
END:DAYLIGHT
BEGIN:STANDARD
TZOFFSETFROM:+0200
TZOFFSETTO:+0100
TZNAME:CET
DTSTART:20171029T010000
END:STANDARD
BEGIN:DAYLIGHT
TZOFFSETFROM:+0100
TZOFFSETTO:+0200
TZNAME:CEST
DTSTART:20180325T010000
END:DAYLIGHT
BEGIN:STANDARD
TZOFFSETFROM:+0200
TZOFFSETTO:+0100
TZNAME:CET
DTSTART:20181028T010000
END:STANDARD
BEGIN:DAYLIGHT
TZOFFSETFROM:+0100
TZOFFSETTO:+0200
TZNAME:CEST
DTSTART:20190331T010000
END:DAYLIGHT
BEGIN:STANDARD
TZOFFSETFROM:+0200
TZOFFSETTO:+0100
TZNAME:CET
DTSTART:20191027T010000
END:STANDARD
BEGIN:DAYLIGHT
TZOFFSETFROM:+0100
TZOFFSETTO:+0200
TZNAME:CEST
DTSTART:20200329T010000
END:DAYLIGHT
BEGIN:STANDARD
TZOFFSETFROM:+0200
TZOFFSETTO:+0100
TZNAME:CET
DTSTART:20201025T010000
END:STANDARD
BEGIN:DAYLIGHT
TZOFFSETFROM:+0100
TZOFFSETTO:+0200
TZNAME:CEST
DTSTART:20210328T010000
END:DAYLIGHT
BEGIN:STANDARD
TZOFFSETFROM:+0200
TZOFFSETTO:+0100
TZNAME:CET
DTSTART:20211031T010000
END:STANDARD
BEGIN:DAYLIGHT
TZOFFSETFROM:+0100
TZOFFSETTO:+0200
TZNAME:CEST
DTSTART:20220327T010000
END:DAYLIGHT
BEGIN:STANDARD
TZOFFSETFROM:+0200
TZOFFSETTO:+0100
TZNAME:CET
DTSTART:20221030T010000
END:STANDARD
BEGIN:DAYLIGHT
TZOFFSETFROM:+0100
TZOFFSETTO:+0200
TZNAME:CEST
DTSTART:20230326T010000
END:DAYLIGHT
BEGIN:STANDARD
TZOFFSETFROM:+0200
TZOFFSETTO:+0100
TZNAME:CET
DTSTART:20231029T010000
END:STANDARD
BEGIN:DAYLIGHT
TZOFFSETFROM:+0100
TZOFFSETTO:+0200
TZNAME:CEST
DTSTART:20240331T010000
END:DAYLIGHT
BEGIN:STANDARD
TZOFFSETFROM:+0200
TZOFFSETTO:+0100
TZNAME:CET
DTSTART:20241027T010000
END:STANDARD
BEGIN:DAYLIGHT
TZOFFSETFROM:+0100
TZOFFSETTO:+0200
TZNAME:CEST
DTSTART:20250330T010000
END:DAYLIGHT
BEGIN:STANDARD
TZOFFSETFROM:+0200
TZOFFSETTO:+0100
TZNAME:CET
DTSTART:20251026T010000
END:STANDARD
BEGIN:DAYLIGHT
TZOFFSETFROM:+0100
TZOFFSETTO:+0200
TZNAME:CEST
DTSTART:20260329T010000
END:DAYLIGHT
BEGIN:STANDARD
TZOFFSETFROM:+0200
TZOFFSETTO:+0100
TZNAME:CET
DTSTART:20261025T010000
END:STANDARD
BEGIN:DAYLIGHT
TZOFFSETFROM:+0100
TZOFFSETTO:+0200
TZNAME:CEST
DTSTART:20270328T010000
END:DAYLIGHT
BEGIN:STANDARD
TZOFFSETFROM:+0200
TZOFFSETTO:+0100
TZNAME:CET
DTSTART:20271031T010000
END:STANDARD
END:VTIMEZONE
BEGIN:VEVENT
DTSTART;TZID=Europe/Rome:20260418T160000
DTEND;TZID=Europe/Rome:20260418T203000
DTSTAMP:20260424T211749
CREATED:20260401T122119Z
LAST-MODIFIED:20260401T122221Z
UID:19238-1776528000-1776544200@reggioemilia.avisemiliaromagna.it
SUMMARY:Una Goccia ti salva la vita - Montecchio Emilia
DESCRIPTION:Una Goccia ti Salva la Vita 🩸\nUnisciti a noi per una giornata speciale dedicata alla donazione\, al volontariato e alla sicurezza. Un evento pensato per la cittadinanza\, dove imparare\, divertirsi e scoprire il valore della solidarietà. \nQuando e Dove\nData: Sabato 18 Aprile 2026 \nOrario: Dalle ore 16:00 \nLuogo: Piazza Repubblica\, Montecchio Emilia (RE) \nCosa ti aspetta\nIl pomeriggio sarà ricco di attività coinvolgenti per grandi e piccini: \nDimostrazioni Pratiche: Prove di primo soccorso e lezioni di guida sicura a cura delle Associazioni e delle Forze dell’Ordine. \nOspite Speciale: Potrai ammirare da vicino la straordinaria Lamborghini Urus della Polizia di Stato. \nPunto Ristoro: Non mancherà il lato gastronomico con il tradizionale gnocco fritto preparato dalla Pro Loco Montecchio Emilia. \nℹ️ Informazioni Utili\nIngresso: Gratuito e aperto a tutti. \nCollaborazioni: L’evento è organizzato in collaborazione con il Comune di Montecchio Emilia\, AVIS\, Croce Arancione\, Protezione Civile\, Vigili del Fuoco\, Polizia Locale e numerose realtà locali. \nNon mancare! La tua partecipazione è il primo passo verso una comunità più sicura e solidale.
URL:https://reggioemilia.avisemiliaromagna.it/evento/una-goccia-ti-salva-la-vita-montecchio-emilia/
LOCATION:Montecchio Emilia
CATEGORIES:Avis Montecchio
END:VEVENT
BEGIN:VEVENT
DTSTART;TZID=Europe/Rome:20250921T090000
DTEND;TZID=Europe/Rome:20250921T130000
DTSTAMP:20260424T211749
CREATED:20250905T081529Z
LAST-MODIFIED:20250919T091501Z
UID:18668-1758445200-1758459600@reggioemilia.avisemiliaromagna.it
SUMMARY:Corri con l'Avis - Montecchio Emilia
DESCRIPTION:🏃‍♂️ Corri con l’Avis  28^ Edizione– Montecchio Emilia \n📅 Domenica 21 settembre 2025 \n📍 Centro Sportivo Silvio D’Arzo\, via delle Scienze – Montecchio Emilia (RE) \nOrganizzata da AVIS Montecchio Emilia \nOre 9.30: Gara competitiva di 11 km (valida come 18ª prova Gran Prix individuale UISP Reggio Emilia\, 8ª prova circuito “UISP Parma For Running”) \nOre 9.30: Camminata non competitiva di 5.5 km e 11 km\, aperta a tutti \nOre 9.00: Settore giovanile – percorsi da 1.2 e 1.6 km (Campionato REGGiovani 2025) \nInfo iscrizioni\nCompetitiva: €15 entro 18/09/2025 ore 24.00 su irunning.it/emiliaromagna \n(Pagamento con bonifico IBAN IT18D0303266390010000008763 o PayPal – causale: “Iscrizione Corri con Avis”) \nGadget: giacchino antivento (300 pettorali disponibili) \nIscrizione in loco: €18 \nSolo Gran Prix: €5 (pacco gara non competitivo) \nNon competitiva: contributo €3 con riconoscimento \nPremi\n🏅 Competitiva: primi 10 uomini assoluti\, prime 5 donne assolute + categorie giovanili🏆 Prime 30 società con almeno 10 iscritti \nServizi\nRistori a metà percorso e all’arrivo \nSpogliatoi\, docce e deposito borse \nAssistenza medica e Croce Arancione \n📞 Info: Alessandro (WhatsApp) 349.2978169 – ✉️ alesmart58@gmail.com
URL:https://reggioemilia.avisemiliaromagna.it/evento/corri-con-lavis-montecchio-emilia/
LOCATION:Montecchio Emilia
CATEGORIES:Avis Montecchio
END:VEVENT
BEGIN:VEVENT
DTSTART;TZID=Europe/Rome:20250426T103000
DTEND;TZID=Europe/Rome:20250427T130000
DTSTAMP:20260424T211749
CREATED:20250422T071148Z
LAST-MODIFIED:20250422T085712Z
UID:18230-1745663400-1745758800@reggioemilia.avisemiliaromagna.it
SUMMARY:Raduno di Preparazione ai giochi mondiali dei trapiantati - Montecchio Emilia
DESCRIPTION:Raduno di Preparazione ai giochi mondiali dei trapiantati 2025 con gli amici di Avis Montecchio Emilia\n\n\n  26 & 27 aprile   Montecchio Emilia\n\n\n\nUnisciti a noi per una giornata all’insegna dello sport e della sensibilizzazione sulla donazione di organi e tessuti! \n\n\n\n Cosa ci aspetta?\n Incontro con le Nazionali Italiane Trapiantati e Dializzati\n Testimonianze emozionanti di atleti\, medici e rappresentanti delle associazioni\n Triangolare di calcio a 6\, basket e allenamenti di tennis con la nazionale italiana trapiantati \n Stand gastronomici\, solidarietà e tanto entusiasmo\n\n\n\nGrazie al supporto di #Admo e #Aido e tanti altri partner\, rendiamo possibile questo evento che celebra lo sport e la vita! \n\n\n Ti aspettiamo! Condividi e aiutaci a diffondere il messaggio!\n\n\n\nLocandina dell’evento qui
URL:https://reggioemilia.avisemiliaromagna.it/evento/18230/
LOCATION:Montecchio Emilia
CATEGORIES:Avis Montecchio
END:VEVENT
BEGIN:VEVENT
DTSTART;TZID=Europe/Rome:20240922T083000
DTEND;TZID=Europe/Rome:20240922T130000
DTSTAMP:20260424T211749
CREATED:20240903T081658Z
LAST-MODIFIED:20240903T081658Z
UID:17167-1726993800-1727010000@reggioemilia.avisemiliaromagna.it
SUMMARY:Corri con Avis Montecchio
DESCRIPTION:Domenica 22 settembre gli amici di Avis Montecchio\, in collaborazione con altre associazioni del territorio\, organizzano una camminata non competitiva di 5.5 km e una corsa competitiva di 11 chilometri \n-Contributo organizzativo € 3\,00 con riconoscimento per i percorsi NON competitivi\n-Iscrizione gara competitiva su http://irunning.it/emiliaromagna entro le ore 12.00 del 21/09/24 con quota € 10.00 \nUna bella occasione per fare sport e conoscere le realtà locali! \nTutti i dettagli dell’evento qui
URL:https://reggioemilia.avisemiliaromagna.it/evento/corri-con-avis-montecchio/
LOCATION:Montecchio Emilia
CATEGORIES:Avis Montecchio
END:VEVENT
BEGIN:VEVENT
DTSTART;TZID=Europe/Rome:20220918T080000
DTEND;TZID=Europe/Rome:20220918T120000
DTSTAMP:20260424T211749
CREATED:20220830T134829Z
LAST-MODIFIED:20220830T134936Z
UID:13390-1663488000-1663502400@reggioemilia.avisemiliaromagna.it
SUMMARY:A Montecchio la 25ª "Corri con l'Avis"
DESCRIPTION:Domenica 18 settembre gara competitiva di km 11 valida come 11ª prova Gran Prix individuale e camminate non competitive di 5\,5 e 10\,5 km aperte a tutti\nAvrà luogo domenica 18 settembre\, la 25esima edizione “Corri con l’Avis”\, camminata podistica con un percorso non competitivo e uno competitivo organizzata da Avis Comunale di Montecchio ODV \nIl ritrovo è ssato alle ore 8.00 presso Centro Sportivo Silvio D’Arzo in via delle Scienze a Montecchio Emilia (zona supermercato COOP).\nPartenza ore 9.00 per le categoria Esordienti/Pulcini/Primi Passi M-F\, alle 9.10 per le categorie Ragazzi/e\, Cadetti/e \nalle 9.20 partenza di tutte le altre gare competitive e non. \n-Camminata omologata UISP e valida come 11^ prova Gran Prix Individuale e riservata a tesserati ad enti di promozione ed in regola con le norme sanitarie per l’attività agonistica \n-Contributo organizzativo € 2.00 con riconoscimento per i percorsi NON competitivi \n-Iscrizione gara competitiva su http://irunning.it/emiliaromagna entro le ore 20.00 del 16/09/22 con quota € 10.00. Per gli iscritti al solo Gran Prix la quota sarà di € 5.00. Sarà possibile iscriversi anche il giorno della gara con quota di € 12.00. \n-Verranno premiati i primi 10 uomini assoluti e le prime 5 donne assolute della gara competitiva ed i primi 3 classicati delle categorie Esordienti/Pulcini/Primi Passi\, Ragazzi\, Cadetti maschile e femminile. \n-Verranno premiate inoltre le prime 30 società con almeno 10 iscritti. – A disposizione dei podisti spogliatoi\, docce e deposito borse. \n-È fatto divieto di anticipare la partenza\, il ristoro sarà garantito no alle ore 11.00. -Durante la manifestazione è assicurata la presenza di un’ambulanza della Croce Arancione di Montecchio Emilia e di un medico. \nPer informazioni : Alessandro tel. 349.2978169 – a.martini@meq-srl.com \nVENITECI A TROVARE PRESSO IL CENTRO PRELIEVI VAL D’ENZA in via Barilla nr. 16; dalle 7.30 alle 10.30 tutti i mercoledì\, venerdì e sabato su prenotazione donazione plasma e sangue intero. \nPer Info e prenotazione 0522/862437 cell. 349.2797428 \nLa locandina dell’evento con tutte le informazioni utili
URL:https://reggioemilia.avisemiliaromagna.it/evento/25-corri-con-lavis/
CATEGORIES:Avis Montecchio,Corsa podistica
ATTACH;FMTTYPE=image/jpeg:https://reggioemilia.avisemiliaromagna.it/wp-content/uploads/2022/08/CorriMontecchio.jpg
END:VEVENT
BEGIN:VEVENT
DTSTART;TZID=Europe/Rome:20190330T093000
DTEND;TZID=Europe/Rome:20190330T180000
DTSTAMP:20260424T211749
CREATED:20190325T143901Z
LAST-MODIFIED:20251231T002103Z
UID:8630-1553938200-1553968800@reggioemilia.avisemiliaromagna.it
SUMMARY:44ª Assemblea Provinciale AVIS Reggio Emilia
DESCRIPTION:Si svolgerà sabato 30 marzo a Cavola di Toano l’annuale appuntamento avisino che vedrà coinvolti dirigenti\, delegati\, volontari ed autorità\nIl Consiglio Direttivo dell’AVIS Provinciale di Reggio Emilia ha convocato per sabato 30 marzo alle ore 9.30 la 44ª Assemblea Provinciale degli Associati dell’AVIS di Reggio Emilia presso il ‘Cavola Forum’\, ospitati da Avis Toano. \nDopo due assemblee nella nuova Casa del Dono\, la scelta della sede ospitante quest’anno è caduta sulla località montana con l’intento di ripristinare la tradizione itinerante dell’evento\, di dare una ‘spinta istituzionale’ all’area reggiana in cui Avis è meno presente con le sue sedi nonché un chiaro riconoscimento a chi continua a promuovere il gesto del dono sul nostro appennino. \nInoltre\, quest’anno l’appuntamento è stato anticipato al sabato e la sua durata è stata prolungata all’intera giornata (intervallata da brunch buffet) allo scopo di poter trattare più approfonditamente i tanti argomenti all’ordine del giorno. \nIl titolo scelto da Avis Nazionale per l’edizione 2019 è “Reti solidali: le nuove rotte del volontariato del dono”; un chiaro riferimento alla riforma del Terzo Settore che ha introdotto la nuova figura delle reti associative. Tema caldo della giornata di lavori assembleari sarò l’adeguamento dello Statuto alla nuova normativa per il Terzo Settore con conseguente discussione e approvazione delle modifiche statutarie. \nVerranno poi esposte le relazioni riguardanti le molteplici attività svolte dall’associazione e dalle sue commissioni durante l’anno appena conclusosi e saranno presentati il bilancio consuntivo 2018\, la relazione finanziaria ed il bilancio preventivo 2019. \nUno sguardo sarà rivolto al recente passato (visita di sorveglianza brillantemente superata\, seminari organizzati per addetti ai lavori e per la cittadinanza\, apertura alle donazioni pomeridiane\, eventi promozionali e tanto altro ancora) e uno al futuro imminente con le nuove sfide e gli impegni che attendono Avis\, in primis la ricerca di nuovi donatori\, l’aumento delle donazioni di plasma\, ‘governando’ sempre di più la raccolta di sangue\, ed il mantenimento di tutti gli standard qualitativi di ‘raccolta’. \nLa Casa del Dono si consolida punto di riferimento della donazione (e non solo) sul territorio e prosegue la proficua sinergia con i responsabili della Medicina Trasfusionale dell’ospedale. \nAl termine\, spazio ad interventi\, votazioni e conclusioni. \nTra le autorità invitate i sindaci dei Comuni di Castelnovo nè Monti\, Toano\, Villa Minozzo e Ventasso\, il presidente di Avis Emilia Romagna dott. Pirazzoli\, il direttore generale e il direttore sanitario AUSL dottori Nicolini e Mazzi e il sottosegretario alla Presidenza della Regione Manghi. \nAlcuni dati: \nRaccolta: \nIl 2018 si è chiuso positivamente con un aumento dell’1\,25% rispetto al 2017. Complessivamente sono state 20.312 le sacche di sangue intero (+158 rispetto allo scorso anno)\, 7.522 le unità di plasma (+141) e 437 le donazioni di piastrine (+50). \n Donatori: \nIl 2018 ha fatto registrare un dato positivo per quanto riguarda le nuove adesioni con 1.957 nuovi iscritti. Il dato a fine anno è di 16.147 donatori a cui vanno sommati 562 soci collaboratori per un totale di 16.709.
URL:https://reggioemilia.avisemiliaromagna.it/evento/44a-assemblea-provinciale-avis-reggio-emilia/
CATEGORIES:Assemblea,Avis Albinea,Avis Baiso,Avis Bibbiano,Avis Boretto,Avis Brescello,Avis Cadelbosco Sopra,Avis Calerno,Avis Casalgrande,Avis Castellarano,Avis Castelnovo nè Monti,Avis Castelnovo Sotto,Avis Cavriago,Avis Comunale Reggio Emilia,Avis Correggio,Avis Fabbrico,Avis Gattatico,Avis Gualtieri,Avis Guastalla,Avis Luzzara,Avis Montecchio,Avis Novellara,Avis Poviglio,Avis Provinciale Reggio Emilia,Avis Quattro Castella,Avis Reggiolo,Avis Rubiera,Avis S. Ilario,Avis San Polo,Avis Santa Vittoria,Avis Scandiano
ATTACH;FMTTYPE=image/jpeg:https://reggioemilia.avisemiliaromagna.it/wp-content/uploads/2019/03/Manifesto-assemblea-2019_home.jpg
END:VEVENT
BEGIN:VEVENT
DTSTART;TZID=Europe/Rome:20180923T090000
DTEND;TZID=Europe/Rome:20180923T120000
DTSTAMP:20260424T211749
CREATED:20180723T082645Z
LAST-MODIFIED:20180723T082645Z
UID:7101-1537693200-1537704000@reggioemilia.avisemiliaromagna.it
SUMMARY:Corri con l'AVIS 2018
DESCRIPTION:Il gruppo podistico Avis Montecchio e Avis Montecchio vi invitano alla classica ‘Corri con l’AVIS‘ che\, per il 2018\, annuncia grandi novità: sarà uno spettacolo parteciparvi!\nNuova data e nuovo percorso con partenza e arrivo presso la pista di atletica del Silvio d’Arzo!\nL’appuntamento è fissato per domenica 23 settembre dalle ore 9.00. Ritrovo Via delle Scienze a Montecchio Emilia.\nCorsa competitiva di circa 11 km\, con camminata non competitiva al seguito.\nPrima della gara competitiva ci saranno le gare giovanili. \nPer le iscrizioni alla competitiva e dare un’occhiata al tracciato completamente nuovo
URL:https://reggioemilia.avisemiliaromagna.it/evento/corri-con-lavis-2018/
CATEGORIES:Avis Montecchio,Camminata,Camminata non competitiva enogastronomica,Evento sportivo
ATTACH;FMTTYPE=image/jpeg:https://reggioemilia.avisemiliaromagna.it/wp-content/uploads/2018/07/Avis_corsa_ok.jpg
END:VEVENT
END:VCALENDAR