BEGIN:VCALENDAR
VERSION:2.0
PRODID:-//Avis Provinciale di Reggio Emilia ODV - ECPv6.15.13//NONSGML v1.0//EN
CALSCALE:GREGORIAN
METHOD:PUBLISH
X-ORIGINAL-URL:https://reggioemilia.avisemiliaromagna.it
X-WR-CALDESC:Eventi per Avis Provinciale di Reggio Emilia ODV
REFRESH-INTERVAL;VALUE=DURATION:PT1H
X-Robots-Tag:noindex
X-PUBLISHED-TTL:PT1H
BEGIN:VTIMEZONE
TZID:Europe/Rome
BEGIN:DAYLIGHT
TZOFFSETFROM:+0100
TZOFFSETTO:+0200
TZNAME:CEST
DTSTART:20160327T010000
END:DAYLIGHT
BEGIN:STANDARD
TZOFFSETFROM:+0200
TZOFFSETTO:+0100
TZNAME:CET
DTSTART:20161030T010000
END:STANDARD
BEGIN:DAYLIGHT
TZOFFSETFROM:+0100
TZOFFSETTO:+0200
TZNAME:CEST
DTSTART:20170326T010000
END:DAYLIGHT
BEGIN:STANDARD
TZOFFSETFROM:+0200
TZOFFSETTO:+0100
TZNAME:CET
DTSTART:20171029T010000
END:STANDARD
BEGIN:DAYLIGHT
TZOFFSETFROM:+0100
TZOFFSETTO:+0200
TZNAME:CEST
DTSTART:20180325T010000
END:DAYLIGHT
BEGIN:STANDARD
TZOFFSETFROM:+0200
TZOFFSETTO:+0100
TZNAME:CET
DTSTART:20181028T010000
END:STANDARD
BEGIN:DAYLIGHT
TZOFFSETFROM:+0100
TZOFFSETTO:+0200
TZNAME:CEST
DTSTART:20190331T010000
END:DAYLIGHT
BEGIN:STANDARD
TZOFFSETFROM:+0200
TZOFFSETTO:+0100
TZNAME:CET
DTSTART:20191027T010000
END:STANDARD
BEGIN:DAYLIGHT
TZOFFSETFROM:+0100
TZOFFSETTO:+0200
TZNAME:CEST
DTSTART:20200329T010000
END:DAYLIGHT
BEGIN:STANDARD
TZOFFSETFROM:+0200
TZOFFSETTO:+0100
TZNAME:CET
DTSTART:20201025T010000
END:STANDARD
END:VTIMEZONE
BEGIN:VEVENT
DTSTART;TZID=Europe/Rome:20190907T173000
DTEND;TZID=Europe/Rome:20190907T210000
DTSTAMP:20260424T180130
CREATED:20190823T103347Z
LAST-MODIFIED:20190823T103347Z
UID:9705-1567877400-1567890000@reggioemilia.avisemiliaromagna.it
SUMMARY:Casalgrande\,  inaugura la nuova sede AVIS
DESCRIPTION:La nuova sede di via Santa Rizza sarà operativa da domenica 25 agosto. Inaugurazione ufficiale sabato 7 settembre\n Sabato 7 settembre sarà inaugurata ufficialmente la nuova sede di Avis Casalgrande ed Ema Emilia Ambulanze.\nLe due associazioni di volontariato si trasferiscono dopo una lunga permanenza nell’ex biblioteca di via Aldo Moro\, nel centro del paese\, ora destinata a nuovi usi culturali.\nLa sede Avis in verità\, dopo aver ottenuto tutti i permessi burocratici del caso\, è già funzionale ed effettuerà la sua prima giornata di raccolta sangue già domenica 25 agosto (per i donatori con la lettera iniziale del cognome compresa tra la A e la F).\nSuccessivamente i donatori potranno offrire il loro braccio nelle giornate di sabato 31 agosto (G-O) e domenica 1 settembre (P-Z)\, dopo opportuna prenotazione. \nIl programma della giornata \nL’evento su facebook
URL:https://reggioemilia.avisemiliaromagna.it/evento/casalgrande-inaugura-la-nuova-sede-avis/
CATEGORIES:Avis Casalgrande
ATTACH;FMTTYPE=image/png:https://reggioemilia.avisemiliaromagna.it/wp-content/uploads/2019/08/sede-casalgrande-home.png
END:VEVENT
BEGIN:VEVENT
DTSTART;TZID=Europe/Rome:20190330T093000
DTEND;TZID=Europe/Rome:20190330T180000
DTSTAMP:20260424T180130
CREATED:20190325T143901Z
LAST-MODIFIED:20251231T002103Z
UID:8630-1553938200-1553968800@reggioemilia.avisemiliaromagna.it
SUMMARY:44ª Assemblea Provinciale AVIS Reggio Emilia
DESCRIPTION:Si svolgerà sabato 30 marzo a Cavola di Toano l’annuale appuntamento avisino che vedrà coinvolti dirigenti\, delegati\, volontari ed autorità\nIl Consiglio Direttivo dell’AVIS Provinciale di Reggio Emilia ha convocato per sabato 30 marzo alle ore 9.30 la 44ª Assemblea Provinciale degli Associati dell’AVIS di Reggio Emilia presso il ‘Cavola Forum’\, ospitati da Avis Toano. \nDopo due assemblee nella nuova Casa del Dono\, la scelta della sede ospitante quest’anno è caduta sulla località montana con l’intento di ripristinare la tradizione itinerante dell’evento\, di dare una ‘spinta istituzionale’ all’area reggiana in cui Avis è meno presente con le sue sedi nonché un chiaro riconoscimento a chi continua a promuovere il gesto del dono sul nostro appennino. \nInoltre\, quest’anno l’appuntamento è stato anticipato al sabato e la sua durata è stata prolungata all’intera giornata (intervallata da brunch buffet) allo scopo di poter trattare più approfonditamente i tanti argomenti all’ordine del giorno. \nIl titolo scelto da Avis Nazionale per l’edizione 2019 è “Reti solidali: le nuove rotte del volontariato del dono”; un chiaro riferimento alla riforma del Terzo Settore che ha introdotto la nuova figura delle reti associative. Tema caldo della giornata di lavori assembleari sarò l’adeguamento dello Statuto alla nuova normativa per il Terzo Settore con conseguente discussione e approvazione delle modifiche statutarie. \nVerranno poi esposte le relazioni riguardanti le molteplici attività svolte dall’associazione e dalle sue commissioni durante l’anno appena conclusosi e saranno presentati il bilancio consuntivo 2018\, la relazione finanziaria ed il bilancio preventivo 2019. \nUno sguardo sarà rivolto al recente passato (visita di sorveglianza brillantemente superata\, seminari organizzati per addetti ai lavori e per la cittadinanza\, apertura alle donazioni pomeridiane\, eventi promozionali e tanto altro ancora) e uno al futuro imminente con le nuove sfide e gli impegni che attendono Avis\, in primis la ricerca di nuovi donatori\, l’aumento delle donazioni di plasma\, ‘governando’ sempre di più la raccolta di sangue\, ed il mantenimento di tutti gli standard qualitativi di ‘raccolta’. \nLa Casa del Dono si consolida punto di riferimento della donazione (e non solo) sul territorio e prosegue la proficua sinergia con i responsabili della Medicina Trasfusionale dell’ospedale. \nAl termine\, spazio ad interventi\, votazioni e conclusioni. \nTra le autorità invitate i sindaci dei Comuni di Castelnovo nè Monti\, Toano\, Villa Minozzo e Ventasso\, il presidente di Avis Emilia Romagna dott. Pirazzoli\, il direttore generale e il direttore sanitario AUSL dottori Nicolini e Mazzi e il sottosegretario alla Presidenza della Regione Manghi. \nAlcuni dati: \nRaccolta: \nIl 2018 si è chiuso positivamente con un aumento dell’1\,25% rispetto al 2017. Complessivamente sono state 20.312 le sacche di sangue intero (+158 rispetto allo scorso anno)\, 7.522 le unità di plasma (+141) e 437 le donazioni di piastrine (+50). \n Donatori: \nIl 2018 ha fatto registrare un dato positivo per quanto riguarda le nuove adesioni con 1.957 nuovi iscritti. Il dato a fine anno è di 16.147 donatori a cui vanno sommati 562 soci collaboratori per un totale di 16.709.
URL:https://reggioemilia.avisemiliaromagna.it/evento/44a-assemblea-provinciale-avis-reggio-emilia/
CATEGORIES:Assemblea,Avis Albinea,Avis Baiso,Avis Bibbiano,Avis Boretto,Avis Brescello,Avis Cadelbosco Sopra,Avis Calerno,Avis Casalgrande,Avis Castellarano,Avis Castelnovo nè Monti,Avis Castelnovo Sotto,Avis Cavriago,Avis Comunale Reggio Emilia,Avis Correggio,Avis Fabbrico,Avis Gattatico,Avis Gualtieri,Avis Guastalla,Avis Luzzara,Avis Montecchio,Avis Novellara,Avis Poviglio,Avis Provinciale Reggio Emilia,Avis Quattro Castella,Avis Reggiolo,Avis Rubiera,Avis S. Ilario,Avis San Polo,Avis Santa Vittoria,Avis Scandiano
ATTACH;FMTTYPE=image/jpeg:https://reggioemilia.avisemiliaromagna.it/wp-content/uploads/2019/03/Manifesto-assemblea-2019_home.jpg
END:VEVENT
BEGIN:VEVENT
DTSTART;TZID=Europe/Rome:20190106T093000
DTEND;TZID=Europe/Rome:20190106T120000
DTSTAMP:20260424T180130
CREATED:20190104T080945Z
LAST-MODIFIED:20190104T081033Z
UID:8431-1546767000-1546776000@reggioemilia.avisemiliaromagna.it
SUMMARY:Ritorna la Chocolate Run
DESCRIPTION:Corsa benefica e solidale con Avis Casalgrande\nDomenica 06 Gennaio alle ore 10.00 il gruppo sportivo Virtus\, con il patrocinio del Comune di Casalgrande e in collaborazione con Pro Loco\, Ema e Avis\, organizza la nona Chocolate Run. Due saranno le gare\, una non competitiva (di 1\, 3\, 6 e 9 km) e una competitiva (di 9 km). \nISCRIZIONI COMPETITIVA: Le iscrizioni si ricevono entro VENERDI’ 4 GENNAIO ore 24:00 tramite INTERNET all‘indirizzo www.runningblog.it\, via e-mail a iscrizioni@runningblog.it\, tramite il portale uisp www.atleticando.net\, o via fax al numero 0522/1840156 compilando il modulo sul retro. La gara é riservata ad atleti in possesso di regolare certificato medico agonistico valido per l’ATLETICA LEGGERA tesserati UISP\, FIDAL\, RUNCARD o altro ente convenzionato con UISP Reggio Emilia. E’ possibile l’iscrizione con il solo certificato medico agonisitico valido per l’ATLETICA LEGGERA con la maggiorazione della quota d‘iscrizione di Euro 2\,00. All’atto dell’iscrizione occorre precisare nome\, cognome\, data di nascita\, tipo e numero di tessera\, società sportiva di appartenenza e inviare copia del certificato medico. \nLa quota di partecipazione é fissata in €uro 8\,00 per le iscrizioni ricevute entro il 4 GENNAIO ore 24:00. \nSarà possibile iscriversi DOMENICA 6 GENNAIO presso la segreteria della gara al prezzo di €uro 10\,00 entro le ore 9:30 \nRITROVO ore 9:00 in P.zza Martiri della Libertà (P.zza del Municipio) a Casalgrande – PARTENZA ore 10:00 per tutti.\nPREMIAZIONI: Verranno premiati i primi 5 uomini e le prime 5 donne con premi in natura e ai primi 3 anche premio tecnico offerto da Free Run. Eventuali altri premi saranno comunicati prima del via. Premio di partecipazione a tutti gli iscritti. \nISCRIZIONE NON COMPETITIVA €uro 2\,00 fino a 15 minuti dalla partenza.\nPREMIAZIONI SOCIETA’: Verranno premiate tutte le società con un minimo di 10 partecipanti. \nSERVIZI: Sono previsti due punti di ristoro\, uno a metà del percorso lungo e uno all’arrivo per tutti.\nServizio di assistenza sanitaria garantito da EMA Emilia Ambulanze di Casalgrande.\nPresente un punto vendita articoli sportivi FREE RUN. \nE’ vietato anticipare la partenza e seguire gli atleti con qualunque mezzo durante lo svolgimento della gara.\nSi declina ogni responsabilità per danni a cose o persone\, prima\, durante o dopo lo svolgimento della manifestazione. \nProgramma e modulo d’iscrizione \nFonte: www.eventiesagre.it
URL:https://reggioemilia.avisemiliaromagna.it/evento/ritorna-la-chocolate-run/
CATEGORIES:Avis Casalgrande
ATTACH;FMTTYPE=image/jpeg:https://reggioemilia.avisemiliaromagna.it/wp-content/uploads/2019/01/chocolaterun_2019__hp.jpg
END:VEVENT
BEGIN:VEVENT
DTSTART;TZID=Europe/Rome:20180610T053000
DTEND;TZID=Europe/Rome:20180610T210000
DTSTAMP:20260424T180130
CREATED:20180502T145239Z
LAST-MODIFIED:20180502T145239Z
UID:6102-1528608600-1528664400@reggioemilia.avisemiliaromagna.it
SUMMARY:Gita al Lago con Avis Casalgrande
DESCRIPTION:Tempo di Gita sociale per tutti gli amici di Avis Casalgrande…. domenica 10 giugno si va al LAGO DI COMO! \nPROGRAMMA DI MASSIMA: \nOre 05\,45 Ritrovo piazzale CONAD Casalgrande\, sistemazione in pullman. \nOre 06.00 partenza per Como con sosta durante il percorso \nOre 09.30 Circa arrivo a Como e incontro con la guida per la visita della cittadina. \nCOMO: città situata nella parte meridionale del lago di Como. Il centro della città è situato sul lungolago\, intorno alla piazza del Duomo\,\nuna delle maggiori cattedrali dell’alta Italia. Il nucleo storico presenta ancora l’aspetto dell’originario castrum romano\, con mura medievali ben conservate e grandi torri di vedetta (Porta Torre\, Torre Gattoni\, San Vitale). Notevoli sono le chiese di S. Abbondio e S. Fedele\, cuore della città murata\, mentre di valore artistico sono i palazzi razionalisti eretti dal comasco Giuseppe Terragni: la Casa del Fascio\, il Monumento ai Caduti\, l’Asilo Sant’Elia e il Novocomum. \nNei pressi\,il Tempio Voltiano custodisce alcuni cimeli dello scienziato Alessandro Volta\, altro illustre comasco\, inventore della pila elettrica. Villa Olmo è sede di mostre d’arte di alto livello mentre la funicolare che collega la città al monte di Brunate completa l’itinerario della visita. Sono classiche le gite in battello sul lago. \nORE 12.30 pranzo in ristorante \nNel pomeriggio tempo libero a disposizione per escursioni individuali in loco. \nPossibilità di effettuare escursioni in battello della durata di circa un’ora nel primo bacino di Como tra le località di Cernobbio\, Moltrasio e Torno\, interessante gita in battello consigliata per completare in modo originale la visita della città di Como. (prezzo del biglietto di A/R per il giro senza soste €7.60 a persona\, prezzo del biglietto circolare con possibilità di sosta a Cernobbio o Moltrasio o Torno €8.90 a persona). \nOre 18.00 partenza per il rientro a Casalgrande\, arrivo previsto per le ore 21.00 \nQuota donatori: Eur 20.00 \nQuota non donatori e/o famigliari Eur 65\,00 \n(minimo 35 partecipanti) \nLa quota comprende: \nViaggio in pullman G.T \nVisita guidata di Como \nPranzo in ristorante\, bevande incluse \nAssicurazione sanitaria \nLa quota non comprende: \nMance ed extra personali e tutto quanto non menzionato sotto la voce: la quota comprende \nPer Informazioni 3317546088 \nBUON VIAGGIO e…. TUTTI POSSONO PARTECIPARE! \nVisita il sito di Avis Casalgrande! \n 
URL:https://reggioemilia.avisemiliaromagna.it/evento/gita-al-lago-con-avis-casalgrande/
CATEGORIES:Avis Casalgrande,Gita,Gita sociale
ATTACH;FMTTYPE=image/jpeg:https://reggioemilia.avisemiliaromagna.it/wp-content/uploads/2018/05/Lago-Como.jpg
END:VEVENT
BEGIN:VEVENT
DTSTART;TZID=Europe/Rome:20171105T110000
DTEND;TZID=Europe/Rome:20171105T140000
DTSTAMP:20260424T180130
CREATED:20171030T095120Z
LAST-MODIFIED:20171030T095120Z
UID:5202-1509879600-1509890400@reggioemilia.avisemiliaromagna.it
SUMMARY:ADMO a Salvaterra!
DESCRIPTION:Domenica 5\,  potrai diventare un potenziale donatore grazie ad un semplice prelievo salivare\nTi piacerebbe avere maggiori informazioni sulla LEUCEMIA e sul trapianto di MIDOLLO OSSEO?\nTi piacerebbe valutare la possibilità di diventare donatore di midollo osseo?\nVieni all’incontro che si terra’ \nDOMENICA 5 NOVEMBRE 2017 dalle ore 11\,15 alle 14\,00\npresso l’Oratorio Giovanni Paolo II\nVia I Maggio 129 – Salvaterra (RE) \nAl termine dell’incontro\, se hai tra i 18 e 35 anni potrai diventare un potenziale donatore grazie ad un semplice prelievo salivare\, con l’assistenza dei sanitari ADMO.\nVieni a conoscere ADMO! \nInterverrano:\nDott.ssa Rita Malavolta\, Presidente Nazionale ADMO e Presidente Regionale ADMO Emilia Romagna\nErio bagni\, Socio Fondatore ADMO Emilia Romagna\nDott.ssa Federica Biasion\, Referente Sanitario ADMO Emilia Romagna\nDott. Francesco Merli\, Direttore Struttura Complessa di Ematologia Ospedale Santa Maria Nuova \, IRCCS – Istituto di Ricovero e Cura a Carattere scientifico\, CORE – Centro Oncologico RE
URL:https://reggioemilia.avisemiliaromagna.it/evento/admo-a-salvaterra/
CATEGORIES:Admo,Avis Casalgrande
ATTACH;FMTTYPE=image/jpeg:https://reggioemilia.avisemiliaromagna.it/wp-content/uploads/2017/10/Admo-Salvaterra.jpg
END:VEVENT
END:VCALENDAR