BEGIN:VCALENDAR
VERSION:2.0
PRODID:-//Avis Provinciale di Reggio Emilia ODV - ECPv6.15.13//NONSGML v1.0//EN
CALSCALE:GREGORIAN
METHOD:PUBLISH
X-WR-CALNAME:Avis Provinciale di Reggio Emilia ODV
X-ORIGINAL-URL:https://reggioemilia.avisemiliaromagna.it
X-WR-CALDESC:Eventi per Avis Provinciale di Reggio Emilia ODV
REFRESH-INTERVAL;VALUE=DURATION:PT1H
X-Robots-Tag:noindex
X-PUBLISHED-TTL:PT1H
BEGIN:VTIMEZONE
TZID:Europe/Rome
BEGIN:DAYLIGHT
TZOFFSETFROM:+0100
TZOFFSETTO:+0200
TZNAME:CEST
DTSTART:20250330T010000
END:DAYLIGHT
BEGIN:STANDARD
TZOFFSETFROM:+0200
TZOFFSETTO:+0100
TZNAME:CET
DTSTART:20251026T010000
END:STANDARD
BEGIN:DAYLIGHT
TZOFFSETFROM:+0100
TZOFFSETTO:+0200
TZNAME:CEST
DTSTART:20260329T010000
END:DAYLIGHT
BEGIN:STANDARD
TZOFFSETFROM:+0200
TZOFFSETTO:+0100
TZNAME:CET
DTSTART:20261025T010000
END:STANDARD
BEGIN:DAYLIGHT
TZOFFSETFROM:+0100
TZOFFSETTO:+0200
TZNAME:CEST
DTSTART:20270328T010000
END:DAYLIGHT
BEGIN:STANDARD
TZOFFSETFROM:+0200
TZOFFSETTO:+0100
TZNAME:CET
DTSTART:20271031T010000
END:STANDARD
END:VTIMEZONE
BEGIN:VEVENT
DTSTART;TZID=Europe/Rome:20260429T210000
DTEND;TZID=Europe/Rome:20260429T230000
DTSTAMP:20260424T155756
CREATED:20260421T142449Z
LAST-MODIFIED:20260421T144917Z
UID:19377-1777496400-1777503600@reggioemilia.avisemiliaromagna.it
SUMMARY:Il cuore di Bagnolo
DESCRIPTION:AVIS\, Croce Rossa e Auser insieme per una serata pubblica di sensibilizzazione al volontariato: mercoledì 29 aprile\, ore 21:00.Tre importanti realtà del territorio uniscono le forze per dare nuova linfa al volontariato. “Il cuore di Bagnolo: una serata dedicata a chi vuol fare la differenza”: questo il titolo di una serata che si terrà presso la sede della Croce Rossa di Bagnolo.L’incontro nasce dalla sinergia tra AVIS\, Croce Rossa Italiana e Auser\, con l’obiettivo di presentare le proprie attività e\, soprattutto\, di invitare nuovi cittadini a intraprendere il percorso del volontariato.Mettersi a disposizione della comunità non significa solo offrire il proprio tempo\, ma intraprendere un viaggio di crescita personale. L’impegno sociale è un potente strumento di integrazione e benessere: invitiamo quindi tutti\, dai più giovani agli adulti\, a venire a scoprire come un piccolo gesto possa trasformarsi in una grande opportunità di vita.Durante la serata\, verranno illustrati i diversi modi in cui è possibile collaborare\, secondo le disponibilità e le attitudini di ciascuno.L’invito è rivolto a tutta la popolazione!! \nLocandina della serata
URL:https://reggioemilia.avisemiliaromagna.it/evento/il-cuore-di-bagnolo/
LOCATION:Bagnolo In Piano\, Bagnolo In Piano\, RE\, Italia
CATEGORIES:Avis Bagnolo in Piano
END:VEVENT
END:VCALENDAR