BEGIN:VCALENDAR
VERSION:2.0
PRODID:-//Avis Provinciale di Reggio Emilia ODV - ECPv6.15.13//NONSGML v1.0//EN
CALSCALE:GREGORIAN
METHOD:PUBLISH
X-WR-CALNAME:Avis Provinciale di Reggio Emilia ODV
X-ORIGINAL-URL:https://reggioemilia.avisemiliaromagna.it
X-WR-CALDESC:Eventi per Avis Provinciale di Reggio Emilia ODV
REFRESH-INTERVAL;VALUE=DURATION:PT1H
X-Robots-Tag:noindex
X-PUBLISHED-TTL:PT1H
BEGIN:VTIMEZONE
TZID:Europe/Rome
BEGIN:DAYLIGHT
TZOFFSETFROM:+0100
TZOFFSETTO:+0200
TZNAME:CEST
DTSTART:20220327T010000
END:DAYLIGHT
BEGIN:STANDARD
TZOFFSETFROM:+0200
TZOFFSETTO:+0100
TZNAME:CET
DTSTART:20221030T010000
END:STANDARD
BEGIN:DAYLIGHT
TZOFFSETFROM:+0100
TZOFFSETTO:+0200
TZNAME:CEST
DTSTART:20230326T010000
END:DAYLIGHT
BEGIN:STANDARD
TZOFFSETFROM:+0200
TZOFFSETTO:+0100
TZNAME:CET
DTSTART:20231029T010000
END:STANDARD
BEGIN:DAYLIGHT
TZOFFSETFROM:+0100
TZOFFSETTO:+0200
TZNAME:CEST
DTSTART:20240331T010000
END:DAYLIGHT
BEGIN:STANDARD
TZOFFSETFROM:+0200
TZOFFSETTO:+0100
TZNAME:CET
DTSTART:20241027T010000
END:STANDARD
END:VTIMEZONE
BEGIN:VEVENT
DTSTART;TZID=Europe/Rome:20230422T180000
DTEND;TZID=Europe/Rome:20230422T200000
DTSTAMP:20260419T211359
CREATED:20230418T122736Z
LAST-MODIFIED:20230418T122736Z
UID:14967-1682186400-1682193600@reggioemilia.avisemiliaromagna.it
SUMMARY:Un solo pianeta\, quale futuro?
DESCRIPTION:Sabato 22 aprile alle 18:00 iniziativa di Avis Bagnolo in collaborazione con altre associazioni del territorio presso l’oratorio Don Romano di Pieve Rossa\, rassegna culturale dedicata all’ambiente alla sensibilizzazione per uno dei temi più importanti per le nostre comunità \nSarà l’occasione per presentare gli eventi della rassegna tra leccornie e buona musica. \nNon mancate! \nLocandina completa dell’evento
URL:https://reggioemilia.avisemiliaromagna.it/evento/un-solo-pianeta-quale-futuro/
LOCATION:Bagnolo In Piano\, Bagnolo In Piano\, RE\, Italia
CATEGORIES:Avis Bagnolo in Piano
END:VEVENT
END:VCALENDAR