BEGIN:VCALENDAR
VERSION:2.0
PRODID:-//Avis Provinciale di Reggio Emilia ODV - ECPv6.15.13//NONSGML v1.0//EN
CALSCALE:GREGORIAN
METHOD:PUBLISH
X-ORIGINAL-URL:https://reggioemilia.avisemiliaromagna.it
X-WR-CALDESC:Eventi per Avis Provinciale di Reggio Emilia ODV
REFRESH-INTERVAL;VALUE=DURATION:PT1H
X-Robots-Tag:noindex
X-PUBLISHED-TTL:PT1H
BEGIN:VTIMEZONE
TZID:Europe/Rome
BEGIN:DAYLIGHT
TZOFFSETFROM:+0100
TZOFFSETTO:+0200
TZNAME:CEST
DTSTART:20210328T010000
END:DAYLIGHT
BEGIN:STANDARD
TZOFFSETFROM:+0200
TZOFFSETTO:+0100
TZNAME:CET
DTSTART:20211031T010000
END:STANDARD
BEGIN:DAYLIGHT
TZOFFSETFROM:+0100
TZOFFSETTO:+0200
TZNAME:CEST
DTSTART:20220327T010000
END:DAYLIGHT
BEGIN:STANDARD
TZOFFSETFROM:+0200
TZOFFSETTO:+0100
TZNAME:CET
DTSTART:20221030T010000
END:STANDARD
BEGIN:DAYLIGHT
TZOFFSETFROM:+0100
TZOFFSETTO:+0200
TZNAME:CEST
DTSTART:20230326T010000
END:DAYLIGHT
BEGIN:STANDARD
TZOFFSETFROM:+0200
TZOFFSETTO:+0100
TZNAME:CET
DTSTART:20231029T010000
END:STANDARD
END:VTIMEZONE
BEGIN:VEVENT
DTSTART;TZID=Europe/Rome:20221209T200000
DTEND;TZID=Europe/Rome:20221209T235900
DTSTAMP:20260420T041529
CREATED:20221117T091134Z
LAST-MODIFIED:20221117T091236Z
UID:14248-1670616000-1670630340@reggioemilia.avisemiliaromagna.it
SUMMARY:A cena con TELETHON
DESCRIPTION:Siamo davvero felici nell’annunciare questo importante appuntamento organizzato da Avis Bagnolo in piano con le Avis comunali della nostra provincia.\n\n\nLa cena con Fondazione Telethon è stata pensata per sostenere e promuovere il loro sforzo e impegno sulla ricerca contro le malattie genetiche rare.\n\nVenerdì 9 dicembre alle ore 20:00 presso la Coop Tempo Libero\, via Provinciale Sud 2/B a Bagnolo in\n\nIl ricavato della serata andrà a sostenere completamente le atttività dell’associazione Telethon\n\n\n\nPer prenotazioni 3314028363oppure CTL 0522951479 o Ermanno Rinaldi 3391730141\n\n\nNon resta che segnarlo in agenda e prendere appuntamento!! Piu siamo meglio è!\nLocandina completa dell’evento
URL:https://reggioemilia.avisemiliaromagna.it/evento/a-cena-con-telethon/
LOCATION:Bagnolo In Piano\, Bagnolo In Piano\, RE\, Italia
CATEGORIES:Avis Bagnolo in Piano
ATTACH;FMTTYPE=image/png:https://reggioemilia.avisemiliaromagna.it/wp-content/uploads/2022/11/Immagine-2022-11-17-100150.png
END:VEVENT
END:VCALENDAR