BEGIN:VCALENDAR
VERSION:2.0
PRODID:-//Avis Provinciale di Reggio Emilia ODV - ECPv6.15.13//NONSGML v1.0//EN
CALSCALE:GREGORIAN
METHOD:PUBLISH
X-ORIGINAL-URL:https://reggioemilia.avisemiliaromagna.it
X-WR-CALDESC:Eventi per Avis Provinciale di Reggio Emilia ODV
REFRESH-INTERVAL;VALUE=DURATION:PT1H
X-Robots-Tag:noindex
X-PUBLISHED-TTL:PT1H
BEGIN:VTIMEZONE
TZID:Europe/Rome
BEGIN:DAYLIGHT
TZOFFSETFROM:+0100
TZOFFSETTO:+0200
TZNAME:CEST
DTSTART:20210328T010000
END:DAYLIGHT
BEGIN:STANDARD
TZOFFSETFROM:+0200
TZOFFSETTO:+0100
TZNAME:CET
DTSTART:20211031T010000
END:STANDARD
BEGIN:DAYLIGHT
TZOFFSETFROM:+0100
TZOFFSETTO:+0200
TZNAME:CEST
DTSTART:20220327T010000
END:DAYLIGHT
BEGIN:STANDARD
TZOFFSETFROM:+0200
TZOFFSETTO:+0100
TZNAME:CET
DTSTART:20221030T010000
END:STANDARD
BEGIN:DAYLIGHT
TZOFFSETFROM:+0100
TZOFFSETTO:+0200
TZNAME:CEST
DTSTART:20230326T010000
END:DAYLIGHT
BEGIN:STANDARD
TZOFFSETFROM:+0200
TZOFFSETTO:+0100
TZNAME:CET
DTSTART:20231029T010000
END:STANDARD
END:VTIMEZONE
BEGIN:VEVENT
DTSTART;TZID=Europe/Rome:20220506T080000
DTEND;TZID=Europe/Rome:20220614T230000
DTSTAMP:20260425T031509
CREATED:20220506T122504Z
LAST-MODIFIED:20220506T122504Z
UID:12909-1651824000-1655247600@reggioemilia.avisemiliaromagna.it
SUMMARY:“Vetrine in Rosso”\, torna il concorso di Avis Bagnolo
DESCRIPTION:Seconda edizione per l’iniziativa che “Mette Avis in Vetrina” e premia il negozio (o l’attività) con l’allestimento a tema più votato\nAVIS comunale di Bagnolo in Piano ODV\, in collaborazione con tutte le attività commerciali di Bagnolo in Piano e l’amministrazione comunale\, indice la seconda edizione del Concorso “VETRINE IN ROSSO“.\nSarà una seconda edizione ricca di novità e con qualche cambiamento rispetto alla precedente edizione (leggete attentamente il regolamento sottostante!) ma che vedrà\, anche questa stavolta\, trionfare la vetrina che meglio esprimerà attraverso il colore rosso il concetto di amore verso la donazione di sangue.\nLa foto saranno pubblicate sulla pagina facebook di Avis Bagnolo e la vetrina più votata si aggiudicherà l’ambita COPPA AVIS! \nAnche quest’anno l’iniziativa coinciderà con la Giornata Internazionale del donatore di Sangue\, che si festeggerà il prossimo 14 giugno con lo scopo principale\, come rimarca il presidente dell’Avis bagnolose Thomas Benvenuti\, di incentivare la cultura della donazione del sangue\, valorizzare le attività commerciali del paese e la loro creatività nell’allestimento delle vetrine\, creare nuove sinergie sul territorio e\, ovviamente\, festeggiare insieme l’importante ricorrenza. \nDi seguito:\n– la locandina\n– il Regolamento\n– il modulo di partecipazione \nC’è tempo fino a giovedì 19 maggio per aderire all’iniziativa e fino al 27 maggio per inviare le foto della vetrina “addobbata ad Avis” \nPer info potrete rivolgervi direttamente alla sede di Avis comunale Bagnolo in Piano ODV\nVia Provinciale Sud\, 2/B\nTel. 3314028363\nEmail: bagnolo@avisre.it\nPresenti Sabato mattina dalle 10 alle 12!!! \nPartecipate e Votate !!!! \nScopri il vincitore della passata edizione
URL:https://reggioemilia.avisemiliaromagna.it/evento/vetrine-in-rosso-torna-il-concorso-di-avis-bagnolo/
LOCATION:RE
CATEGORIES:Avis Bagnolo in Piano
ATTACH;FMTTYPE=image/jpeg:https://reggioemilia.avisemiliaromagna.it/wp-content/uploads/2022/05/WhatsApp-Image-2022-04-28-at-16.40.32.jpeg
END:VEVENT
BEGIN:VEVENT
DTSTART;TZID=Europe/Rome:20220630T190000
DTEND;TZID=Europe/Rome:20220703T220000
DTSTAMP:20260425T031509
CREATED:20220609T092939Z
LAST-MODIFIED:20220613T063516Z
UID:13007-1656615600-1656885600@reggioemilia.avisemiliaromagna.it
SUMMARY:A Bagnolo il 1° Torneo di Beach Volley Avis
DESCRIPTION:Festa dello Sport 2022: fair play e divertimento dal 30 giugno al 3 luglio a Pieve Rossa\nAvis e Sport\, da sempre connubio perfetto\, sono insieme strumenti di educazione alla salute e\, più in generale\, alla vita.\nPropio all’insegna di questi imprescindibili princìpi\, i ragazzi di Avis Comunale di Bagnolo in Piano ODV e Avis Provinciale di Reggio Emilia ODV\, con la collaborazione di Virtus U.S.D. Bagnolo in Piano\, organizzano il 1° Torneo di Beach Volley Avis 4 vs 4.\nL’inedito ed entusiasmante evento sportivo\, rigorosamente all’insegna del fair play\, si svolgerà dal 30 giugno al 3 luglio presso i campi dell’Area Parrocchiale Circolo Anspi di Pieve Rossa.\nIl torneo avisino rientra nel programma della tradizionale e partecipatissima Festa dello Sport di Bagnolo in Piano manifestazione che\, dopo 2 anni di stop forzato\, tornerà nuovamente a premiare gli sportivi bagnolesi\, come faceva abitualmente ogni anno. \nL’iscrizioni è gratuita e va effettua entro il 26 giugno. \n3 luglio grande finale con la premiazione dei vincitori. Vi aspettiamo numerosi !!!! \nDi seguito: \n\nRegolamento Torneo Beach Volley\n\nModulo di Iscrizione\nInformativa privacy\nLa locandina dell’evento
URL:https://reggioemilia.avisemiliaromagna.it/evento/a-bagnolo-il-1-torneo-di-beach-volley-avis/
LOCATION:RE
CATEGORIES:Avis Bagnolo in Piano
ATTACH;FMTTYPE=image/jpeg:https://reggioemilia.avisemiliaromagna.it/wp-content/uploads/2022/05/torneo-beach-volley-A4HP.jpg
END:VEVENT
END:VCALENDAR