BEGIN:VCALENDAR
VERSION:2.0
PRODID:-//Avis Provinciale di Reggio Emilia ODV - ECPv6.15.13//NONSGML v1.0//EN
CALSCALE:GREGORIAN
METHOD:PUBLISH
X-WR-CALNAME:Avis Provinciale di Reggio Emilia ODV
X-ORIGINAL-URL:https://reggioemilia.avisemiliaromagna.it
X-WR-CALDESC:Eventi per Avis Provinciale di Reggio Emilia ODV
REFRESH-INTERVAL;VALUE=DURATION:PT1H
X-Robots-Tag:noindex
X-PUBLISHED-TTL:PT1H
BEGIN:VTIMEZONE
TZID:Europe/Rome
BEGIN:DAYLIGHT
TZOFFSETFROM:+0100
TZOFFSETTO:+0200
TZNAME:CEST
DTSTART:20160327T010000
END:DAYLIGHT
BEGIN:STANDARD
TZOFFSETFROM:+0200
TZOFFSETTO:+0100
TZNAME:CET
DTSTART:20161030T010000
END:STANDARD
BEGIN:DAYLIGHT
TZOFFSETFROM:+0100
TZOFFSETTO:+0200
TZNAME:CEST
DTSTART:20170326T010000
END:DAYLIGHT
BEGIN:STANDARD
TZOFFSETFROM:+0200
TZOFFSETTO:+0100
TZNAME:CET
DTSTART:20171029T010000
END:STANDARD
BEGIN:DAYLIGHT
TZOFFSETFROM:+0100
TZOFFSETTO:+0200
TZNAME:CEST
DTSTART:20180325T010000
END:DAYLIGHT
BEGIN:STANDARD
TZOFFSETFROM:+0200
TZOFFSETTO:+0100
TZNAME:CET
DTSTART:20181028T010000
END:STANDARD
BEGIN:DAYLIGHT
TZOFFSETFROM:+0100
TZOFFSETTO:+0200
TZNAME:CEST
DTSTART:20190331T010000
END:DAYLIGHT
BEGIN:STANDARD
TZOFFSETFROM:+0200
TZOFFSETTO:+0100
TZNAME:CET
DTSTART:20191027T010000
END:STANDARD
BEGIN:DAYLIGHT
TZOFFSETFROM:+0100
TZOFFSETTO:+0200
TZNAME:CEST
DTSTART:20200329T010000
END:DAYLIGHT
BEGIN:STANDARD
TZOFFSETFROM:+0200
TZOFFSETTO:+0100
TZNAME:CET
DTSTART:20201025T010000
END:STANDARD
BEGIN:DAYLIGHT
TZOFFSETFROM:+0100
TZOFFSETTO:+0200
TZNAME:CEST
DTSTART:20210328T010000
END:DAYLIGHT
BEGIN:STANDARD
TZOFFSETFROM:+0200
TZOFFSETTO:+0100
TZNAME:CET
DTSTART:20211031T010000
END:STANDARD
BEGIN:DAYLIGHT
TZOFFSETFROM:+0100
TZOFFSETTO:+0200
TZNAME:CEST
DTSTART:20220327T010000
END:DAYLIGHT
BEGIN:STANDARD
TZOFFSETFROM:+0200
TZOFFSETTO:+0100
TZNAME:CET
DTSTART:20221030T010000
END:STANDARD
BEGIN:DAYLIGHT
TZOFFSETFROM:+0100
TZOFFSETTO:+0200
TZNAME:CEST
DTSTART:20230326T010000
END:DAYLIGHT
BEGIN:STANDARD
TZOFFSETFROM:+0200
TZOFFSETTO:+0100
TZNAME:CET
DTSTART:20231029T010000
END:STANDARD
BEGIN:DAYLIGHT
TZOFFSETFROM:+0100
TZOFFSETTO:+0200
TZNAME:CEST
DTSTART:20240331T010000
END:DAYLIGHT
BEGIN:STANDARD
TZOFFSETFROM:+0200
TZOFFSETTO:+0100
TZNAME:CET
DTSTART:20241027T010000
END:STANDARD
END:VTIMEZONE
BEGIN:VEVENT
DTSTART;TZID=Europe/Rome:20230614T173000
DTEND;TZID=Europe/Rome:20230614T183000
DTSTAMP:20260425T135635
CREATED:20230606T072504Z
LAST-MODIFIED:20230606T072504Z
UID:15086-1686763800-1686767400@reggioemilia.avisemiliaromagna.it
SUMMARY:Una panchina per Albinea
DESCRIPTION:In occasione della Giornata mondiale del donatore\, il 14 giugno\, alle ore 17.30 ad Albinea\, nella bellissima cornice naturale del parco Baden Powell\, verrà inaugurata una nuova panchina\, dono dell’AVIS\, sezione comunale di Albinea\, alla cittadinanza. \nSaranno presenti all’evento l’assessore all’Ambiente Daniele Menozzi\, la presidente dell’Avis di Albinea Monica Cocchi\, consiglieri e volontari della sezione \nIl nuovo arredo urbano\, realizzato utilizzando il contributo del 5xmille raccolto negli ultimi due anni (2021 e 2022)\, è un ringraziamento a tutti i donatori e l’hashtag #IO DONO PERCHÉ\, inciso sulla targa che verrà affissa nel momento inaugurale\, vuole mettere in evidenza la dimensione di “condivisione” e “connessione” tra i donatori di sangue e pazienti. Lo slogan internazionale adottato nella celebrazione di quest’anno è infatti “Condividi la Vita\, dona sangue”\, un richiamo al ruolo che il sistema di donazione volontaria gioca per incoraggiare le persone a prendersi cura gli uni degli altri e per promuovere la coesione della comunità.
URL:https://reggioemilia.avisemiliaromagna.it/evento/una-panchina-per-albinea/
LOCATION:Albinea
CATEGORIES:Avis Albinea
END:VEVENT
BEGIN:VEVENT
DTSTART;TZID=Europe/Rome:20190830T190000
DTEND;TZID=Europe/Rome:20190902T233000
DTSTAMP:20260425T135635
CREATED:20190828T102438Z
LAST-MODIFIED:20190828T102504Z
UID:9738-1567191600-1567467000@reggioemilia.avisemiliaromagna.it
SUMMARY:Avis Albinea alla Fiera della Fola 2019
DESCRIPTION:Da venerdì 30 agosto a lunedì 2 settembre\nCi sarà anche Avis Comunale di Albinea ODV alla Fiera della Fola 2019\, con un punto informativo e un banchetto con borsette e libri\, rigorosamente usati.\nOttimo cibo\, spettacoli\, mercatini\, musica\, sport e una grande novità: la festa Irlandese con Irish Music\, animazione danze celtiche. E’ come al solito un menù molto ricco quello proposto dalla tradizionale fiera della Fola\, che si svolgerà ad Albinea da venerdì 30 agosto e fino a lunedì 2 settembre. \nSi partirà venerdì alle 19 con il mercato dell’antiquariato e dell’artigianato in piazza Cavicchioni. A seguire\, alle 20.30\, nella scuola primaria di via Giotto aprirà la 23^ mostra mercato dell’hobby. \nSabato le strade e la piazza del comune saranno animate da bancarelle\, esibizioni sportive e proposte musicali. Al parco dei Frassini\, dalle 15 alle 18:30\, Uisp Sportpertutti organizzerà i “Giochi di una volta” per bambini e adulti. A partire dalle 17\, al parco Lavezza\, andranno in scena il triangolare di basket maschile Under 14 e una partita di basket maschile Under 18. A partire dalle 18 al centro Fola e in via Caduti della Libertà spazio al mercato ambulante e al mercatino artisti e hobbisti. Saranno due gli spettacoli con inizio alle 20.30: al parco dei Frassini i ragazzi del Sap metteranno in scena “Edward mani di forbice”; al circolo Albinetano ballo liscio a ingresso libero con l’orchestra Petrucci Vezzani. Alle 21\, nella palestra della scuola primaria\, taglio del nastro per la mostra dell’hobby. Infine\, alle 21.30\, in piazza Cavicchioni\, concerto della Banda giovanile dell’Appennino Reggiano. \nDomenica sarà la giornata clou. Dalle 9 alle 24 mercato ambulante in centro\, al quale si unirà\, dalle 14\, il mercatino degli artisti e hobbisti. A partire dalle 9 e fino alle 12.30 i bambini potranno divertirsi con “Pompieropoli” in piazza Cavicchioni. Lo sport sarà protagonista alle 17 al parco Lavezza con una partita di minibasket misto e un’amichevole di basket femminile tra due squadre di Serie B. Sempre al parco Lavezza\, alle 17 (con ritrovo alle 16)\, 5^ prova della “Gimkabimby Trophy”\, per bambini e ragazzi dai 3 agli 11 anni. Alle 18 al parco dei Frassini “Time after time”\, sfilata a cura del salone Marina & Jenny e dell’atelier Bigliardi con V.D.M. dj. La giornata si chiuderà alle 21\, in piazza Cavicchioni\, con l’emozionante spettacolo di Acrobatica aerea e il dj set a cura di Insomnia Studios. \nLa fiera terminerà lunedì con un’altra giornata ricchissima di iniziative. Alle 17 al parco dei Frassini “Una mano\, una zampa\, un’amicizia da costruire”: laboratorio per bambini dai 7 ai 10 anni\, a cura de L’Arca di Sara. Dalle 18 alle 24 proseguirà il mercatino ambulante. Alle 20 sarà presentato in piazza il nuovo veicolo a disposizione di “Casa Cervi” e verranno estratti i biglietti vincenti della lotteria. A seguire spazio alla musica irlandese con un workshop gratuito di danze celtiche della scuola Balliamo sul Mondo e una piccola esibizione finale. A partire dalle 21.30 concerto dei “The Claddagh – Traditional Irish Music”\, con la scuola di ballo che\, durante lo spettacolo\, animerà la piazza. Dalle 23 chiusura della kermesse con i tradizionali fuochi d’artificio e l’offerta ai presenti di ciambella e Spergola. \nIn piazzale Lavezza\, oltre al luna park\, sarà aperto da sabato a lunedì\, dalle 19.30\, il ristorante gestito dalla pro loco che offrirà piatti della cucina tradizionale\, un menù a base di pesce e lo gnocco fritto. Dalle 18 di giovedì 29 agosto\, fino a martedì 2 settembre\, sarà possibile visitare la mostra fotografica “La forma dell’acqua”\, che sarà allestita nella sala civica accanto alla biblioteca. \nIn caso di maltempo tutti gli spettacoli si terranno nella sala Maramotti di via Don Sturzo 9. \nLa Fiera è organizzata dal Comune di Albinea\, in collaborazione con la Pro Loco. Il mercato ambulante e il mercatino degli artisti-hobbisti sono curati dal consorzio Com.Re. La manifestazione è sponsorizzata da Conad di Albinea. \nPer informazioni contattare il Comune di Albinea allo 0522.590211\, la biblioteca Pablo Neruda allo 0522.590262\, oppure la Pro Loco al numero 0522.590266 (www.prolocoalbinea.it). \nLa locandina dell’evento
URL:https://reggioemilia.avisemiliaromagna.it/evento/avis-albinea-alla-fiera-della-fola/
CATEGORIES:Avis Albinea
ATTACH;FMTTYPE=image/jpeg:https://reggioemilia.avisemiliaromagna.it/wp-content/uploads/2019/08/fiera-albinea_hp.jpg
END:VEVENT
BEGIN:VEVENT
DTSTART;TZID=Europe/Rome:20190330T093000
DTEND;TZID=Europe/Rome:20190330T180000
DTSTAMP:20260425T135635
CREATED:20190325T143901Z
LAST-MODIFIED:20251231T002103Z
UID:8630-1553938200-1553968800@reggioemilia.avisemiliaromagna.it
SUMMARY:44ª Assemblea Provinciale AVIS Reggio Emilia
DESCRIPTION:Si svolgerà sabato 30 marzo a Cavola di Toano l’annuale appuntamento avisino che vedrà coinvolti dirigenti\, delegati\, volontari ed autorità\nIl Consiglio Direttivo dell’AVIS Provinciale di Reggio Emilia ha convocato per sabato 30 marzo alle ore 9.30 la 44ª Assemblea Provinciale degli Associati dell’AVIS di Reggio Emilia presso il ‘Cavola Forum’\, ospitati da Avis Toano. \nDopo due assemblee nella nuova Casa del Dono\, la scelta della sede ospitante quest’anno è caduta sulla località montana con l’intento di ripristinare la tradizione itinerante dell’evento\, di dare una ‘spinta istituzionale’ all’area reggiana in cui Avis è meno presente con le sue sedi nonché un chiaro riconoscimento a chi continua a promuovere il gesto del dono sul nostro appennino. \nInoltre\, quest’anno l’appuntamento è stato anticipato al sabato e la sua durata è stata prolungata all’intera giornata (intervallata da brunch buffet) allo scopo di poter trattare più approfonditamente i tanti argomenti all’ordine del giorno. \nIl titolo scelto da Avis Nazionale per l’edizione 2019 è “Reti solidali: le nuove rotte del volontariato del dono”; un chiaro riferimento alla riforma del Terzo Settore che ha introdotto la nuova figura delle reti associative. Tema caldo della giornata di lavori assembleari sarò l’adeguamento dello Statuto alla nuova normativa per il Terzo Settore con conseguente discussione e approvazione delle modifiche statutarie. \nVerranno poi esposte le relazioni riguardanti le molteplici attività svolte dall’associazione e dalle sue commissioni durante l’anno appena conclusosi e saranno presentati il bilancio consuntivo 2018\, la relazione finanziaria ed il bilancio preventivo 2019. \nUno sguardo sarà rivolto al recente passato (visita di sorveglianza brillantemente superata\, seminari organizzati per addetti ai lavori e per la cittadinanza\, apertura alle donazioni pomeridiane\, eventi promozionali e tanto altro ancora) e uno al futuro imminente con le nuove sfide e gli impegni che attendono Avis\, in primis la ricerca di nuovi donatori\, l’aumento delle donazioni di plasma\, ‘governando’ sempre di più la raccolta di sangue\, ed il mantenimento di tutti gli standard qualitativi di ‘raccolta’. \nLa Casa del Dono si consolida punto di riferimento della donazione (e non solo) sul territorio e prosegue la proficua sinergia con i responsabili della Medicina Trasfusionale dell’ospedale. \nAl termine\, spazio ad interventi\, votazioni e conclusioni. \nTra le autorità invitate i sindaci dei Comuni di Castelnovo nè Monti\, Toano\, Villa Minozzo e Ventasso\, il presidente di Avis Emilia Romagna dott. Pirazzoli\, il direttore generale e il direttore sanitario AUSL dottori Nicolini e Mazzi e il sottosegretario alla Presidenza della Regione Manghi. \nAlcuni dati: \nRaccolta: \nIl 2018 si è chiuso positivamente con un aumento dell’1\,25% rispetto al 2017. Complessivamente sono state 20.312 le sacche di sangue intero (+158 rispetto allo scorso anno)\, 7.522 le unità di plasma (+141) e 437 le donazioni di piastrine (+50). \n Donatori: \nIl 2018 ha fatto registrare un dato positivo per quanto riguarda le nuove adesioni con 1.957 nuovi iscritti. Il dato a fine anno è di 16.147 donatori a cui vanno sommati 562 soci collaboratori per un totale di 16.709.
URL:https://reggioemilia.avisemiliaromagna.it/evento/44a-assemblea-provinciale-avis-reggio-emilia/
CATEGORIES:Assemblea,Avis Albinea,Avis Baiso,Avis Bibbiano,Avis Boretto,Avis Brescello,Avis Cadelbosco Sopra,Avis Calerno,Avis Casalgrande,Avis Castellarano,Avis Castelnovo nè Monti,Avis Castelnovo Sotto,Avis Cavriago,Avis Comunale Reggio Emilia,Avis Correggio,Avis Fabbrico,Avis Gattatico,Avis Gualtieri,Avis Guastalla,Avis Luzzara,Avis Montecchio,Avis Novellara,Avis Poviglio,Avis Provinciale Reggio Emilia,Avis Quattro Castella,Avis Reggiolo,Avis Rubiera,Avis S. Ilario,Avis San Polo,Avis Santa Vittoria,Avis Scandiano
ATTACH;FMTTYPE=image/jpeg:https://reggioemilia.avisemiliaromagna.it/wp-content/uploads/2019/03/Manifesto-assemblea-2019_home.jpg
END:VEVENT
BEGIN:VEVENT
DTSTART;TZID=Europe/Rome:20181028T090000
DTEND;TZID=Europe/Rome:20181028T173000
DTSTAMP:20260425T135635
CREATED:20181016T092523Z
LAST-MODIFIED:20181016T092523Z
UID:7578-1540717200-1540747800@reggioemilia.avisemiliaromagna.it
SUMMARY:Prevenzione e controllo
DESCRIPTION:Domenica 28 ottobre Avis Albinea ti aspetta\, con l’autoemoteca Avis\, per effettuare i controlli gratuiti di colesterolo\, glicemia\, trigliceridi e della pressione\, insieme al personale sanitario. \nDove: In piazza ad Albinea in occasione della Festa d’autunno \nQuando: Mattina: 9\,00 – 12\,00 – Pomeriggio 14\,30 – 17\,30
URL:https://reggioemilia.avisemiliaromagna.it/evento/prevenzione-e-controllo/
CATEGORIES:Avis Albinea
ATTACH;FMTTYPE=image/jpeg:https://reggioemilia.avisemiliaromagna.it/wp-content/uploads/2018/10/autoemoteca44.jpg
END:VEVENT
BEGIN:VEVENT
DTSTART;TZID=Europe/Rome:20171028T150000
DTEND;TZID=Europe/Rome:20171029T200000
DTSTAMP:20260425T135635
CREATED:20171024T095810Z
LAST-MODIFIED:20171024T095810Z
UID:5147-1509202800-1509307200@reggioemilia.avisemiliaromagna.it
SUMMARY:Avis Albinea alla Festa d’Autunno
DESCRIPTION:Ciccioli\, balsamico tradizionale e antichi mestieri protagonisti del fine settimana. Domenica 29 prove gratuite di pressione e glicemia\nCon la Festa d’Autunno dei “Ciccioli balsamici”\, in programma sabato 28 e domenica 29 ottobre\, torna ad Albinea un importante appuntamento con i prodotti tipici della tradizione reggiana e con il divertimento. \nPiazza Cavicchioni ospiterà prodotti semplici e robusti come i ciccioli che si affiancheranno ad altri\, più raffinati ed esigenti\, come l’aceto balsamico tradizionale di Reggio. Il tutto darà vita a un’alchimia di sapori da gustare grazie alla possibilità offerta dalle degustazioni. Tra numerosi stand ed espositori\, le contrade di Albinea\, Montericco\, Borzano e l’osteria della Fola prepareranno e presenteranno gli antichi sapori della nostra terra: gnocco fritto\, erbazzone\, torte tipiche\, zucca fritta\, lambrusco\, caldarroste\, vin brulè\, pane\, ciccioli\, sugo d’uva\, formaggio\, salsiccia\, baccalà\, cappelletti\, vini e miele. \nIn sinergia con il Consorzio Abt di Reggio domenica\, alle 10.30 e alle 15.30\, saranno organizzate visite guidate e assaggi all’acetaia Comunale collocata nei sottotetti della splendida “Villa Tarabini”. \nDue saranno\, come da tradizione\, le sfide in cui si fronteggeranno i produttori locali: il Palio dei Ciccioli inviterà a singolar tenzone i norcini e il concorso “Balsamica Buonissima” in cui si daranno battaglia i produttori di aceto balsamico. Le disfide organizzate dal Comune di Albinea e dalla Pro Loco rientrano nelle iniziative destinate alla valorizzazione della gastronomia reggiana e delle produzioni tipiche agroalimentari e sono destinate a tutti i produttori privati. \n  \nSabato 28 ottobre \nIl via ufficiale sarà alle 15 di sabato con l’apertura degli stand in piazza Cavicchioni. Alle 15.30 spazio ad animazione\, illusionismo e magie grazie al “Circo più piccolo del mondo” del professor Agide Cervi. Alle 16 cottura della forma di Parmigiano Reggiano in piazza. In mattinata\, alle 10\, sarà inaugurata la mostra “L’arco di Noè” a cura della delegazione reggiana dell’associazione italiana Punto Croce. L’esposizione\, all’interno della quale saranno organizzati laboratori creativi\, sarà visitabile fino a martedì 31 ottobre con i seguenti orari: sabato e domenica dalle 10 alle 18\, lunedì e martedì dalle 9 alle 13. Sempre sabato\, alle 8\, il gruppo micologico R. Franchi partirà per la raccolta dei funghi che poi saranno esposti il giorno successivo\, a partire dalle 10\, nella galleria del Centro Fola. \n  \nDomenica 29 ottobre \nDomenica sarà la giornata clou con la cottura dei ciccioli a partire dalle 8 in via Crocioni. Alle 9 in piazza Cavicchioni e nelle vie limitrofe apriranno gli stand gastronomici della Pro Loco e il “Mercato d’Autunno”. La Confraternita dell’aceto balsamico tradizionale cuocerà il mosto. Sempre alle 9\, in via Chierici 2 a Borzano\, è fissato il ritrovo per la “camminata della festa d’autunno” organizzata dagli Amici del Cea. Il percorso\, lungo 15 chilometri e con 250 metri di dislivello\, prevede il passaggio per Giareto\, la prosecuzione sul sentiero “Bretella Carlotta” lungo il torrente Lavezza e l’arrivo in centro ad Albinea. Per i partecipanti c’è la possibilità di pranzare allo stand della Pro Loco al prezzo di 18 euro\, ma in questo caso è necessario prenotare entro venerdì 27 ottobre telefonando a Giorgio Grasselli che risponde al 3420564688. Il rientro alla sede del Ceas è previsto alle 15.30 percorrendo la pista ciclabile. In caso di maltempo questa iniziativa verrà annullata. \nA partire dalle 10 nella galleria del Centro Fola arriveranno gli antichi mestieri. In piazza del municipio si potranno ammirare rapaci notturni e diurni grazie a “Strix Falcon”\, saranno organizzati giochi per bambini a cura di Ludum e l’Avis effettuerà prove gratuite di pressione e glicemia. Al parco dei Frassini invece lo spettacolo sarà garantito dagli Arcieri della Notte che daranno la possibilità a grandi e piccini di dilettarsi nelle prove di tiro con l’arco. \nDalle 12 alle 14 il ristorante Eco del Mare offrirà un menù a base di aceto balsamico tradizionale accompagnato da una selezione dei migliori salumi d’Italia e vini in abbinamento consigliati dal master sommelier Sabatino Sorrentino. Per prendere parte a questo festival di sapori è gradita la prenotazione allo 0522.597124. \nA partire dalle 15 in piazza Cavicchioni ci saranno dimostrazioni di intaglio di zucche e verdure e alle 16 andrà in scena lo spettacolo degli sbandieratori della Maestà della Battaglia. Alle 18 nella sala del Consiglio avverrà la premiazione del Palio del Cicciolo a cura dell’accademia Judices Salatii e del concorso Balsamica Buonissima a cura della Confraternita dell’aceto balsamico tradizionale. \n  \nSabato e domenica \nDalle 9 alle 13 di sabato e dalle 15 alle 18.30 di domenica le volontarie della biblioteca Pablo Neruda proporranno la vendita di libri usati nell’atrio della meravigliosa struttura di via Morandi. Il ricavato sarà destinato all’acquisto di libri nuovi da inserire nel patrimonio della biblioteca. \nFonte: Comune di Albinea \nIl programma
URL:https://reggioemilia.avisemiliaromagna.it/evento/avis-albinea-alla-festa-dautunno/
CATEGORIES:Avis Albinea,Festa d’Autunno
ATTACH;FMTTYPE=image/jpeg:https://reggioemilia.avisemiliaromagna.it/wp-content/uploads/2017/10/Fiera-autunno.jpg
END:VEVENT
END:VCALENDAR